BEGIN:VCALENDAR
VERSION:2.0
PRODID:-//Effingham&#039;s News and Sports Leader, 979XFM and KJ Country 102.3 - ECPv6.15.20//NONSGML v1.0//EN
CALSCALE:GREGORIAN
METHOD:PUBLISH
X-ORIGINAL-URL:https://www.thexradio.com/news
X-WR-CALDESC:Events for Effingham&#039;s News and Sports Leader, 979XFM and KJ Country 102.3
REFRESH-INTERVAL;VALUE=DURATION:PT1H
X-Robots-Tag:noindex
X-PUBLISHED-TTL:PT1H
BEGIN:VTIMEZONE
TZID:America/Chicago
BEGIN:DAYLIGHT
TZOFFSETFROM:-0600
TZOFFSETTO:-0500
TZNAME:CDT
DTSTART:20250309T080000
END:DAYLIGHT
BEGIN:STANDARD
TZOFFSETFROM:-0500
TZOFFSETTO:-0600
TZNAME:CST
DTSTART:20251102T070000
END:STANDARD
BEGIN:DAYLIGHT
TZOFFSETFROM:-0600
TZOFFSETTO:-0500
TZNAME:CDT
DTSTART:20260308T080000
END:DAYLIGHT
BEGIN:STANDARD
TZOFFSETFROM:-0500
TZOFFSETTO:-0600
TZNAME:CST
DTSTART:20261101T070000
END:STANDARD
BEGIN:DAYLIGHT
TZOFFSETFROM:-0600
TZOFFSETTO:-0500
TZNAME:CDT
DTSTART:20270314T080000
END:DAYLIGHT
BEGIN:STANDARD
TZOFFSETFROM:-0500
TZOFFSETTO:-0600
TZNAME:CST
DTSTART:20271107T070000
END:STANDARD
END:VTIMEZONE
BEGIN:VEVENT
DTSTART;VALUE=DATE:20260621
DTEND;VALUE=DATE:20260622
DTSTAMP:20260422T133639
CREATED:20260318T163311Z
LAST-MODIFIED:20260318T163340Z
UID:33218-1782000000-1782086399@www.thexradio.com
SUMMARY:Moccasin Creek Festival
DESCRIPTION:Print \nWeekend Pass $130 ($137.60 with fees)’\nDay Passes on sale soon!\nKids 15 & under FREE with adult. \nFree\, convenient parking steps from the fest\nCampground short distance away\nREAL FLUSH TOILETS\nFood\, drink\, craft vendors\, kids activities\nFestival info & tickets at http://www.moccasincreekfestival.com \nMoccasin Creek Festival is an annual 4-day music festival\, which celebrates other arts and crafts as well.  It takes place at beautiful Lake Sara near Effingham. \nFolk\, bluegrass\, alternative country\, roots rock\, and blues – “Americana” music.  This is what MCF is all about – in an outdoor setting\, using a venue with great acoustics\, at a beautiful time of year. \nFood and beverages sold on site.  Kids activities.  Camping is next door to the festival venue\, as well as cabins for rent at Anthony Acres beachfront campground & motel.  There is a beach and golf course within walking distance.  Boats\, canoes and kayaks for rent.  Effingham is only 5 miles away\, and has thousands of hotel rooms available\, as well as a plethora of restaurants catering to almost any taste. \nCheck out the website\, moccasincreekfestival.com\, and check out MCF on Facebook and Instagram.  Most answers to your questions can be found there\, if not\, feel free to contact us.  We’re looking forward to the event\, and we hope you are too! \nYou can also get tickets via check (mail to Poss Music Works\, 1915 S. Banker Street\, Effingham\, IL 62401) with the ticket amount and ticket information (we have multiple events) – and also please provide a name and contact info for your order.\nIf you see us out-and-about\, you can buy tickets in cash/check in person too!! \nPoss Music Works NFP is a 501(c)3 nonprofit promoting live original music\, especially Americana music\, in downstate Illinois. \nVisit http://www.possmusicworks.com to donate or learn more.
URL:https://www.thexradio.com/news/calendar/33218-33218/
CATEGORIES:Community Calendar
END:VEVENT
BEGIN:VEVENT
DTSTART;VALUE=DATE:20260623
DTEND;VALUE=DATE:20260624
DTSTAMP:20260422T133639
CREATED:20260318T201907Z
LAST-MODIFIED:20260318T201907Z
UID:33254-1782172800-1782259199@www.thexradio.com
SUMMARY:Dog Obedience Classes
DESCRIPTION:Print
URL:https://www.thexradio.com/news/calendar/33254-dog-obedience-classes-21/
CATEGORIES:Community Calendar
END:VEVENT
BEGIN:VEVENT
DTSTART;VALUE=DATE:20260627
DTEND;VALUE=DATE:20260628
DTSTAMP:20260422T133639
CREATED:20260406T150318Z
LAST-MODIFIED:20260406T150412Z
UID:34702-1782518400-1782604799@www.thexradio.com
SUMMARY:Jennie Ashley Memorial Badge Tournament
DESCRIPTION:Print
URL:https://www.thexradio.com/news/calendar/34702-jennie-ashley-memorial-badge-tournament/
CATEGORIES:Community Calendar
END:VEVENT
BEGIN:VEVENT
DTSTART;VALUE=DATE:20260630
DTEND;VALUE=DATE:20260701
DTSTAMP:20260422T133639
CREATED:20260318T201946Z
LAST-MODIFIED:20260318T201946Z
UID:33256-1782777600-1782863999@www.thexradio.com
SUMMARY:Dog Obedience Classes
DESCRIPTION:Print
URL:https://www.thexradio.com/news/calendar/33256-dog-obedience-classes-22/
CATEGORIES:Community Calendar
END:VEVENT
BEGIN:VEVENT
DTSTART;VALUE=DATE:20260707
DTEND;VALUE=DATE:20260708
DTSTAMP:20260422T133639
CREATED:20260318T202029Z
LAST-MODIFIED:20260318T202029Z
UID:33258-1783382400-1783468799@www.thexradio.com
SUMMARY:Dog Obedience Classes
DESCRIPTION:Print
URL:https://www.thexradio.com/news/calendar/33258-dog-obedience-classes-23/
CATEGORIES:Community Calendar
END:VEVENT
BEGIN:VEVENT
DTSTART;VALUE=DATE:20260711
DTEND;VALUE=DATE:20260712
DTSTAMP:20260422T133639
CREATED:20260410T202029Z
LAST-MODIFIED:20260410T202029Z
UID:35137-1783728000-1783814399@www.thexradio.com
SUMMARY:BBQ Fundraiser - Altamont Volunteer Firefighters
DESCRIPTION:Print
URL:https://www.thexradio.com/news/calendar/35137-bbq-fundraiser-altamont-volunteer-firefighters/
CATEGORIES:Community Calendar
END:VEVENT
BEGIN:VEVENT
DTSTART;VALUE=DATE:20260714
DTEND;VALUE=DATE:20260715
DTSTAMP:20260422T133639
CREATED:20260318T202123Z
LAST-MODIFIED:20260318T202123Z
UID:33260-1783987200-1784073599@www.thexradio.com
SUMMARY:Dog Obedience Classes
DESCRIPTION:Print
URL:https://www.thexradio.com/news/calendar/33260-dog-obedience-classes-24/
CATEGORIES:Community Calendar
END:VEVENT
BEGIN:VEVENT
DTSTART;VALUE=DATE:20260715
DTEND;VALUE=DATE:20260716
DTSTAMP:20260422T133639
CREATED:20260422T150057Z
LAST-MODIFIED:20260422T150616Z
UID:36009-1784073600-1784159999@www.thexradio.com
SUMMARY:Deep Roots\, Big Faith - VBS
DESCRIPTION:Print  \n \nGive your child a place to grow this summer at “Deep Roots\, Big Faith” Vacation Bible School!  This year\, the First Christian Church of Effingham’s VBS is a three day event\, from Wednesday\, July 15th\, through Friday\, July 17th. \n\nOver three fun-filled days\, from 5:30 p.m. to 8:00 p.m.\, kids will build strong foundations in their faith through engaging Bible lessons\, music\, games\, and hands-on activities—all in a safe\, welcoming environment. \nIt’s a meaningful\, high-energy experience that your child won’t want to miss—and an easy “yes” for parents looking for something both fun and purposeful. \n\nThe signup page on First Christian Church of Effingham’s web site is linked here:  https://www.fcceffingham.com/summer-youth-and-children-events\n\n\nAnd the QR code is available here:  \n  \n  \n  \n 
URL:https://www.thexradio.com/news/calendar/36009-36009/
CATEGORIES:Community Calendar
END:VEVENT
BEGIN:VEVENT
DTSTART;VALUE=DATE:20260716
DTEND;VALUE=DATE:20260717
DTSTAMP:20260422T133639
CREATED:20260422T150641Z
LAST-MODIFIED:20260422T150726Z
UID:36018-1784160000-1784246399@www.thexradio.com
SUMMARY:Deep Roots\, Big Faith – VBS
DESCRIPTION:Print \nGive your child a place to grow this summer at “Deep Roots\, Big Faith” Vacation Bible School!  This year\, the First Christian Church of Effingham’s VBS is a three day event\, from Wednesday\, July 15th\, through Friday\, July 17th. \n\nOver three fun-filled days\, from 5:30 p.m. to 8:00 p.m.\, kids will build strong foundations in their faith through engaging Bible lessons\, music\, games\, and hands-on activities—all in a safe\, welcoming environment. \nIt’s a meaningful\, high-energy experience that your child won’t want to miss—and an easy “yes” for parents looking for something both fun and purposeful. \n\nThe signup page on First Christian Church of Effingham’s web site is linked here:  https://www.fcceffingham.com/summer-youth-and-children-events\n\n\nAnd the QR code is available here: 
URL:https://www.thexradio.com/news/calendar/36018-36018/
CATEGORIES:Community Calendar
END:VEVENT
BEGIN:VEVENT
DTSTART;VALUE=DATE:20260717
DTEND;VALUE=DATE:20260718
DTSTAMP:20260422T133639
CREATED:20260422T150708Z
LAST-MODIFIED:20260422T150731Z
UID:36020-1784246400-1784332799@www.thexradio.com
SUMMARY:Deep Roots\, Big Faith – VBS
DESCRIPTION:Print \nGive your child a place to grow this summer at “Deep Roots\, Big Faith” Vacation Bible School!  This year\, the First Christian Church of Effingham’s VBS is a three day event\, from Wednesday\, July 15th\, through Friday\, July 17th. \n\nOver three fun-filled days\, from 5:30 p.m. to 8:00 p.m.\, kids will build strong foundations in their faith through engaging Bible lessons\, music\, games\, and hands-on activities—all in a safe\, welcoming environment. \nIt’s a meaningful\, high-energy experience that your child won’t want to miss—and an easy “yes” for parents looking for something both fun and purposeful. \n\nThe signup page on First Christian Church of Effingham’s web site is linked here:  https://www.fcceffingham.com/summer-youth-and-children-events\n\n\nAnd the QR code is available here: 
URL:https://www.thexradio.com/news/calendar/36020-36020/
CATEGORIES:Community Calendar
END:VEVENT
BEGIN:VEVENT
DTSTART;VALUE=DATE:20260822
DTEND;VALUE=DATE:20260823
DTSTAMP:20260422T133639
CREATED:20260204T224650Z
LAST-MODIFIED:20260204T225526Z
UID:29853-1787356800-1787443199@www.thexradio.com
SUMMARY:Family Summer Funday in Watson
DESCRIPTION:Print
URL:https://www.thexradio.com/news/calendar/29853-family-summer-funday-in-watson/
CATEGORIES:Community Calendar
END:VEVENT
BEGIN:VEVENT
DTSTART;VALUE=DATE:20260831
DTEND;VALUE=DATE:20260901
DTSTAMP:20260422T133639
CREATED:20260326T144131Z
LAST-MODIFIED:20260326T150657Z
UID:33832-1788134400-1788220799@www.thexradio.com
SUMMARY:Candlelight Vigil to Remember Loved Ones Lost
DESCRIPTION:Print
URL:https://www.thexradio.com/news/calendar/33832-candlelight-vigil-to-remember-loved-ones-lost/
CATEGORIES:Community Calendar
END:VEVENT
END:VCALENDAR