BEGIN:VCALENDAR
VERSION:2.0
PRODID:-//Effingham&#039;s News and Sports Leader, 979XFM and KJ Country 102.3 - ECPv6.15.20//NONSGML v1.0//EN
CALSCALE:GREGORIAN
METHOD:PUBLISH
X-ORIGINAL-URL:https://www.thexradio.com/news
X-WR-CALDESC:Events for Effingham&#039;s News and Sports Leader, 979XFM and KJ Country 102.3
REFRESH-INTERVAL;VALUE=DURATION:PT1H
X-Robots-Tag:noindex
X-PUBLISHED-TTL:PT1H
BEGIN:VTIMEZONE
TZID:America/Chicago
BEGIN:DAYLIGHT
TZOFFSETFROM:-0600
TZOFFSETTO:-0500
TZNAME:CDT
DTSTART:20250309T080000
END:DAYLIGHT
BEGIN:STANDARD
TZOFFSETFROM:-0500
TZOFFSETTO:-0600
TZNAME:CST
DTSTART:20251102T070000
END:STANDARD
BEGIN:DAYLIGHT
TZOFFSETFROM:-0600
TZOFFSETTO:-0500
TZNAME:CDT
DTSTART:20260308T080000
END:DAYLIGHT
BEGIN:STANDARD
TZOFFSETFROM:-0500
TZOFFSETTO:-0600
TZNAME:CST
DTSTART:20261101T070000
END:STANDARD
BEGIN:DAYLIGHT
TZOFFSETFROM:-0600
TZOFFSETTO:-0500
TZNAME:CDT
DTSTART:20270314T080000
END:DAYLIGHT
BEGIN:STANDARD
TZOFFSETFROM:-0500
TZOFFSETTO:-0600
TZNAME:CST
DTSTART:20271107T070000
END:STANDARD
END:VTIMEZONE
BEGIN:VEVENT
DTSTART;VALUE=DATE:20260517
DTEND;VALUE=DATE:20260518
DTSTAMP:20260421T172827
CREATED:20260420T203624Z
LAST-MODIFIED:20260420T203800Z
UID:35826-1778976000-1779062399@www.thexradio.com
SUMMARY:Red Cross Blood Drives in May
DESCRIPTION:PrintAmerican Red Cross Blood Drives in May: \n5/5\, Tuesday\, Casey United Methodist Church\, Noon – 6:00 PM \n5/5\, Tuesday\, Teutopolis Banquet Hall\, 12:30 PM – 6:00 PM \n5/8\, Friday\, Altamont High School\, 8:15 AM – 2:00 PM \n5/14\, Thursday\, First Baptist Church\, Shelbyville\, Noon – 5:00 PM \n5/17\, Sunday\, St Joseph Stringtown Community Club\, Stringtown\, 7:00 AM – 11:30 AM \n5/20\, Wednesday\, Holy Cross Church of Wendelin\, 1:30 PM – 5:30 PM \n5/22\, Friday\, Cornerstone Church\, Effingham\, 1:30 PM – 5:00 PM \nCome to give blood from May 1-17 and get a $20 eGift Card!  See:  rcblood.org/Amazon \nGet summer ready!  Come to give blood from May 18-31 for an exclusive Red Cross beach towel\, limited quantity! \nTo make an appointment\, visit RedCrossBlood.org\, call 1-800-RED CROSS (1-800-733-2767)\, or download the Red Cross Donor App.
URL:https://www.thexradio.com/news/calendar/35826-35826/
CATEGORIES:Community Calendar
END:VEVENT
BEGIN:VEVENT
DTSTART;VALUE=DATE:20260519
DTEND;VALUE=DATE:20260520
DTSTAMP:20260421T172827
CREATED:20250827T203720Z
LAST-MODIFIED:20250828T152731Z
UID:17009-1779148800-1779235199@www.thexradio.com
SUMMARY:Cooking Across Continents Program
DESCRIPTION:Print \nYou can register for one session or any number of them.  This program will run on the dates linked below: \n\nSeptember 30\, 2025: go.illinois.edu/HomeSchoolCooking93025\nOctober 28\, 2025: go.illinois.edu/HomeSchoolCooking102825\nJanuary 27\, 2026: go.illinois.edu/HomeSchoolCooking012725\nFebruary 24\, 2026: go.illinois.edu/HomeSchoolCooking022426\nMarch 24\, 2026: go.illinois.edu/HomeSchoolCooking032826\nApril 28\, 2026: go.illinois.edu/HomeSchoolCooking042826\nMay 19\, 2026: go.illinois.edu/HomeSchoolCooking051926
URL:https://www.thexradio.com/news/calendar/17009-cooking-across-continents-program-6/
CATEGORIES:Community Calendar
END:VEVENT
BEGIN:VEVENT
DTSTART;VALUE=DATE:20260519
DTEND;VALUE=DATE:20260520
DTSTAMP:20260421T172827
CREATED:20260318T195753Z
LAST-MODIFIED:20260318T195753Z
UID:33240-1779148800-1779235199@www.thexradio.com
SUMMARY:Dog Obedience Classes
DESCRIPTION:Print
URL:https://www.thexradio.com/news/calendar/33240-dog-obedience-classes-15/
CATEGORIES:Community Calendar
END:VEVENT
BEGIN:VEVENT
DTSTART;VALUE=DATE:20260520
DTEND;VALUE=DATE:20260521
DTSTAMP:20260421T172827
CREATED:20260408T145246Z
LAST-MODIFIED:20260408T145531Z
UID:34891-1779235200-1779321599@www.thexradio.com
SUMMARY:Enduring Freedom Ministries Distributions in May
DESCRIPTION:PrintEnduring Freedom Ministries distribution days for May: \nTuesday\, May 5th from 4-6pm\, 304 S. West Street\, Shumway \nSaturday\, May 9th from 9-Noon\, 861 E. Washington\, Mason (Mason Civic Center) \nTuesday\, May 12th from 4-6pm\, 304 S. West Street\, Shumway \nWednesday\, May 13th from Noon to 2pm\, 304 S. West Street\, Shumway \nWednesday\, May 20th from Noon to 2pm\, 304 S. West Street\, Shumway \nSaturday\, May 30th from 8:30-Noon\, 304 S. West Street\, Shumway \nPlease call 217-240-0059 to sign up.  It’s free and for everyone!
URL:https://www.thexradio.com/news/calendar/34891-34891/
CATEGORIES:Community Calendar
END:VEVENT
BEGIN:VEVENT
DTSTART;VALUE=DATE:20260520
DTEND;VALUE=DATE:20260521
DTSTAMP:20260421T172827
CREATED:20260420T203704Z
LAST-MODIFIED:20260420T203807Z
UID:35828-1779235200-1779321599@www.thexradio.com
SUMMARY:Red Cross Blood Drives in May
DESCRIPTION:PrintAmerican Red Cross Blood Drives in May: \n5/5\, Tuesday\, Casey United Methodist Church\, Noon – 6:00 PM \n5/5\, Tuesday\, Teutopolis Banquet Hall\, 12:30 PM – 6:00 PM \n5/8\, Friday\, Altamont High School\, 8:15 AM – 2:00 PM \n5/14\, Thursday\, First Baptist Church\, Shelbyville\, Noon – 5:00 PM \n5/17\, Sunday\, St Joseph Stringtown Community Club\, Stringtown\, 7:00 AM – 11:30 AM \n5/20\, Wednesday\, Holy Cross Church of Wendelin\, 1:30 PM – 5:30 PM \n5/22\, Friday\, Cornerstone Church\, Effingham\, 1:30 PM – 5:00 PM \nCome to give blood from May 1-17 and get a $20 eGift Card!  See:  rcblood.org/Amazon \nGet summer ready!  Come to give blood from May 18-31 for an exclusive Red Cross beach towel\, limited quantity! \nTo make an appointment\, visit RedCrossBlood.org\, call 1-800-RED CROSS (1-800-733-2767)\, or download the Red Cross Donor App.
URL:https://www.thexradio.com/news/calendar/35828-35828/
CATEGORIES:Community Calendar
END:VEVENT
BEGIN:VEVENT
DTSTART;VALUE=DATE:20260522
DTEND;VALUE=DATE:20260523
DTSTAMP:20260421T172827
CREATED:20260420T203732Z
LAST-MODIFIED:20260420T203813Z
UID:35830-1779408000-1779494399@www.thexradio.com
SUMMARY:Red Cross Blood Drives in May
DESCRIPTION:PrintAmerican Red Cross Blood Drives in May: \n5/5\, Tuesday\, Casey United Methodist Church\, Noon – 6:00 PM \n5/5\, Tuesday\, Teutopolis Banquet Hall\, 12:30 PM – 6:00 PM \n5/8\, Friday\, Altamont High School\, 8:15 AM – 2:00 PM \n5/14\, Thursday\, First Baptist Church\, Shelbyville\, Noon – 5:00 PM \n5/17\, Sunday\, St Joseph Stringtown Community Club\, Stringtown\, 7:00 AM – 11:30 AM \n5/20\, Wednesday\, Holy Cross Church of Wendelin\, 1:30 PM – 5:30 PM \n5/22\, Friday\, Cornerstone Church\, Effingham\, 1:30 PM – 5:00 PM \nCome to give blood from May 1-17 and get a $20 eGift Card!  See:  rcblood.org/Amazon \nGet summer ready!  Come to give blood from May 18-31 for an exclusive Red Cross beach towel\, limited quantity! \nTo make an appointment\, visit RedCrossBlood.org\, call 1-800-RED CROSS (1-800-733-2767)\, or download the Red Cross Donor App.
URL:https://www.thexradio.com/news/calendar/35830-35830/
CATEGORIES:Community Calendar
END:VEVENT
BEGIN:VEVENT
DTSTART;VALUE=DATE:20260526
DTEND;VALUE=DATE:20260527
DTSTAMP:20260421T172827
CREATED:20260318T195850Z
LAST-MODIFIED:20260318T195850Z
UID:33242-1779753600-1779839999@www.thexradio.com
SUMMARY:Dog Obedience Classes
DESCRIPTION:Print
URL:https://www.thexradio.com/news/calendar/33242-dog-obedience-classes-16/
CATEGORIES:Community Calendar
END:VEVENT
BEGIN:VEVENT
DTSTART;VALUE=DATE:20260526
DTEND;VALUE=DATE:20260527
DTSTAMP:20260421T172827
CREATED:20260421T202800Z
LAST-MODIFIED:20260421T204716Z
UID:35932-1779753600-1779839999@www.thexradio.com
SUMMARY:Backstage With The Bible
DESCRIPTION:Print \nTo be sure we have supplies\, please register in advance if possible.
URL:https://www.thexradio.com/news/calendar/35932-35932/
CATEGORIES:Community Calendar
END:VEVENT
BEGIN:VEVENT
DTSTART;VALUE=DATE:20260527
DTEND;VALUE=DATE:20260528
DTSTAMP:20260421T172827
CREATED:20260421T204756Z
LAST-MODIFIED:20260421T205011Z
UID:35943-1779840000-1779926399@www.thexradio.com
SUMMARY:Backstage With The Bible
DESCRIPTION:Print \nTo be sure we have supplies\, please register in advance if possible.
URL:https://www.thexradio.com/news/calendar/35943-35943/
CATEGORIES:Community Calendar
END:VEVENT
BEGIN:VEVENT
DTSTART;VALUE=DATE:20260528
DTEND;VALUE=DATE:20260529
DTSTAMP:20260421T172827
CREATED:20260421T204834Z
LAST-MODIFIED:20260421T205016Z
UID:35945-1779926400-1780012799@www.thexradio.com
SUMMARY:Backstage With The Bible
DESCRIPTION:Print \nTo be sure we have supplies\, please register in advance if possible.
URL:https://www.thexradio.com/news/calendar/35945-35945/
CATEGORIES:Community Calendar
END:VEVENT
BEGIN:VEVENT
DTSTART;VALUE=DATE:20260529
DTEND;VALUE=DATE:20260530
DTSTAMP:20260421T172827
CREATED:20260421T204917Z
LAST-MODIFIED:20260421T205118Z
UID:35947-1780012800-1780099199@www.thexradio.com
SUMMARY:Backstage With The Bible
DESCRIPTION:Print \nTo be sure we have supplies\, please register in advance if possible.
URL:https://www.thexradio.com/news/calendar/35947-35947/
CATEGORIES:Community Calendar
END:VEVENT
BEGIN:VEVENT
DTSTART;VALUE=DATE:20260530
DTEND;VALUE=DATE:20260531
DTSTAMP:20260421T172827
CREATED:20260204T174855Z
LAST-MODIFIED:20260204T174919Z
UID:29826-1780099200-1780185599@www.thexradio.com
SUMMARY:Masonic Lodge Auction for Shriners Hospitals for Children
DESCRIPTION:Print
URL:https://www.thexradio.com/news/calendar/29826-masonic-lodge-auction-for-shriners-hospitals-for-children-2/
CATEGORIES:Community Calendar
END:VEVENT
BEGIN:VEVENT
DTSTART;VALUE=DATE:20260530
DTEND;VALUE=DATE:20260531
DTSTAMP:20260421T172827
CREATED:20260316T153826Z
LAST-MODIFIED:20260316T153928Z
UID:32891-1780099200-1780185599@www.thexradio.com
SUMMARY:Springfest at Edgewood Legion
DESCRIPTION:Print  \n \n \n 
URL:https://www.thexradio.com/news/calendar/32891-springfest-at-edgewood-legion/
CATEGORIES:Community Calendar
END:VEVENT
BEGIN:VEVENT
DTSTART;VALUE=DATE:20260530
DTEND;VALUE=DATE:20260531
DTSTAMP:20260421T172827
CREATED:20260408T145309Z
LAST-MODIFIED:20260408T145524Z
UID:34893-1780099200-1780185599@www.thexradio.com
SUMMARY:Enduring Freedom Ministries Distributions in May
DESCRIPTION:PrintEnduring Freedom Ministries distribution days for May: \nTuesday\, May 5th from 4-6pm\, 304 S. West Street\, Shumway \nSaturday\, May 9th from 9-Noon\, 861 E. Washington\, Mason (Mason Civic Center) \nTuesday\, May 12th from 4-6pm\, 304 S. West Street\, Shumway \nWednesday\, May 13th from Noon to 2pm\, 304 S. West Street\, Shumway \nWednesday\, May 20th from Noon to 2pm\, 304 S. West Street\, Shumway \nSaturday\, May 30th from 8:30-Noon\, 304 S. West Street\, Shumway \nPlease call 217-240-0059 to sign up.  It’s free and for everyone!
URL:https://www.thexradio.com/news/calendar/34893-34893/
CATEGORIES:Community Calendar
END:VEVENT
BEGIN:VEVENT
DTSTART;VALUE=DATE:20260530
DTEND;VALUE=DATE:20260531
DTSTAMP:20260421T172827
CREATED:20260421T155235Z
LAST-MODIFIED:20260421T161739Z
UID:35888-1780099200-1780185599@www.thexradio.com
SUMMARY:Effingham Farmer's Market
DESCRIPTION:PrintThe Effingham Farmer’s Market will be every Saturday\, from May 30th through October 31st.  The Market will be open from 8:00 – Noon on the old courthouse lawn. \nThere will be fresh produce\, baked goods\, plants\, and flowers\, as well as arts and crafts.
URL:https://www.thexradio.com/news/calendar/35888-effingham-farmers-market-21/
CATEGORIES:Community Calendar
END:VEVENT
BEGIN:VEVENT
DTSTART;VALUE=DATE:20260530
DTEND;VALUE=DATE:20260531
DTSTAMP:20260421T172827
CREATED:20260421T204953Z
LAST-MODIFIED:20260421T205024Z
UID:35949-1780099200-1780185599@www.thexradio.com
SUMMARY:Backstage With The Bible
DESCRIPTION:Print \nTo be sure we have supplies\, please register in advance if possible.
URL:https://www.thexradio.com/news/calendar/35949-35949/
CATEGORIES:Community Calendar
END:VEVENT
BEGIN:VEVENT
DTSTART;VALUE=DATE:20260602
DTEND;VALUE=DATE:20260603
DTSTAMP:20260421T172827
CREATED:20260318T201625Z
LAST-MODIFIED:20260318T201625Z
UID:33246-1780358400-1780444799@www.thexradio.com
SUMMARY:Dog Obedience Classes
DESCRIPTION:Print
URL:https://www.thexradio.com/news/calendar/33246-dog-obedience-classes-17/
CATEGORIES:Community Calendar
END:VEVENT
BEGIN:VEVENT
DTSTART;VALUE=DATE:20260605
DTEND;VALUE=DATE:20260606
DTSTAMP:20260421T172827
CREATED:20260225T164415Z
LAST-MODIFIED:20260225T164546Z
UID:31572-1780617600-1780703999@www.thexradio.com
SUMMARY:4-H Camp Cloverbud
DESCRIPTION:Print \nThis camp is free and open to all youth!  They do not have to be in 4-H to attend.
URL:https://www.thexradio.com/news/calendar/31572-4-h-camp-cloverbud/
CATEGORIES:Community Calendar
END:VEVENT
BEGIN:VEVENT
DTSTART;VALUE=DATE:20260606
DTEND;VALUE=DATE:20260607
DTSTAMP:20260421T172827
CREATED:20260410T202540Z
LAST-MODIFIED:20260410T202540Z
UID:35140-1780704000-1780790399@www.thexradio.com
SUMMARY:ROCK For KIDS at Lake Sara
DESCRIPTION:Print
URL:https://www.thexradio.com/news/calendar/35140-rock-for-kids-at-lake-sara/
CATEGORIES:Community Calendar
END:VEVENT
BEGIN:VEVENT
DTSTART;VALUE=DATE:20260608
DTEND;VALUE=DATE:20260609
DTSTAMP:20260421T172827
CREATED:20260421T194340Z
LAST-MODIFIED:20260421T200009Z
UID:35910-1780876800-1780963199@www.thexradio.com
SUMMARY:Soccer Camp at First Christian Church of Effingham
DESCRIPTION:Print \nLearn Skills.  Build Teamwork.  Have Fun! \nAll children K5 through 6th grade are invited to join us for four action-packed days of soccer skills and fun! \nImprove your game with: \n• Dribbling\n• Passing\n• Shooting\n• Teamwork \nSpecial Event:  Join us on Saturday morning for exciting games between our FCC Soccer Camp teams! \nReminder:  Please bring your payment on the first day of camp. \nQuestions?  Contact us: \nFirst Christian Church\n217-342-6797\nfcceffingham@gmail.com \n  \n 
URL:https://www.thexradio.com/news/calendar/35910-soccer-camp-at-first-christian-church-of-effingham/
CATEGORIES:Community Calendar
END:VEVENT
BEGIN:VEVENT
DTSTART;VALUE=DATE:20260609
DTEND;VALUE=DATE:20260610
DTSTAMP:20260421T172827
CREATED:20260318T201720Z
LAST-MODIFIED:20260318T201720Z
UID:33248-1780963200-1781049599@www.thexradio.com
SUMMARY:Dog Obedience Classes
DESCRIPTION:Print
URL:https://www.thexradio.com/news/calendar/33248-dog-obedience-classes-18/
CATEGORIES:Community Calendar
END:VEVENT
BEGIN:VEVENT
DTSTART;VALUE=DATE:20260609
DTEND;VALUE=DATE:20260610
DTSTAMP:20260421T172827
CREATED:20260421T200049Z
LAST-MODIFIED:20260421T200302Z
UID:35918-1780963200-1781049599@www.thexradio.com
SUMMARY:Soccer Camp at First Christian Church of Effingham
DESCRIPTION:Print \nLearn Skills.  Build Teamwork.  Have Fun! \nAll children K5 through 6th grade are invited to join us for four action-packed days of soccer skills and fun! \nImprove your game with: \n• Dribbling\n• Passing\n• Shooting\n• Teamwork \nSpecial Event:  Join us on Saturday morning for exciting games between our FCC Soccer Camp teams! \nReminder:  Please bring your payment on the first day of camp. \nQuestions?  Contact us: \nFirst Christian Church\n217-342-6797\nfcceffingham@gmail.com
URL:https://www.thexradio.com/news/calendar/35918-35918/
CATEGORIES:Community Calendar
END:VEVENT
BEGIN:VEVENT
DTSTART;VALUE=DATE:20260611
DTEND;VALUE=DATE:20260612
DTSTAMP:20260421T172827
CREATED:20260421T200124Z
LAST-MODIFIED:20260421T200308Z
UID:35920-1781136000-1781222399@www.thexradio.com
SUMMARY:Soccer Camp at First Christian Church of Effingham
DESCRIPTION:PrintLearn Skills.  Build Teamwork.  Have Fun! \nAll children K5 through 6th grade are invited to join us for four action-packed days of soccer skills and fun! \nImprove your game with: \n• Dribbling\n• Passing\n• Shooting\n• Teamwork \nSpecial Event:  Join us on Saturday morning for exciting games between our FCC Soccer Camp teams! \nReminder:  Please bring your payment on the first day of camp. \nQuestions?  Contact us: \nFirst Christian Church\n217-342-6797\nfcceffingham@gmail.com
URL:https://www.thexradio.com/news/calendar/35920-35920/
CATEGORIES:Community Calendar
END:VEVENT
BEGIN:VEVENT
DTSTART;VALUE=DATE:20260612
DTEND;VALUE=DATE:20260613
DTSTAMP:20260421T172827
CREATED:20260421T200207Z
LAST-MODIFIED:20260421T200313Z
UID:35922-1781222400-1781308799@www.thexradio.com
SUMMARY:Soccer Camp at First Christian Church of Effingham
DESCRIPTION:Print \nLearn Skills.  Build Teamwork.  Have Fun! \nAll children K5 through 6th grade are invited to join us for four action-packed days of soccer skills and fun! \nImprove your game with: \n• Dribbling\n• Passing\n• Shooting\n• Teamwork \nSpecial Event:  Join us on Saturday morning for exciting games between our FCC Soccer Camp teams! \nReminder:  Please bring your payment on the first day of camp. \nQuestions?  Contact us: \nFirst Christian Church\n217-342-6797\nfcceffingham@gmail.com
URL:https://www.thexradio.com/news/calendar/35922-35922/
CATEGORIES:Community Calendar
END:VEVENT
BEGIN:VEVENT
DTSTART;VALUE=DATE:20260613
DTEND;VALUE=DATE:20260614
DTSTAMP:20260421T172827
CREATED:20260421T200242Z
LAST-MODIFIED:20260421T200318Z
UID:35924-1781308800-1781395199@www.thexradio.com
SUMMARY:Soccer Camp at First Christian Church of Effingham
DESCRIPTION:Print \nLearn Skills.  Build Teamwork.  Have Fun! \nAll children K5 through 6th grade are invited to join us for four action-packed days of soccer skills and fun! \nImprove your game with: \n• Dribbling\n• Passing\n• Shooting\n• Teamwork \nSpecial Event:  Join us on Saturday morning for exciting games between our FCC Soccer Camp teams! \nReminder:  Please bring your payment on the first day of camp. \nQuestions?  Contact us: \nFirst Christian Church\n217-342-6797\nfcceffingham@gmail.com
URL:https://www.thexradio.com/news/calendar/35924-35924/
CATEGORIES:Community Calendar
END:VEVENT
BEGIN:VEVENT
DTSTART;VALUE=DATE:20260616
DTEND;VALUE=DATE:20260617
DTSTAMP:20260421T172827
CREATED:20260318T201755Z
LAST-MODIFIED:20260318T201755Z
UID:33250-1781568000-1781654399@www.thexradio.com
SUMMARY:Dog Obedience Classes
DESCRIPTION:Print
URL:https://www.thexradio.com/news/calendar/33250-dog-obedience-classes-19/
CATEGORIES:Community Calendar
END:VEVENT
BEGIN:VEVENT
DTSTART;VALUE=DATE:20260618
DTEND;VALUE=DATE:20260619
DTSTAMP:20260421T172827
CREATED:20260318T161952Z
LAST-MODIFIED:20260318T163040Z
UID:33209-1781740800-1781827199@www.thexradio.com
SUMMARY:Moccasin Creek Festival
DESCRIPTION:Print \nWeekend Pass $130 ($137.60 with fees)’\nDay Passes on sale soon!\nKids 15 & under FREE with adult. \nFree\, convenient parking steps from the fest\nCampground short distance away\nREAL FLUSH TOILETS\nFood\, drink\, craft vendors\, kids activities\nFestival info & tickets at http://www.moccasincreekfestival.com \nMoccasin Creek Festival is an annual 4-day music festival\, which celebrates other arts and crafts as well.  It takes place at beautiful Lake Sara near Effingham. \nFolk\, bluegrass\, alternative country\, roots rock\, and blues – “Americana” music.  This is what MCF is all about – in an outdoor setting\, using a venue with great acoustics\, at a beautiful time of year. \nFood and beverages sold on site.  Kids activities.  Camping is next door to the festival venue\, as well as cabins for rent at Anthony Acres beachfront campground & motel.  There is a beach and golf course within walking distance.  Boats\, canoes and kayaks for rent.  Effingham is only 5 miles away\, and has thousands of hotel rooms available\, as well as a plethora of restaurants catering to almost any taste. \nCheck out the website\, moccasincreekfestival.com\, and check out MCF on Facebook and Instagram.  Most answers to your questions can be found there\, if not\, feel free to contact us.  We’re looking forward to the event\, and we hope you are too! \nYou can also get tickets via check (mail to Poss Music Works\, 1915 S. Banker Street\, Effingham\, IL 62401) with the ticket amount and ticket information (we have multiple events) – and also please provide a name and contact info for your order.\nIf you see us out-and-about\, you can buy tickets in cash/check in person too!! \nPoss Music Works NFP is a 501(c)3 nonprofit promoting live original music\, especially Americana music\, in downstate Illinois. \nVisit http://www.possmusicworks.com to donate or learn more.
URL:https://www.thexradio.com/news/calendar/33209-moccasin-creek-festival-5/
CATEGORIES:Community Calendar
END:VEVENT
BEGIN:VEVENT
DTSTART;VALUE=DATE:20260619
DTEND;VALUE=DATE:20260620
DTSTAMP:20260421T172827
CREATED:20260318T163120Z
LAST-MODIFIED:20260318T163329Z
UID:33214-1781827200-1781913599@www.thexradio.com
SUMMARY:Moccasin Creek Festival
DESCRIPTION:Print \nWeekend Pass $130 ($137.60 with fees)’\nDay Passes on sale soon!\nKids 15 & under FREE with adult. \nFree\, convenient parking steps from the fest\nCampground short distance away\nREAL FLUSH TOILETS\nFood\, drink\, craft vendors\, kids activities\nFestival info & tickets at http://www.moccasincreekfestival.com \nMoccasin Creek Festival is an annual 4-day music festival\, which celebrates other arts and crafts as well.  It takes place at beautiful Lake Sara near Effingham. \nFolk\, bluegrass\, alternative country\, roots rock\, and blues – “Americana” music.  This is what MCF is all about – in an outdoor setting\, using a venue with great acoustics\, at a beautiful time of year. \nFood and beverages sold on site.  Kids activities.  Camping is next door to the festival venue\, as well as cabins for rent at Anthony Acres beachfront campground & motel.  There is a beach and golf course within walking distance.  Boats\, canoes and kayaks for rent.  Effingham is only 5 miles away\, and has thousands of hotel rooms available\, as well as a plethora of restaurants catering to almost any taste. \nCheck out the website\, moccasincreekfestival.com\, and check out MCF on Facebook and Instagram.  Most answers to your questions can be found there\, if not\, feel free to contact us.  We’re looking forward to the event\, and we hope you are too! \nYou can also get tickets via check (mail to Poss Music Works\, 1915 S. Banker Street\, Effingham\, IL 62401) with the ticket amount and ticket information (we have multiple events) – and also please provide a name and contact info for your order.\nIf you see us out-and-about\, you can buy tickets in cash/check in person too!! \nPoss Music Works NFP is a 501(c)3 nonprofit promoting live original music\, especially Americana music\, in downstate Illinois. \nVisit http://www.possmusicworks.com to donate or learn more.
URL:https://www.thexradio.com/news/calendar/33214-33214/
CATEGORIES:Community Calendar
END:VEVENT
BEGIN:VEVENT
DTSTART;VALUE=DATE:20260620
DTEND;VALUE=DATE:20260621
DTSTAMP:20260421T172827
CREATED:20260318T163203Z
LAST-MODIFIED:20260318T163334Z
UID:33216-1781913600-1781999999@www.thexradio.com
SUMMARY:Moccasin Creek Festival
DESCRIPTION:Print \nWeekend Pass $130 ($137.60 with fees)’\nDay Passes on sale soon!\nKids 15 & under FREE with adult. \nFree\, convenient parking steps from the fest\nCampground short distance away\nREAL FLUSH TOILETS\nFood\, drink\, craft vendors\, kids activities\nFestival info & tickets at http://www.moccasincreekfestival.com \nMoccasin Creek Festival is an annual 4-day music festival\, which celebrates other arts and crafts as well.  It takes place at beautiful Lake Sara near Effingham. \nFolk\, bluegrass\, alternative country\, roots rock\, and blues – “Americana” music.  This is what MCF is all about – in an outdoor setting\, using a venue with great acoustics\, at a beautiful time of year. \nFood and beverages sold on site.  Kids activities.  Camping is next door to the festival venue\, as well as cabins for rent at Anthony Acres beachfront campground & motel.  There is a beach and golf course within walking distance.  Boats\, canoes and kayaks for rent.  Effingham is only 5 miles away\, and has thousands of hotel rooms available\, as well as a plethora of restaurants catering to almost any taste. \nCheck out the website\, moccasincreekfestival.com\, and check out MCF on Facebook and Instagram.  Most answers to your questions can be found there\, if not\, feel free to contact us.  We’re looking forward to the event\, and we hope you are too! \nYou can also get tickets via check (mail to Poss Music Works\, 1915 S. Banker Street\, Effingham\, IL 62401) with the ticket amount and ticket information (we have multiple events) – and also please provide a name and contact info for your order.\nIf you see us out-and-about\, you can buy tickets in cash/check in person too!! \nPoss Music Works NFP is a 501(c)3 nonprofit promoting live original music\, especially Americana music\, in downstate Illinois. \nVisit http://www.possmusicworks.com to donate or learn more.
URL:https://www.thexradio.com/news/calendar/33216-33216/
CATEGORIES:Community Calendar
END:VEVENT
BEGIN:VEVENT
DTSTART;VALUE=DATE:20260621
DTEND;VALUE=DATE:20260622
DTSTAMP:20260421T172827
CREATED:20260318T163311Z
LAST-MODIFIED:20260318T163340Z
UID:33218-1782000000-1782086399@www.thexradio.com
SUMMARY:Moccasin Creek Festival
DESCRIPTION:Print \nWeekend Pass $130 ($137.60 with fees)’\nDay Passes on sale soon!\nKids 15 & under FREE with adult. \nFree\, convenient parking steps from the fest\nCampground short distance away\nREAL FLUSH TOILETS\nFood\, drink\, craft vendors\, kids activities\nFestival info & tickets at http://www.moccasincreekfestival.com \nMoccasin Creek Festival is an annual 4-day music festival\, which celebrates other arts and crafts as well.  It takes place at beautiful Lake Sara near Effingham. \nFolk\, bluegrass\, alternative country\, roots rock\, and blues – “Americana” music.  This is what MCF is all about – in an outdoor setting\, using a venue with great acoustics\, at a beautiful time of year. \nFood and beverages sold on site.  Kids activities.  Camping is next door to the festival venue\, as well as cabins for rent at Anthony Acres beachfront campground & motel.  There is a beach and golf course within walking distance.  Boats\, canoes and kayaks for rent.  Effingham is only 5 miles away\, and has thousands of hotel rooms available\, as well as a plethora of restaurants catering to almost any taste. \nCheck out the website\, moccasincreekfestival.com\, and check out MCF on Facebook and Instagram.  Most answers to your questions can be found there\, if not\, feel free to contact us.  We’re looking forward to the event\, and we hope you are too! \nYou can also get tickets via check (mail to Poss Music Works\, 1915 S. Banker Street\, Effingham\, IL 62401) with the ticket amount and ticket information (we have multiple events) – and also please provide a name and contact info for your order.\nIf you see us out-and-about\, you can buy tickets in cash/check in person too!! \nPoss Music Works NFP is a 501(c)3 nonprofit promoting live original music\, especially Americana music\, in downstate Illinois. \nVisit http://www.possmusicworks.com to donate or learn more.
URL:https://www.thexradio.com/news/calendar/33218-33218/
CATEGORIES:Community Calendar
END:VEVENT
END:VCALENDAR