BEGIN:VCALENDAR
VERSION:2.0
PRODID:-//Effingham&#039;s News and Sports Leader, 979XFM and KJ Country 102.3 - ECPv6.15.20//NONSGML v1.0//EN
CALSCALE:GREGORIAN
METHOD:PUBLISH
X-WR-CALNAME:Effingham&#039;s News and Sports Leader, 979XFM and KJ Country 102.3
X-ORIGINAL-URL:https://www.thexradio.com/news
X-WR-CALDESC:Events for Effingham&#039;s News and Sports Leader, 979XFM and KJ Country 102.3
REFRESH-INTERVAL;VALUE=DURATION:PT1H
X-Robots-Tag:noindex
X-PUBLISHED-TTL:PT1H
BEGIN:VTIMEZONE
TZID:America/Chicago
BEGIN:DAYLIGHT
TZOFFSETFROM:-0600
TZOFFSETTO:-0500
TZNAME:CDT
DTSTART:20250309T080000
END:DAYLIGHT
BEGIN:STANDARD
TZOFFSETFROM:-0500
TZOFFSETTO:-0600
TZNAME:CST
DTSTART:20251102T070000
END:STANDARD
BEGIN:DAYLIGHT
TZOFFSETFROM:-0600
TZOFFSETTO:-0500
TZNAME:CDT
DTSTART:20260308T080000
END:DAYLIGHT
BEGIN:STANDARD
TZOFFSETFROM:-0500
TZOFFSETTO:-0600
TZNAME:CST
DTSTART:20261101T070000
END:STANDARD
BEGIN:DAYLIGHT
TZOFFSETFROM:-0600
TZOFFSETTO:-0500
TZNAME:CDT
DTSTART:20270314T080000
END:DAYLIGHT
BEGIN:STANDARD
TZOFFSETFROM:-0500
TZOFFSETTO:-0600
TZNAME:CST
DTSTART:20271107T070000
END:STANDARD
END:VTIMEZONE
BEGIN:VEVENT
DTSTART;VALUE=DATE:20260430
DTEND;VALUE=DATE:20260501
DTSTAMP:20260425T113942
CREATED:20260423T153139Z
LAST-MODIFIED:20260423T153139Z
UID:36162-1777507200-1777593599@www.thexradio.com
SUMMARY:Thursday's Schedule
DESCRIPTION:HIGH SCHOOL \nBaseball \nAltamont at North Clay\, 4:30 p.m. \nBrownstown/St. Elmo at Vandalia\, 4:30 p.m. \nDieterich at Cowden-Herrick/Beecher City\, 4:30 p.m. \nNewton at Robinson\, 4:30 p.m. \nTeutopolis at Mattoon\, 4:30 p.m. \nSoftball \nAltamont at St. Anthony\, 4:30 p.m. \nCowden-Herrick/Beecher City at Windsor/Stewardson-Strasburg\, 4:30 p.m. \nSouth Central at Cumberland\, 4:30 p.m. \nNewton at Robinson\, 4:30 p.m. \nBoys Tennis \nEffingham at St. Anthony\, 4 p.m. \nMattoon at Teutopolis\, 4 p.m. \nNewton at Carmi\, 4:30 p.m. \nGirls Track \nNewton\, Patoka/South Central at Fairfield\, 4 p.m. \nJUNIOR VARSITY \nBaseball \nCasey-Westfield at Effingham\, 4:30 p.m. \nSoftball \nNewton at Robinson\, after varsity game \nFRESHMAN/SOPHOMORE \nBaseball \nMarshall at Teutopolis\, 4:30 p.m. \nJUNIOR HIGH SCHOOL \nTrack \nEffingham Sacred Heart\, Sigel St. Michael\, Teutopolis at St. Anthony\, 4 p.m. \nAltamont\, Brownstown/St. Elmo\, Clay City\, Lawrenceville\, Paris Crestwood at Cumberland\, 4 p.m. \nParis Mayo\, Charleston\, St. Joe at Jasper County\, 4 p.m. \nVilla Grove at Neoga\, 4:30 p.m. \nSouth Central at Cisne\, 3:30 p.m. \nWindsor at Arcola\, 4 p.m.
URL:https://www.thexradio.com/news/calendar/36162-thursdays-schedule-59/
CATEGORIES:Local Sports Calendar
END:VEVENT
END:VCALENDAR