BEGIN:VCALENDAR
VERSION:2.0
PRODID:-//Effingham&#039;s News and Sports Leader, 979XFM and KJ Country 102.3 - ECPv6.15.20//NONSGML v1.0//EN
CALSCALE:GREGORIAN
METHOD:PUBLISH
X-WR-CALNAME:Effingham&#039;s News and Sports Leader, 979XFM and KJ Country 102.3
X-ORIGINAL-URL:https://www.thexradio.com/news
X-WR-CALDESC:Events for Effingham&#039;s News and Sports Leader, 979XFM and KJ Country 102.3
REFRESH-INTERVAL;VALUE=DURATION:PT1H
X-Robots-Tag:noindex
X-PUBLISHED-TTL:PT1H
BEGIN:VTIMEZONE
TZID:America/Chicago
BEGIN:DAYLIGHT
TZOFFSETFROM:-0600
TZOFFSETTO:-0500
TZNAME:CDT
DTSTART:20250309T080000
END:DAYLIGHT
BEGIN:STANDARD
TZOFFSETFROM:-0500
TZOFFSETTO:-0600
TZNAME:CST
DTSTART:20251102T070000
END:STANDARD
BEGIN:DAYLIGHT
TZOFFSETFROM:-0600
TZOFFSETTO:-0500
TZNAME:CDT
DTSTART:20260308T080000
END:DAYLIGHT
BEGIN:STANDARD
TZOFFSETFROM:-0500
TZOFFSETTO:-0600
TZNAME:CST
DTSTART:20261101T070000
END:STANDARD
BEGIN:DAYLIGHT
TZOFFSETFROM:-0600
TZOFFSETTO:-0500
TZNAME:CDT
DTSTART:20270314T080000
END:DAYLIGHT
BEGIN:STANDARD
TZOFFSETFROM:-0500
TZOFFSETTO:-0600
TZNAME:CST
DTSTART:20271107T070000
END:STANDARD
END:VTIMEZONE
BEGIN:VEVENT
DTSTART;VALUE=DATE:20260429
DTEND;VALUE=DATE:20260430
DTSTAMP:20260425T113943
CREATED:20260423T152813Z
LAST-MODIFIED:20260423T152834Z
UID:36155-1777420800-1777507199@www.thexradio.com
SUMMARY:Wednesday's Schedule
DESCRIPTION:HIGH SCHOOL \nBaseball \nSt. Anthony at Windsor/Stewardson-Strasburg\, 4:30 p.m. (LISTEN ON KJ COUNTRY 102.3) \nTaylorville at Effingham (DH)\, 4 p.m. \nCumberland at Marshall\, 4:30 p.m. \nNeoga at Martinsville\, 4:30 p.m. \nSoftball \nMount Vernon at Effingham\, 4 p.m. \nCumberland at Marshall\, 4:30 p.m. \nNeoga at Ramsey\, 4:30 p.m. \nBoys Tennis \nMount Zion at Effingham\, 4:15 p.m. \nJUNIOR VARSITY \nSoftball \nMount Vernon at Effingham\, after varsity game \nChampaign Central at St. Anthony\, 4:30 p.m. \nJUNIOR HIGH SCHOOL \nTrack \nNeoga\, Windsor at Sullivan (sixth-grade meet)\, 4 p.m. \nMAJOR LEAGUE BASEBALL \nChicago Cubs at San Diego\, 3:10 p.m. \nSt. Louis Cardinals at Pittsburgh\, 11:35 a.m.
URL:https://www.thexradio.com/news/calendar/36155-wednesdays-schedule-60/
CATEGORIES:Local Sports Calendar
END:VEVENT
END:VCALENDAR