BEGIN:VCALENDAR
VERSION:2.0
PRODID:-//Effingham&#039;s News and Sports Leader, 979XFM and KJ Country 102.3 - ECPv6.15.20//NONSGML v1.0//EN
CALSCALE:GREGORIAN
METHOD:PUBLISH
X-WR-CALNAME:Effingham&#039;s News and Sports Leader, 979XFM and KJ Country 102.3
X-ORIGINAL-URL:https://www.thexradio.com/news
X-WR-CALDESC:Events for Effingham&#039;s News and Sports Leader, 979XFM and KJ Country 102.3
REFRESH-INTERVAL;VALUE=DURATION:PT1H
X-Robots-Tag:noindex
X-PUBLISHED-TTL:PT1H
BEGIN:VTIMEZONE
TZID:America/Chicago
BEGIN:DAYLIGHT
TZOFFSETFROM:-0600
TZOFFSETTO:-0500
TZNAME:CDT
DTSTART:20250309T080000
END:DAYLIGHT
BEGIN:STANDARD
TZOFFSETFROM:-0500
TZOFFSETTO:-0600
TZNAME:CST
DTSTART:20251102T070000
END:STANDARD
BEGIN:DAYLIGHT
TZOFFSETFROM:-0600
TZOFFSETTO:-0500
TZNAME:CDT
DTSTART:20260308T080000
END:DAYLIGHT
BEGIN:STANDARD
TZOFFSETFROM:-0500
TZOFFSETTO:-0600
TZNAME:CST
DTSTART:20261101T070000
END:STANDARD
BEGIN:DAYLIGHT
TZOFFSETFROM:-0600
TZOFFSETTO:-0500
TZNAME:CDT
DTSTART:20270314T080000
END:DAYLIGHT
BEGIN:STANDARD
TZOFFSETFROM:-0500
TZOFFSETTO:-0600
TZNAME:CST
DTSTART:20271107T070000
END:STANDARD
END:VTIMEZONE
BEGIN:VEVENT
DTSTART;VALUE=DATE:20260424
DTEND;VALUE=DATE:20260425
DTSTAMP:20260425T114008
CREATED:20260416T153631Z
LAST-MODIFIED:20260424T181057Z
UID:35561-1776988800-1777075199@www.thexradio.com
SUMMARY:Friday's Schedule
DESCRIPTION:HIGH SCHOOL \nBaseball \nCharleston at St. Anthony\, 4:30 p.m. \nRichland County\, Olney at Altamont\, 4:30 p.m. \nFairfield at Cumberland HAS BEEN CANCELED \nDieterich at Neoga\, 4:30 p.m. \nNorth Clay at Centralia\, 4:30 p.m. \nSouth Central at Flora\, 4:30 p.m. \nMarshall at Windsor/Stewardson-Strasburg\, 4:30 p.m. \nSoftball \nEffingham at Mahomet-Seymour (DH) HAS BEEN CANCELED \nCumberland at Hutsonville/Palestine\, 4:30 p.m. \nSouth Central at Edwards County\, 4:30 p.m. \nWindsor/Stewardson-Strasburg\, Champaign Central\, Freeburg at Newton Round Robin\, 4 p.m. \nBoys Track \nSt. Anthony\, Cumberland\, Neoga at Tuscola Open\, 4 p.m. \nAltamont\, St. Elmo/Brownstown\, Teutopolis\, Windsor/Stewardson-Strasburg at Coach Cork Invitational at Robinson\, 4 p.m. \nGirls Track \nSt. Anthony\, Cumberland\, Neoga at Tuscola Invitational\, 4 p.m. \nJUNIOR VARSITY \nBaseball \nParis at Newton\, 4:30 p.m. \nSoftball \nLincolnwood at St. Anthony\, 4:30 p.m. \nJUNIOR HIGH SCHOOL \nTrack \nSouth Central at Cisne\, 3:30 p.m. \nMAJOR LEAGUE BASEBALL \nChicago Cubs at Los Angeles Dodgers\, 9:10 p.m. \nSeattle at St. Louis Cardinals at Miami\, 7:15 p.m.
URL:https://www.thexradio.com/news/calendar/35561-fridays-schedule-58/
CATEGORIES:Local Sports Calendar
END:VEVENT
END:VCALENDAR