BEGIN:VCALENDAR
VERSION:2.0
PRODID:-//Effingham&#039;s News and Sports Leader, 979XFM and KJ Country 102.3 - ECPv6.15.20//NONSGML v1.0//EN
CALSCALE:GREGORIAN
METHOD:PUBLISH
X-ORIGINAL-URL:https://www.thexradio.com/news
X-WR-CALDESC:Events for Effingham&#039;s News and Sports Leader, 979XFM and KJ Country 102.3
REFRESH-INTERVAL;VALUE=DURATION:PT1H
X-Robots-Tag:noindex
X-PUBLISHED-TTL:PT1H
BEGIN:VTIMEZONE
TZID:America/Chicago
BEGIN:DAYLIGHT
TZOFFSETFROM:-0600
TZOFFSETTO:-0500
TZNAME:CDT
DTSTART:20250309T080000
END:DAYLIGHT
BEGIN:STANDARD
TZOFFSETFROM:-0500
TZOFFSETTO:-0600
TZNAME:CST
DTSTART:20251102T070000
END:STANDARD
BEGIN:DAYLIGHT
TZOFFSETFROM:-0600
TZOFFSETTO:-0500
TZNAME:CDT
DTSTART:20260308T080000
END:DAYLIGHT
BEGIN:STANDARD
TZOFFSETFROM:-0500
TZOFFSETTO:-0600
TZNAME:CST
DTSTART:20261101T070000
END:STANDARD
BEGIN:DAYLIGHT
TZOFFSETFROM:-0600
TZOFFSETTO:-0500
TZNAME:CDT
DTSTART:20270314T080000
END:DAYLIGHT
BEGIN:STANDARD
TZOFFSETFROM:-0500
TZOFFSETTO:-0600
TZNAME:CST
DTSTART:20271107T070000
END:STANDARD
END:VTIMEZONE
BEGIN:VEVENT
DTSTART;VALUE=DATE:20260423
DTEND;VALUE=DATE:20260424
DTSTAMP:20260425T114213
CREATED:20260416T153517Z
LAST-MODIFIED:20260416T160207Z
UID:35559-1776902400-1776988799@www.thexradio.com
SUMMARY:Thursday's Schedule
DESCRIPTION:HIGH SCHOOL \nBaseball \nSouth Central at Effingham\, 4:30 p.m. \nAltamont at Cowden-Herrick/Beecher City\, 4:30 p.m. \nBrownstown/St. Elmo at Odin\, 4:30 p.m. \nRamsey at Dieterich\, 4:30 p.m. \nNewton at Paris\, 4:30 p.m. \nMount Zion at Teutopolis\, 4:30 p.m. \nSoftball \nWindsor/Stewardson-Strasburg at St. Anthony\, 4:30 p.m. \nVandalia at Altamont\, 4:30 p.m. \nSt. Elmo/Brownstown at Cowden-Herrick/Beecher City\, 4:30 p.m. \nTeutopolis at Cumberland\, 4:30 p.m. \nNewton at Paris\, 4:30 p.m. \nOdin at North Clay\, 4:30 p.m. \nBoys Tennis \nTaylorville at Effingham\, 4:15 p.m. \nNewton at Mount Carmel\, 4:30 p.m. \nParis at Teutopolis\, 4:30 p.m. \nBoys Track \nEffingham\, Newton\, Teutopolis at Mattoon Invitational\, 4:30 p.m. \nPatoka/South Central at Webber\, 3 p.m. \nGirls Track \nPatoka/South Central at Webber\, 3 p.m. \nJUNIOR VARSITY \nBaseball \nSt. Anthony at Effingham\, 4 p.m. \nSoftball \nWindsor/Stewardson-Strasburg at St. Anthony\, after varsity game \nTeutopolis at Neoga\, TBA \nJUNIOR HIGH SCHOOL \nTrack \nCharleston\, Tolono Unity at Effingham\, 4 p.m. \nEffingham Sacred Heart\, Neoga\, Sigel St. Michael\, Teutopolis\, Windsor at Cumberland\, 4 p.m. \nAltamont\, St. Thomas\, New Hebron\, Palestine/Hutsonville at Jasper County\, 4 p.m. \nBrownstown/St. Elmo at Okaw Valley\, 4 p.m. \nMAJOR LEAGUE BASEBALL \nPhiladelphia at Chicago Cubs\, 1:20 p.m.
URL:https://www.thexradio.com/news/calendar/35559-thursdays-schedule-58/
CATEGORIES:Local Sports Calendar
END:VEVENT
END:VCALENDAR