BEGIN:VCALENDAR
VERSION:2.0
PRODID:-//Effingham&#039;s News and Sports Leader, 979XFM and KJ Country 102.3 - ECPv6.15.20//NONSGML v1.0//EN
CALSCALE:GREGORIAN
METHOD:PUBLISH
X-WR-CALNAME:Effingham&#039;s News and Sports Leader, 979XFM and KJ Country 102.3
X-ORIGINAL-URL:https://www.thexradio.com/news
X-WR-CALDESC:Events for Effingham&#039;s News and Sports Leader, 979XFM and KJ Country 102.3
REFRESH-INTERVAL;VALUE=DURATION:PT1H
X-Robots-Tag:noindex
X-PUBLISHED-TTL:PT1H
BEGIN:VTIMEZONE
TZID:America/Chicago
BEGIN:DAYLIGHT
TZOFFSETFROM:-0600
TZOFFSETTO:-0500
TZNAME:CDT
DTSTART:20250309T080000
END:DAYLIGHT
BEGIN:STANDARD
TZOFFSETFROM:-0500
TZOFFSETTO:-0600
TZNAME:CST
DTSTART:20251102T070000
END:STANDARD
BEGIN:DAYLIGHT
TZOFFSETFROM:-0600
TZOFFSETTO:-0500
TZNAME:CDT
DTSTART:20260308T080000
END:DAYLIGHT
BEGIN:STANDARD
TZOFFSETFROM:-0500
TZOFFSETTO:-0600
TZNAME:CST
DTSTART:20261101T070000
END:STANDARD
BEGIN:DAYLIGHT
TZOFFSETFROM:-0600
TZOFFSETTO:-0500
TZNAME:CDT
DTSTART:20270314T080000
END:DAYLIGHT
BEGIN:STANDARD
TZOFFSETFROM:-0500
TZOFFSETTO:-0600
TZNAME:CST
DTSTART:20271107T070000
END:STANDARD
END:VTIMEZONE
BEGIN:VEVENT
DTSTART;VALUE=DATE:20260414
DTEND;VALUE=DATE:20260415
DTSTAMP:20260425T114025
CREATED:20260409T143045Z
LAST-MODIFIED:20260409T151744Z
UID:35003-1776124800-1776211199@www.thexradio.com
SUMMARY:Tuesday's Schedule
DESCRIPTION:HIGH SCHOOL \nBaseball \nEffingham at Mount Zion\, 4:30 p.m. \nAltamont at Ramsey\, 4:30 p.m. \nBrownstown/St. Elmo at Cowden-Herrick/Beecher City\, 4:30 p.m. \nOkaw Valley at Neoga\, 4:30 p.m. \nDieterich at Newton\, 4:30 p.m. \nNorth Clay at Mount Carmel\, 4:30 p.m. \nTeutopolis at Robinson\, 4:30 p.m. \nSoftball \nSt. Anthony at Newton\, 4:30 p.m. \nRamsey at Altamont\, 4:30 p.m. \nCowden-Herrick/Beecher City at Cumberland\, 4:30 p.m. \nRobinson at Dieterich\, 4:30 p.m. \nNeoga at Cerro Gordo/Bement\, 4:30 p.m. \nGrayville at North Clay\, 4:30 p.m. \nSouth Central at St. Elmo/Brownstown\, 4:30 p.m. \nBoys Tennis \nSt. Anthony at Paris\, 4:30 p.m. \nRichland County\, Olney at Effingham\, 4:15 p.m. \nBoys Track \nSt. Anthony\, Windsor/Stewardson-Strasburg\, Oblong\, Marshall\, Casey-Westfield\, Okaw Valley at Cumberland\, 4:30 p.m. \nAltamont\, Cowden-Herrick/Beecher City at Teutopolis\, 4:15 p.m. \nSt. Elmo/Brownstown at Newton\, 4 p.m. \nPatoka/South Central at Vandalia\, 4:30 p.m. \nGirls Track \nSt. Anthony\, Windsor/Stewardson-Strasburg\, Oblong\, Marshall\, Casey-Westfield\, Okaw Valley at Cumberland\, 4:30 p.m. \nAltamont\, Cowden-Herrick/Beecher City at Teutopolis\, 4:15 p.m. \nSt. Elmo/Brownstown at Newton\, 4 p.m. \nJUNIOR VARSITY \nBaseball \nEffingham at Mount Zion\, 4:30 p.m. \nSt. Anthony at Altamont\, 4 p.m. \nNewton at Casey-Westfield\, 4:30 p.m. \nSoftball \nEffingham at St. Anthony\, 4 p.m. \nTeutopolis at Casey-Westfield\, 4:30 p.m. \nBoys Track \nMattoon\, Olney at Newton JV Meet\, 4 p.m. \nGirls Track \nMattoon\, Olney at Newton JV Meet\, 4 p.m. \nFRESHMAN/SOPHOMORE \nBoys Track \nEffingham at Highland Invitational\, 4 p.m. \nJUNIOR HIGH SCHOOL \nTrack \nTeutopolis at Effingham Invitational\, 3 p.m. \nSouth Central at Stewardson-Strasburg\, 4 p.m. \nMAJOR LEAGUE BASEBALL \nChicago Cubs at Philadelphia\, 5:40 p.m. \nCleveland at St. Louis Cardinals\, 6:45 p.m.
URL:https://www.thexradio.com/news/calendar/35003-tuesdays-schedule-57/
CATEGORIES:Local Sports Calendar
END:VEVENT
END:VCALENDAR