BEGIN:VCALENDAR
VERSION:2.0
PRODID:-//Effingham&#039;s News and Sports Leader, 979XFM and KJ Country 102.3 - ECPv6.15.20//NONSGML v1.0//EN
CALSCALE:GREGORIAN
METHOD:PUBLISH
X-WR-CALNAME:Effingham&#039;s News and Sports Leader, 979XFM and KJ Country 102.3
X-ORIGINAL-URL:https://www.thexradio.com/news
X-WR-CALDESC:Events for Effingham&#039;s News and Sports Leader, 979XFM and KJ Country 102.3
REFRESH-INTERVAL;VALUE=DURATION:PT1H
X-Robots-Tag:noindex
X-PUBLISHED-TTL:PT1H
BEGIN:VTIMEZONE
TZID:America/Chicago
BEGIN:DAYLIGHT
TZOFFSETFROM:-0600
TZOFFSETTO:-0500
TZNAME:CDT
DTSTART:20250309T080000
END:DAYLIGHT
BEGIN:STANDARD
TZOFFSETFROM:-0500
TZOFFSETTO:-0600
TZNAME:CST
DTSTART:20251102T070000
END:STANDARD
BEGIN:DAYLIGHT
TZOFFSETFROM:-0600
TZOFFSETTO:-0500
TZNAME:CDT
DTSTART:20260308T080000
END:DAYLIGHT
BEGIN:STANDARD
TZOFFSETFROM:-0500
TZOFFSETTO:-0600
TZNAME:CST
DTSTART:20261101T070000
END:STANDARD
BEGIN:DAYLIGHT
TZOFFSETFROM:-0600
TZOFFSETTO:-0500
TZNAME:CDT
DTSTART:20270314T080000
END:DAYLIGHT
BEGIN:STANDARD
TZOFFSETFROM:-0500
TZOFFSETTO:-0600
TZNAME:CST
DTSTART:20271107T070000
END:STANDARD
END:VTIMEZONE
BEGIN:VEVENT
DTSTART;VALUE=DATE:20260410
DTEND;VALUE=DATE:20260411
DTSTAMP:20260425T114008
CREATED:20260403T132502Z
LAST-MODIFIED:20260408T181847Z
UID:34376-1775779200-1775865599@www.thexradio.com
SUMMARY:Friday's Schedule
DESCRIPTION:HIGH SCHOOL \nBaseball \nBrownstown/St. Elmo at Ramsey/Mulberry Grove\, 4:30 p.m. \nCumberland at Robinson\, 4:30 p.m. \nOblong at Neoga\, 4:30 p.m. \nWest Vigo at Newton\, 4:30 p.m. \nNorth Clay at Lawrenceville\, 4:30 p.m. \nCarlyle at South Central\, 4:30 p.m. \nFlora at Teutopolis\, 4:30 p.m. \nCasey-Westfield at Windsor/Stewardson-Strasburg\, 4:30 p.m. \nSoftball \nNokomis at Altamont\, 4:30 p.m. \nFlora at Cumberland\, TIME CHANGED TO 4:45 P.M. \nSouth Central at Newton\, 4:30 p.m. \nTeutopolis at Sullivan\, 4:30 p.m. \nBoys Track \nSt. Anthony\, Newton\, Teutopolis at Olney Track Invitational\, 4 p.m. \nGirls Track \nEffingham at Triad Invitational\, 1 p.m. \nNewton\, St. Elmo/Brownstown\, Teutopolis\, Windsor/Stewardson-Strasburg at Shelbyville Open\, 4 p.m. \nFRESHMAN/SOPHOMORE \nBaseball \nTeutopolis at Mount Zion\, 5 p.m. \nMAJOR LEAGUE BASEBALL \nPittsburgh at Chicago Cubs at Tampa Bay\, 1:20 p.m. \nBoston at St. Louis Cardinals\, 7:15 p.m.
URL:https://www.thexradio.com/news/calendar/34376-fridays-schedule-56/
CATEGORIES:Local Sports Calendar
END:VEVENT
END:VCALENDAR