BEGIN:VCALENDAR
VERSION:2.0
PRODID:-//Effingham&#039;s News and Sports Leader, 979XFM and KJ Country 102.3 - ECPv6.15.20//NONSGML v1.0//EN
CALSCALE:GREGORIAN
METHOD:PUBLISH
X-WR-CALNAME:Effingham&#039;s News and Sports Leader, 979XFM and KJ Country 102.3
X-ORIGINAL-URL:https://www.thexradio.com/news
X-WR-CALDESC:Events for Effingham&#039;s News and Sports Leader, 979XFM and KJ Country 102.3
REFRESH-INTERVAL;VALUE=DURATION:PT1H
X-Robots-Tag:noindex
X-PUBLISHED-TTL:PT1H
BEGIN:VTIMEZONE
TZID:America/Chicago
BEGIN:DAYLIGHT
TZOFFSETFROM:-0600
TZOFFSETTO:-0500
TZNAME:CDT
DTSTART:20250309T080000
END:DAYLIGHT
BEGIN:STANDARD
TZOFFSETFROM:-0500
TZOFFSETTO:-0600
TZNAME:CST
DTSTART:20251102T070000
END:STANDARD
BEGIN:DAYLIGHT
TZOFFSETFROM:-0600
TZOFFSETTO:-0500
TZNAME:CDT
DTSTART:20260308T080000
END:DAYLIGHT
BEGIN:STANDARD
TZOFFSETFROM:-0500
TZOFFSETTO:-0600
TZNAME:CST
DTSTART:20261101T070000
END:STANDARD
BEGIN:DAYLIGHT
TZOFFSETFROM:-0600
TZOFFSETTO:-0500
TZNAME:CDT
DTSTART:20270314T080000
END:DAYLIGHT
BEGIN:STANDARD
TZOFFSETFROM:-0500
TZOFFSETTO:-0600
TZNAME:CST
DTSTART:20271107T070000
END:STANDARD
END:VTIMEZONE
BEGIN:VEVENT
DTSTART;VALUE=DATE:20260404
DTEND;VALUE=DATE:20260405
DTSTAMP:20260425T113912
CREATED:20260326T152901Z
LAST-MODIFIED:20260330T125841Z
UID:33842-1775260800-1775347199@www.thexradio.com
SUMMARY:Saturday's Schedule
DESCRIPTION:HIGH SCHOOL \nBaseball \nNeoga at Tolono Unity (DH)\, 12:45 p.m. \nNewton at Mattoon\, 10 a.m. \nNorth Clay vs. Belleville West at Freeburg Round Robin\, noon \nNorth Clay vs. Freeburg at Freeburg Round Robin\, 2 p.m. \nSouth Central at Pinckneyville (DH)\, 11 a.m. \nTeutopolis at St. Joseph-Ogden (DH)\, noon \nSoftball \nNewton at Vandalia Tournament\, 10 a.m. \nCarlyle\, Odin at South Central Round Robin\, 10 a.m. \nBoys Track \nCumberland at Teutopolis Invitational\, 10 a.m. \nGirls Track \nCumberland at Teutopolis Invitational\, 10 a.m. \nFRESHMAN/SOPHOMORE \nBaseball \nSt. Joseph-Ogden at Teutopolis (DH)\, 10 a.m. \nJUNIOR VARSITY \nBaseball \nNewton at Marshall\, 10 a.m. \nCOLLEGE BASKETBALL \nMEN’S NCAA TOURNAMENT \nIllinois vs. UConn\, 5:09 p.m. \nMichigan vs. Arizona\, 7:49 p.m. \nMAJOR LEAGUE BASEBALL \nChicago Cubs at Cleveland. 6:15 p.m. \nSt. Louis Cardinals at Detroit\, 12:10 p.m. \nNASCAR \nNorth Carolina Education Lottery 250 at Rockingham Speedway\, 1 p.m.
URL:https://www.thexradio.com/news/calendar/33842-saturdays-schedule-55/
CATEGORIES:Local Sports Calendar
END:VEVENT
END:VCALENDAR