BEGIN:VCALENDAR
VERSION:2.0
PRODID:-//Effingham&#039;s News and Sports Leader, 979XFM and KJ Country 102.3 - ECPv6.15.20//NONSGML v1.0//EN
CALSCALE:GREGORIAN
METHOD:PUBLISH
X-ORIGINAL-URL:https://www.thexradio.com/news
X-WR-CALDESC:Events for Effingham&#039;s News and Sports Leader, 979XFM and KJ Country 102.3
REFRESH-INTERVAL;VALUE=DURATION:PT1H
X-Robots-Tag:noindex
X-PUBLISHED-TTL:PT1H
BEGIN:VTIMEZONE
TZID:America/Chicago
BEGIN:DAYLIGHT
TZOFFSETFROM:-0600
TZOFFSETTO:-0500
TZNAME:CDT
DTSTART:20250309T080000
END:DAYLIGHT
BEGIN:STANDARD
TZOFFSETFROM:-0500
TZOFFSETTO:-0600
TZNAME:CST
DTSTART:20251102T070000
END:STANDARD
BEGIN:DAYLIGHT
TZOFFSETFROM:-0600
TZOFFSETTO:-0500
TZNAME:CDT
DTSTART:20260308T080000
END:DAYLIGHT
BEGIN:STANDARD
TZOFFSETFROM:-0500
TZOFFSETTO:-0600
TZNAME:CST
DTSTART:20261101T070000
END:STANDARD
BEGIN:DAYLIGHT
TZOFFSETFROM:-0600
TZOFFSETTO:-0500
TZNAME:CDT
DTSTART:20270314T080000
END:DAYLIGHT
BEGIN:STANDARD
TZOFFSETFROM:-0500
TZOFFSETTO:-0600
TZNAME:CST
DTSTART:20271107T070000
END:STANDARD
END:VTIMEZONE
BEGIN:VEVENT
DTSTART;VALUE=DATE:20260330
DTEND;VALUE=DATE:20260331
DTSTAMP:20260425T114355
CREATED:20260325T153242Z
LAST-MODIFIED:20260330T124128Z
UID:33754-1774828800-1774915199@www.thexradio.com
SUMMARY:Monday's Schedule
DESCRIPTION:HIGH SCHOOL \nBaseball \nSt. Anthony at Salem\, 4:30 p.m. \nSouth Central at Altamont\, 4:30 p.m. \nCowden-Herrick/Beecher City at Charleston\, 4:30 p.m. \nCumberland at Carlyle\, 4:30 p.m. \nHeritage at Neoga\, 4:30 p.m. \nFlora at Newton\, 4:30 p.m. \nNorth Clay at Okaw Valley\, 4:30 p.m. \nMahomet-Seymour at Teutopolis\, 4:30 p.m. \nCentral A&M at Windsor/Stewardson-Strasburg\, 10 a.m. \nSoftball \nHighland at St. Anthony\, 4:30 p.m. \nAltamont at Sullivan\, 4:30 p.m. \nNorth Clay at Cowden-Herrick/Beecher City\, 4:30 p.m. \nCasey-Westfield at Cumberland\, 4:30 p.m. \nMulberry Grove at Dieterich\, 4:30 p.m. \nNeoga at Paris\, 4:30 p.m. \nOkaw Valley at St. Elmo/Brownstown\, 4:30 p.m. \nVandalia at South Central\, 4:30 p.m. \nRichland County\, Olney at Teutopolis\, 4:30 p.m. \nWindsor/Stewardson-Strasburg at Mount Zion\, 4:30 p.m. \nBoys Tennis \nFairfield at Effingham\, 4:15 p.m. \nBoys Track \nSt. Anthony\, Red Hill (Bridgeport)\, Oblong at Robinson\, 4 p.m. \nAltamont\, Cumberland\, North Clay at Effingham\, 4 p.m. \nNeoga at Marshall\, 4:30 p.m. \nGirls Track \nAltamont\, Cumberland\, North Clay at Effingham\, 4 p.m. \nSt. Anthony\, Red Hill (Bridgeport)\, Oblong at Robinson\, 4 p.m. \nNeoga at Marshall\, 4:30 p.m. \nJUNIOR VARSITY \nBaseball \nSalem at St. Anthony\, 4:30 p.m. \nNewton at Flora\, 4:30 p.m. \nSoftball \nHighland at St. Anthony\, after varsity game \nRichland County\, Olney at Teutopolis\, JV innings \nFRESHMAN/SOPHOMORE \nBaseball \nTeutopolis at Tuscola\, 4:30 p.m. \nJUNIOR HIGH SCHOOL \nTrack \nNeoga at Paris Mayo\, 4:30 p.m. \nWindsor at Cumberland\, 4 p.m. \nCowden-Herrick/Beecher City\, North Clay\, South Central at Teutopolis\, 4:30 p.m. \nCOLLEGE \nNCAA Women’s Basketball Tournament \nMichigan vs. Texas\, 6 p.m. \nTCU vs. South  Carolina\, 8 p.m. \nMAJOR LEAGUE BASEBALL \nLos Angeles Angels at Chicago Cubs\, 6:40 p.m. \nNew York Mets at St. Louis Cardinals\, 6:45 p.m.
URL:https://www.thexradio.com/news/calendar/33754-mondays-schedule-53/
CATEGORIES:Local Sports Calendar
END:VEVENT
END:VCALENDAR