BEGIN:VCALENDAR
VERSION:2.0
PRODID:-//Effingham&#039;s News and Sports Leader, 979XFM and KJ Country 102.3 - ECPv6.15.20//NONSGML v1.0//EN
CALSCALE:GREGORIAN
METHOD:PUBLISH
X-WR-CALNAME:Effingham&#039;s News and Sports Leader, 979XFM and KJ Country 102.3
X-ORIGINAL-URL:https://www.thexradio.com/news
X-WR-CALDESC:Events for Effingham&#039;s News and Sports Leader, 979XFM and KJ Country 102.3
REFRESH-INTERVAL;VALUE=DURATION:PT1H
X-Robots-Tag:noindex
X-PUBLISHED-TTL:PT1H
BEGIN:VTIMEZONE
TZID:America/Chicago
BEGIN:DAYLIGHT
TZOFFSETFROM:-0600
TZOFFSETTO:-0500
TZNAME:CDT
DTSTART:20250309T080000
END:DAYLIGHT
BEGIN:STANDARD
TZOFFSETFROM:-0500
TZOFFSETTO:-0600
TZNAME:CST
DTSTART:20251102T070000
END:STANDARD
BEGIN:DAYLIGHT
TZOFFSETFROM:-0600
TZOFFSETTO:-0500
TZNAME:CDT
DTSTART:20260308T080000
END:DAYLIGHT
BEGIN:STANDARD
TZOFFSETFROM:-0500
TZOFFSETTO:-0600
TZNAME:CST
DTSTART:20261101T070000
END:STANDARD
BEGIN:DAYLIGHT
TZOFFSETFROM:-0600
TZOFFSETTO:-0500
TZNAME:CDT
DTSTART:20270314T080000
END:DAYLIGHT
BEGIN:STANDARD
TZOFFSETFROM:-0500
TZOFFSETTO:-0600
TZNAME:CST
DTSTART:20271107T070000
END:STANDARD
END:VTIMEZONE
BEGIN:VEVENT
DTSTART;VALUE=DATE:20260329
DTEND;VALUE=DATE:20260330
DTSTAMP:20260425T114111
CREATED:20260319T141837Z
LAST-MODIFIED:20260327T120853Z
UID:33320-1774742400-1774828799@www.thexradio.com
SUMMARY:Sunday's Schedule
DESCRIPTION:MEN’S COLLEGE BASKETBALL \nNCAA Tournament \nEast Region Elite Eight\, TBD \nMidwest Region Elite Eight\,  TBD \nWOMEN’S COLLEGE BASKETBALL \nNCAA Tournament \nTBD vs. TBD\, noon (Regional 1) \nTBD vs. TBD\, 2 p.m. (Regional 2) \nMAJOR LEAGUE BASEBALL \nWashington at Chicago Cubs\, 1:20 p.m. \nTampa Bay at St. Louis Cardinals\, 1:15 p.m. \nNASCAR \nCook Out 400 at Martinsville Speedway\, 1:30 p.m.
URL:https://www.thexradio.com/news/calendar/33320-sundays-schedule-54/
CATEGORIES:Local Sports Calendar
END:VEVENT
END:VCALENDAR