BEGIN:VCALENDAR
VERSION:2.0
PRODID:-//Effingham&#039;s News and Sports Leader, 979XFM and KJ Country 102.3 - ECPv6.15.20//NONSGML v1.0//EN
CALSCALE:GREGORIAN
METHOD:PUBLISH
X-WR-CALNAME:Effingham&#039;s News and Sports Leader, 979XFM and KJ Country 102.3
X-ORIGINAL-URL:https://www.thexradio.com/news
X-WR-CALDESC:Events for Effingham&#039;s News and Sports Leader, 979XFM and KJ Country 102.3
REFRESH-INTERVAL;VALUE=DURATION:PT1H
X-Robots-Tag:noindex
X-PUBLISHED-TTL:PT1H
BEGIN:VTIMEZONE
TZID:America/Chicago
BEGIN:DAYLIGHT
TZOFFSETFROM:-0600
TZOFFSETTO:-0500
TZNAME:CDT
DTSTART:20250309T080000
END:DAYLIGHT
BEGIN:STANDARD
TZOFFSETFROM:-0500
TZOFFSETTO:-0600
TZNAME:CST
DTSTART:20251102T070000
END:STANDARD
BEGIN:DAYLIGHT
TZOFFSETFROM:-0600
TZOFFSETTO:-0500
TZNAME:CDT
DTSTART:20260308T080000
END:DAYLIGHT
BEGIN:STANDARD
TZOFFSETFROM:-0500
TZOFFSETTO:-0600
TZNAME:CST
DTSTART:20261101T070000
END:STANDARD
BEGIN:DAYLIGHT
TZOFFSETFROM:-0600
TZOFFSETTO:-0500
TZNAME:CDT
DTSTART:20270314T080000
END:DAYLIGHT
BEGIN:STANDARD
TZOFFSETFROM:-0500
TZOFFSETTO:-0600
TZNAME:CST
DTSTART:20271107T070000
END:STANDARD
END:VTIMEZONE
BEGIN:VEVENT
DTSTART;VALUE=DATE:20260328
DTEND;VALUE=DATE:20260329
DTSTAMP:20260425T124835
CREATED:20260319T141742Z
LAST-MODIFIED:20260327T195523Z
UID:33318-1774656000-1774742399@www.thexradio.com
SUMMARY:Saturday's Schedule
DESCRIPTION:HIGH SCHOOL \nBaseball \nMount Vernon at Effingham\, 11 a.m. \nSt. Anthony at Breese Central\, 11 a.m. \nArthur-Lovington/Atwood-Hammond at Neoga\, 10 a.m. \nNewton at Pana HAS BEEN CANCELED \nArcola vs. North Clay at North Clay Round Robin\, 10 a.m. \nRichland County\, Olney vs. North Clay at North Clay Round Robin\, 2 p.m. \nSouth Central at Vandalia Round Robin\, 11 a.m. \nWindsor/Stewardson-Strasburg Round Robin\, 10 a.m. \nSoftball \nEffingham vs. Westville at Casey-Westfield\, 10 a.m. \nEffingham vs. Champaign Central at Casey-Westfield\, noon \nSt. Anthony\, Mulberry Grove at Sullivan Round Robin\, 10 a.m. \nFlora at Cumberland\, 10 a.m. \nNewton at Pana HAS BEEN CANCELED \nSouth Central at Casey-Westfield Tournament\, TBA \nTeutopolis at Fairfield Lady Mule Spring Swing\, TBA \nMattoon at Windsor/Stewardson-Strasburg (DH)\, 4:30 p.m. \nBoys Track \nEffingham at Bloomington Indoor Meet\, TBA \nGirls Track \nEffingham at Bloomington Indoor State\, TBA \nJUNIOR VARSITY \nBaseball \nMount Vernon at Effingham\, 11 a.m. \nBreese Central at St. Anthony\, 11 a.m. \nFlora at Cumberland\, 10 a.m. \nSoftball \nFlora at Cumberland\, 10 a.m. \nCOLLEGE \nMEN”s NCAA TOURNAMENT \nIowa vs. Illinois\, 5:09 p.m. \nPurdue vs. Arizona\, 7:49 p.m. \nWOMEN’S NCAA TOURNAMENT \nLouisville vs. Michigan\, 11:30 a.m. \nKentucky vs. Texas\, 2 p.m. \nOklahoma vs. South Caroline\, 4 p.m. \nMAJOR LEAGUE BASEBALL \nWashington at Chicago Cubs\, 1:20 p.m. \nTampa Bay at St. Louis Cardinals\, 1:15 p.m. \nNASCAR \nUS Marine Corps 250 at Martinsville Speedway\, 2 p.m.
URL:https://www.thexradio.com/news/calendar/33318-saturdays-schedule-53/
CATEGORIES:Local Sports Calendar
END:VEVENT
END:VCALENDAR