BEGIN:VCALENDAR
VERSION:2.0
PRODID:-//Effingham&#039;s News and Sports Leader, 979XFM and KJ Country 102.3 - ECPv6.15.20//NONSGML v1.0//EN
CALSCALE:GREGORIAN
METHOD:PUBLISH
X-WR-CALNAME:Effingham&#039;s News and Sports Leader, 979XFM and KJ Country 102.3
X-ORIGINAL-URL:https://www.thexradio.com/news
X-WR-CALDESC:Events for Effingham&#039;s News and Sports Leader, 979XFM and KJ Country 102.3
REFRESH-INTERVAL;VALUE=DURATION:PT1H
X-Robots-Tag:noindex
X-PUBLISHED-TTL:PT1H
BEGIN:VTIMEZONE
TZID:America/Chicago
BEGIN:DAYLIGHT
TZOFFSETFROM:-0600
TZOFFSETTO:-0500
TZNAME:CDT
DTSTART:20250309T080000
END:DAYLIGHT
BEGIN:STANDARD
TZOFFSETFROM:-0500
TZOFFSETTO:-0600
TZNAME:CST
DTSTART:20251102T070000
END:STANDARD
BEGIN:DAYLIGHT
TZOFFSETFROM:-0600
TZOFFSETTO:-0500
TZNAME:CDT
DTSTART:20260308T080000
END:DAYLIGHT
BEGIN:STANDARD
TZOFFSETFROM:-0500
TZOFFSETTO:-0600
TZNAME:CST
DTSTART:20261101T070000
END:STANDARD
BEGIN:DAYLIGHT
TZOFFSETFROM:-0600
TZOFFSETTO:-0500
TZNAME:CDT
DTSTART:20270314T080000
END:DAYLIGHT
BEGIN:STANDARD
TZOFFSETFROM:-0500
TZOFFSETTO:-0600
TZNAME:CST
DTSTART:20271107T070000
END:STANDARD
END:VTIMEZONE
BEGIN:VEVENT
DTSTART;VALUE=DATE:20260327
DTEND;VALUE=DATE:20260328
DTSTAMP:20260425T124834
CREATED:20260319T141606Z
LAST-MODIFIED:20260327T185340Z
UID:33315-1774569600-1774655999@www.thexradio.com
SUMMARY:Friday's Schedule
DESCRIPTION:HIGH SCHOOL \nBaseball \nAltamont at Effingham\, 4:30 p.m. (LISTEN ON KJ COUNTRY 102.3) \nSt. Anthony at Cumberland HAS BEEN CANCELED \nBrownstown/St. Elmo at Okaw Valley\, 4:30 p.m. \nCowden-Herrick/Beecher City at Dieterich\, 4:30 p.m. \nCharleston at Newton HAS BEEN CANCELED \nFairfield at Teutopolis\, 4:30 p.m. \nSoftball \nCowden-Herrick/Beecher City at Dieterich\, 4:30 p.m. \nCumberland at Paris HAS BEEN CANCELED \nSt. Elmo/Brownstown at Martinsville POSTPONED TO APRIL 6 \nNeoga at Tri-County & Shiloh Oakland\, 4:30 p.m. \nBoys Tennis \nSt. Anthony at Champaign St. Thomas More\, 4:30 p.m. \nBoys Track \nAltamont\, Brownstown/St. Elmo\, Cumberland\, Newton at Indoor Top Times State Meet at Illinois Wesleyan University\, 1 p.m. \nGirls Track \nAltamont\, Brownstown/St. Elmo\, Cumberland\, Newton at Indoor Top Times State Meet at Illinois Wesleyan University\, 1 p.m. \nJUNIOR VARSITY \nBASEBALL \nEffingham at Altamont HAS BEEN CANCELED \nNewton at Charleston HAS BEEN CANCELED \nFRESHMAN/SOPHOMORE \nBaseball \nTeutopolis at Casey-Westfield\, 4 p.m. \nCOLLEGE \nMEN’S BASKETBALL \nNCAA Tournament \nSt. John’s vs. Duke\, 6:10 p.m. \nAlabama vs. Michigan\, 6:35 p.m. \nMichigan State vs. UConn\, 8:45 p.m. \nTennessee vs. Iowa State\, 9:10 p.m. \nWOMEN’S BASKETBALL \nNCAA Tournament \nNotre Dame vs. Vanderbilt\, 1:30 p.m. \nNorth Carolina vs. UConn\, 4 p.m. \nMinnesota vs. UCLA\, 6:30 p.m. \nDuke vs. LSU\, 9 p.m.
URL:https://www.thexradio.com/news/calendar/33315-33315/
CATEGORIES:Local Sports Calendar
END:VEVENT
END:VCALENDAR