BEGIN:VCALENDAR
VERSION:2.0
PRODID:-//Effingham&#039;s News and Sports Leader, 979XFM and KJ Country 102.3 - ECPv6.15.20//NONSGML v1.0//EN
CALSCALE:GREGORIAN
METHOD:PUBLISH
X-WR-CALNAME:Effingham&#039;s News and Sports Leader, 979XFM and KJ Country 102.3
X-ORIGINAL-URL:https://www.thexradio.com/news
X-WR-CALDESC:Events for Effingham&#039;s News and Sports Leader, 979XFM and KJ Country 102.3
REFRESH-INTERVAL;VALUE=DURATION:PT1H
X-Robots-Tag:noindex
X-PUBLISHED-TTL:PT1H
BEGIN:VTIMEZONE
TZID:America/Chicago
BEGIN:DAYLIGHT
TZOFFSETFROM:-0600
TZOFFSETTO:-0500
TZNAME:CDT
DTSTART:20250309T080000
END:DAYLIGHT
BEGIN:STANDARD
TZOFFSETFROM:-0500
TZOFFSETTO:-0600
TZNAME:CST
DTSTART:20251102T070000
END:STANDARD
BEGIN:DAYLIGHT
TZOFFSETFROM:-0600
TZOFFSETTO:-0500
TZNAME:CDT
DTSTART:20260308T080000
END:DAYLIGHT
BEGIN:STANDARD
TZOFFSETFROM:-0500
TZOFFSETTO:-0600
TZNAME:CST
DTSTART:20261101T070000
END:STANDARD
BEGIN:DAYLIGHT
TZOFFSETFROM:-0600
TZOFFSETTO:-0500
TZNAME:CDT
DTSTART:20270314T080000
END:DAYLIGHT
BEGIN:STANDARD
TZOFFSETFROM:-0500
TZOFFSETTO:-0600
TZNAME:CST
DTSTART:20271107T070000
END:STANDARD
END:VTIMEZONE
BEGIN:VEVENT
DTSTART;VALUE=DATE:20260323
DTEND;VALUE=DATE:20260324
DTSTAMP:20260425T124832
CREATED:20260319T140111Z
LAST-MODIFIED:20260323T113628Z
UID:33298-1774224000-1774310399@www.thexradio.com
SUMMARY:Monday's Schedule
DESCRIPTION:HIGH SCHOOL \nBaseball \nEffingham at Newton\, 4:30 p.m. \nRichland County at St. Anthony\, 4:30 p.m. \nBrownstown/St. Elmo at Lebanon\, 4:30 p.m. \nCowden-Herrick/Beecher City at Pana\, 4:30 p.m. \nTeutopolis at Cumberland\, 4:30 p.m. \nShelbyville at Dieterich\, 4:30 p.m. \nNorth Clay at Neoga\, 4:30 p.m. \nSouth Central at Fairfield\, 4:30 p.m. \nWindsor/Stewardson-Strasburg at Sullivan\, 4:30 p.m. \nSoftball \nSt. Anthony at Neoga\, 4:30 p.m. \nFairfield at Altamont\, 4:30 p.m. \nDieterich at St. Elmo/Brownstown\, 4:30 p.m. \nCumberland at Robinson\, 4:30 p.m. \nNewton at Arthur-Lovington/Atwood-Hammond\, 4:30 p.m. \nCentralia Christ Our Rock Lutheran at North Clay\, 4:30 p.m. \nSouth Central at Mulberry Grove\, 4:30 p.m. \nTeutopolis at Salem\, 4:30 p.m. \nBoys Track \nPatoka/South Central at Cowden-Herrick/Beecher City\, 4 p.m. \nGirls Track \nCumberland at Casey-Westfield\, 4:15 p.m. \nPatoka/South Central at Cowden-Herrick/Beecher City\, 4 p.m. \nJUNIOR VARSITY \nBASEBALL \nSt. Anthony at Richland County\, Olney\, 4:30 p.m. \nNewton at Shelbyville\, 4:30 p.m. \nSoftball \nTeutopolis at Salem\, JV innings \nCOLLEGE \nNCAA Men’s Basketball Tournament \nNo games scheduled \nNCAA Women’s Basketball Tournament \nMissouri at BYU\, 8 p.m. \nAlabama at Louisville\, 11 a.m. \nVirginia at Iowa\, 1 p.m. \nNotre Dame at Ohio State\, 3 p.m. \nKentucky at West Virginia\, 4 p.m. \nSyracuse at UConn\, 5 p.m. \nIllinois at Vanderbilt\, 6 p.m. \nUSC at South Carolina\, 7 p.m. \nOklahoma State at UCLA\, 9 p.m. \nUMBC at Marshall\, 5 p.m. \nBinghamton at La Salle\, 5 p.m. \nLoyola Chicago at Florida Gulf Coast\, 6 p.m. \nMonmouth at Cleveland State\, 6 p.m. \nGeorge Washington at Southern Indiana\, 6p.m. \nSt. Bonaventure at Middle Tennessee\, 6:30 p.m. \nRadford at Arkansas State\, 7 p.m.
URL:https://www.thexradio.com/news/calendar/33298-mondays-schedule-52/
CATEGORIES:Local Sports Calendar
END:VEVENT
END:VCALENDAR