BEGIN:VCALENDAR
VERSION:2.0
PRODID:-//Effingham&#039;s News and Sports Leader, 979XFM and KJ Country 102.3 - ECPv6.15.20//NONSGML v1.0//EN
CALSCALE:GREGORIAN
METHOD:PUBLISH
X-ORIGINAL-URL:https://www.thexradio.com/news
X-WR-CALDESC:Events for Effingham&#039;s News and Sports Leader, 979XFM and KJ Country 102.3
REFRESH-INTERVAL;VALUE=DURATION:PT1H
X-Robots-Tag:noindex
X-PUBLISHED-TTL:PT1H
BEGIN:VTIMEZONE
TZID:America/Chicago
BEGIN:DAYLIGHT
TZOFFSETFROM:-0600
TZOFFSETTO:-0500
TZNAME:CDT
DTSTART:20250309T080000
END:DAYLIGHT
BEGIN:STANDARD
TZOFFSETFROM:-0500
TZOFFSETTO:-0600
TZNAME:CST
DTSTART:20251102T070000
END:STANDARD
BEGIN:DAYLIGHT
TZOFFSETFROM:-0600
TZOFFSETTO:-0500
TZNAME:CDT
DTSTART:20260308T080000
END:DAYLIGHT
BEGIN:STANDARD
TZOFFSETFROM:-0500
TZOFFSETTO:-0600
TZNAME:CST
DTSTART:20261101T070000
END:STANDARD
BEGIN:DAYLIGHT
TZOFFSETFROM:-0600
TZOFFSETTO:-0500
TZNAME:CDT
DTSTART:20270314T080000
END:DAYLIGHT
BEGIN:STANDARD
TZOFFSETFROM:-0500
TZOFFSETTO:-0600
TZNAME:CST
DTSTART:20271107T070000
END:STANDARD
END:VTIMEZONE
BEGIN:VEVENT
DTSTART;VALUE=DATE:20260322
DTEND;VALUE=DATE:20260323
DTSTAMP:20260425T130116
CREATED:20260311T181553Z
LAST-MODIFIED:20260320T114656Z
UID:32722-1774137600-1774223999@www.thexradio.com
SUMMARY:Sunday's Schedule
DESCRIPTION:COLLEGE \nMEN’S NCAA TOURNAMENT \nEast Region \nIllinois State at Wake Forest\, 3:30 p.m. \nSeattle at Auburn\, 5:30 p.m. \nUNLV at Tulsa\, 6 p.m. \nGeorge Washington at New Mexico\, 7 p.m. \nWichita State at Oklahoma State\, 7:30 p.m. \nSaint Joseph’s at California\, 8 p.m. \nWest Region \nTBD \nWOMEN’S NCAA TOURNAMENT \nWisconsin at Miami\, 11 a.m. \nEastern Kentucky at Harvard\, 1 p.m. \nColumbia at North Dakota\, 1 p.m. \nMcNeese at San Diego State\, 4 p.m. \nQuinnipiac at Stanford\, 4 p.m. \nRice at Kansas\, 5:30 p.m. \nCalifornia at Rice\, 6 p.m. \nNASCAR \nGoodyear 400\, 1 p.m.
URL:https://www.thexradio.com/news/calendar/32722-sundays-schedule-53/
CATEGORIES:Local Sports Calendar
END:VEVENT
END:VCALENDAR