BEGIN:VCALENDAR
VERSION:2.0
PRODID:-//Effingham&#039;s News and Sports Leader, 979XFM and KJ Country 102.3 - ECPv6.15.20//NONSGML v1.0//EN
CALSCALE:GREGORIAN
METHOD:PUBLISH
X-ORIGINAL-URL:https://www.thexradio.com/news
X-WR-CALDESC:Events for Effingham&#039;s News and Sports Leader, 979XFM and KJ Country 102.3
REFRESH-INTERVAL;VALUE=DURATION:PT1H
X-Robots-Tag:noindex
X-PUBLISHED-TTL:PT1H
BEGIN:VTIMEZONE
TZID:America/Chicago
BEGIN:DAYLIGHT
TZOFFSETFROM:-0600
TZOFFSETTO:-0500
TZNAME:CDT
DTSTART:20250309T080000
END:DAYLIGHT
BEGIN:STANDARD
TZOFFSETFROM:-0500
TZOFFSETTO:-0600
TZNAME:CST
DTSTART:20251102T070000
END:STANDARD
BEGIN:DAYLIGHT
TZOFFSETFROM:-0600
TZOFFSETTO:-0500
TZNAME:CDT
DTSTART:20260308T080000
END:DAYLIGHT
BEGIN:STANDARD
TZOFFSETFROM:-0500
TZOFFSETTO:-0600
TZNAME:CST
DTSTART:20261101T070000
END:STANDARD
BEGIN:DAYLIGHT
TZOFFSETFROM:-0600
TZOFFSETTO:-0500
TZNAME:CDT
DTSTART:20270314T080000
END:DAYLIGHT
BEGIN:STANDARD
TZOFFSETFROM:-0500
TZOFFSETTO:-0600
TZNAME:CST
DTSTART:20271107T070000
END:STANDARD
END:VTIMEZONE
BEGIN:VEVENT
DTSTART;VALUE=DATE:20260321
DTEND;VALUE=DATE:20260322
DTSTAMP:20260425T130007
CREATED:20260311T181420Z
LAST-MODIFIED:20260320T113230Z
UID:32720-1774051200-1774137599@www.thexradio.com
SUMMARY:Saturday's Schedule
DESCRIPTION:HIGH SCHOOL \nBaseball \nSt. Anthony at Metro East Kickoff\, TBA \nCarlyle at Altamont\, 10 a.m. \nDieterich\, Armstrong at Oblong Round Robin Tournament\, TBA \nCerro Gordo/Bement at Neoga (DH)\, 10:a.m. \nNewton in Metro East Kickoff Classic at Edwardsville\, 10 a.m. \nNorth Clay vs. LaSalle-Peru Christian School\, vs. Bethalto Civic Memorial at Metro East Kickoff Classic\, 12:15 p.m. \nSoftball \nCarterville at Effingham (DH)\, 10 a.m. \nSt. Anthony at Casey-Westfield Round Robin\, TBA \nDieterich at Arcola\, DH\, 10 a.m. \nWindsor/Stewardson-Strasburg at Robinson\, 11 a.m. \nBoys Tennis \nSt. Anthony\, Teutopolis at Triad Tennis Invitational\, 9 a.m. \nBoys Track \nEffingham at Mount Zion Mini meet\, 9 a.m. \nCumberland\, Newton\, St. Elmo/Brownstown\, Teutopolis at Gene Armer Indoor Meet at University of Illinois\, 11:30 a.m. \nGirls Track \nEffingham at Mount Zion Mini meet\, 9 a.m. \nNorth Clay at Urbana\, 11 a.m. \nNewton\, St. Elmo/Brownstown\, Teutopolis at Gene Armer Meet at University of Illinois\, 11:30 a.m. \nJUNIOR VARSITY \nBASEBALL \nSt. Anthony at Breese Mater Dei\, 11 a.m. \nJUNIOR HIGH SCHOOL \nVolleyball \nClass 8-1A State Tournament \nAt Wenona Fieldcrest \nMatch 5 — Winner Match 1 vs. Winner Match 2\, 11 a.m. \nMatch 6 — Winner Match 3 vs. Winner Match 4\, 12:15 p.m. \nMatch 7 — Loser Match 5 vs. Loser Match 6\, 2 p.m. (third place) \nMatch 8 — Winner Match 5 vs. Winner Match 6\, 3:15 p.m. (championship) \nCOLLEGE \nMen’s Basketball \nNCAA Tournament \nSecond Round \nSaint Louis vs. Michigan\, 11:10 a.m. \nLouisville vs. Michigan State\, 1:45 p.m. \nTCU vs. Duke\, 4:15 p.m. \nTexas A&M vs. Houston\, 5:10 p.m. \nTexas vs. Gonzaga\, 6:10 p.m. \nVCU vs. Illinois\, 6:50 p.m. \nVanderbilt vs. Nebraska\, 7:45 p.m. \nHigh Point vs. Arkansas\, 8:45 p.m. \nDayton vs. UNC Wilmington\, 6 p.m. \nLiberty vs. Nevada\, 8 p.m. \nWomen’s Basketball \n3) Ohio State vs. (14) Howard\, 10:30 a.m. \n(3) Louisville vs. (14) Vermont\, 11 a.m. \n(1) South Carolina vs. Southern\, noon \n(7) Georgia vs. Virginia\, 12:30 p.m. \n(6) Notre Dame vs. (11) Fairfield\, 1 p.m. \n(6) Alabama vs. (11) Rhode Island\, 1:30 p.m. \n(5) Kentucky vs. (12) James Madison\, 1:30 p.m. \n(1) UConn vs. (16) UTSA\, 2 p.m. \n(8) Clemson vs. (9) Southern California\, 2:30 p.m. \n(2) Iowa vs. (15) FDU\, 3 p.m. \n(4) West Virginia vs. (13) Miami (Ohio)\, 4 p.m. \n(8) Iowa State vs. (9) Syracuse\, 4:30 p.m. \n(2) Vanderbilt vs. (15) High Point\, 6 p.m. \n(8) Oklahoma State vs. (9) Princeton\, 6:30 p.m. \n(7) Illinois vs. (10) Colorado\, 8:30 p.m. \n(1) UCLA vs. (16) California Baptist\, 9 p.m. \nNASCAR \nSport Clips Haircuts VFW Help A Hero 200 at Darlington Raceway\, 4 p.m.
URL:https://www.thexradio.com/news/calendar/32720-saturdays-schedule-52/
CATEGORIES:Local Sports Calendar
END:VEVENT
END:VCALENDAR