BEGIN:VCALENDAR
VERSION:2.0
PRODID:-//Effingham&#039;s News and Sports Leader, 979XFM and KJ Country 102.3 - ECPv6.15.20//NONSGML v1.0//EN
CALSCALE:GREGORIAN
METHOD:PUBLISH
X-ORIGINAL-URL:https://www.thexradio.com/news
X-WR-CALDESC:Events for Effingham&#039;s News and Sports Leader, 979XFM and KJ Country 102.3
REFRESH-INTERVAL;VALUE=DURATION:PT1H
X-Robots-Tag:noindex
X-PUBLISHED-TTL:PT1H
BEGIN:VTIMEZONE
TZID:America/Chicago
BEGIN:DAYLIGHT
TZOFFSETFROM:-0600
TZOFFSETTO:-0500
TZNAME:CDT
DTSTART:20250309T080000
END:DAYLIGHT
BEGIN:STANDARD
TZOFFSETFROM:-0500
TZOFFSETTO:-0600
TZNAME:CST
DTSTART:20251102T070000
END:STANDARD
BEGIN:DAYLIGHT
TZOFFSETFROM:-0600
TZOFFSETTO:-0500
TZNAME:CDT
DTSTART:20260308T080000
END:DAYLIGHT
BEGIN:STANDARD
TZOFFSETFROM:-0500
TZOFFSETTO:-0600
TZNAME:CST
DTSTART:20261101T070000
END:STANDARD
BEGIN:DAYLIGHT
TZOFFSETFROM:-0600
TZOFFSETTO:-0500
TZNAME:CDT
DTSTART:20270314T080000
END:DAYLIGHT
BEGIN:STANDARD
TZOFFSETFROM:-0500
TZOFFSETTO:-0600
TZNAME:CST
DTSTART:20271107T070000
END:STANDARD
END:VTIMEZONE
BEGIN:VEVENT
DTSTART;VALUE=DATE:20260320
DTEND;VALUE=DATE:20260321
DTSTAMP:20260425T125915
CREATED:20260311T181259Z
LAST-MODIFIED:20260320T132036Z
UID:32718-1773964800-1774051199@www.thexradio.com
SUMMARY:Friday's Schedule
DESCRIPTION:HIGH SCHOOL \nBaseball \nEffingham at Marion\, 4:30 p.m. \nSullivan at Altamont HAS BEEN CANCELED \nHillsboro at Brownstown/St. Elmo\, 4:30 p.m. \nCowden-Herrick/Beecher City at Newton\, 4:30 p.m. \nCumberland at Shelbyville\, 4:30 p.m. \nDieterich at Robinson\, 4:30 p.m. \nNorth Clay at Metro East Kickoff Classic vs. Pleasant Plains \nTeutopolis vs Columbia at Metro Classic\, O’Fallon Blazier Fiield\, \nOkaw Valley at Windsor/Stewardson-Strasburg\, 4:30 p.m. \nSoftball \nCentral A&M at Altamont\, 4:30 p.m. \nCowden-Herrick/Beecher City at Newton\, 4:30 p.m. \nTeutopolis at Dieterich\, 4:30 p.m. \nNorth Clay at Cumberland\, 4:30 p.m. \nOkaw Valley at South Central\, 4:30 p.m. \nWindsor/Stewardson-Strasburg at Sullivan\, 4:30 p.m. \nJUNIOR VARSITY \nSoftball \nSt. Anthony at Paris\, 4:30 p.m. \nTeutopolis at Dieterich\, to follow varsity game \nJUNIOR HIGH SCHOOL \nVolleyball \nClass 8-1A State  Tournament \nAt Wenona Fieldcrest \nMatch 1 — Peoria St. Jude vs. LaSalle St. Acutis\, 4:30 p.m. \nMatch 2 — Sigel St. Michael vs. Ottawa Marquette\, 5:45 p.m. \nMatch 3 — Hartsburg-Emden vs. Carrollton St. John\, 7 p.m. \nMatch 4 — Augusta Southeastern vs. Rantoul St. Malachy\, 8:15 p.m. \nCOLLEGE BASKETBALL \nMen’s NCAA Tournament \n(First Round/Round of 64) \n(7) Kentucky vs. (10) Santa Clara\, 11:15 a.m. \n(5) Texas Tech vs. (12) Akron\, 11:40 a.m. \n(1) Arizona vs. (16) Long Island University\, 12:35 a.m. \n(3) Virginia vs. (14) Wright State\, 12:50 a.m. \n(2) Iowa State vs. (15) Tennessee State\, 1:50 p.m. \n(4) Alabama vs. (13) Hofstra\, 2:15 p.m. \n(8) Villanova vs. (9) Utah State\, 3:10 p.m. \n(6) Tennessee vs. Miami of Ohio\, 3:25 p.m. \n(8) Clemson vs. (9) Iowa\, 5:50 p.m. \n(5) St. John’s vs. (12) UNI\, 6:10 p.m. \n(7) UCLA vs. (10) UCF\, 6:25 p.m. \n(2) Purdue vs. (15) Queens\, 6:35 p.m. \n(1) Florida vs. Prairie View A&M\, 7:25 p.m. \n(4) Kansas vs. (13) Cal Baptist\, 8:45 p.m. \n(2) UConn vs. (15) Furman\, 9 p.m. \n(7) Miami (Fla.) vs. (10) Missouri\, 9:10 p.m. \nWomen’s NCAA Tournament \n(3) Duke vs. (14) Col. of Charleston\, 11:30 a.m. \n(3) TCU vs. (14) UC San Diego\, 12 p.m. \n(8) Oregon vs. (9) Virginia Tech\, 1:30 p.m. \n6) Baylor vs. Nebraska\, 2 p.m. \n(6) Washington vs. (11) South Dakota State\, 2:30 p.m. \n(5) Maryland vs. (12) Murray Statem 3 p.m. \n(5) Ole Miss vs. (12) Gonzaga\, 3:30 p.m. \n(1) Texas vs. Missouri State\, 4 p.m. \n(2) Michigan vs. (15) Holy Cross\, 5:30 p.m. \n(4) North Carolina vs. (13) Western Illinois\, 5:30 p.m. \n(2) LSU vs. (15) Jacksonville\, 6 p.m. \n(4) Minnesota vs. (13) Green Bay\, 6 p.m. \n(5) Michigan State vs. (12) Colorado State\, 7:30 p.m. \n(7) NC State vs. (10) Tennessee\, 8 p.m. \n(7) Texas Tech vs. (10) Villanova\, 8:30 p.m. \n(4) Oklahoma vs. (13) Idaho\, 10 p.m.
URL:https://www.thexradio.com/news/calendar/32718-fridays-schedule-54/
CATEGORIES:Local Sports Calendar
END:VEVENT
END:VCALENDAR