BEGIN:VCALENDAR
VERSION:2.0
PRODID:-//Effingham&#039;s News and Sports Leader, 979XFM and KJ Country 102.3 - ECPv6.15.20//NONSGML v1.0//EN
CALSCALE:GREGORIAN
METHOD:PUBLISH
X-WR-CALNAME:Effingham&#039;s News and Sports Leader, 979XFM and KJ Country 102.3
X-ORIGINAL-URL:https://www.thexradio.com/news
X-WR-CALDESC:Events for Effingham&#039;s News and Sports Leader, 979XFM and KJ Country 102.3
REFRESH-INTERVAL;VALUE=DURATION:PT1H
X-Robots-Tag:noindex
X-PUBLISHED-TTL:PT1H
BEGIN:VTIMEZONE
TZID:America/Chicago
BEGIN:DAYLIGHT
TZOFFSETFROM:-0600
TZOFFSETTO:-0500
TZNAME:CDT
DTSTART:20250309T080000
END:DAYLIGHT
BEGIN:STANDARD
TZOFFSETFROM:-0500
TZOFFSETTO:-0600
TZNAME:CST
DTSTART:20251102T070000
END:STANDARD
BEGIN:DAYLIGHT
TZOFFSETFROM:-0600
TZOFFSETTO:-0500
TZNAME:CDT
DTSTART:20260308T080000
END:DAYLIGHT
BEGIN:STANDARD
TZOFFSETFROM:-0500
TZOFFSETTO:-0600
TZNAME:CST
DTSTART:20261101T070000
END:STANDARD
BEGIN:DAYLIGHT
TZOFFSETFROM:-0600
TZOFFSETTO:-0500
TZNAME:CDT
DTSTART:20270314T080000
END:DAYLIGHT
BEGIN:STANDARD
TZOFFSETFROM:-0500
TZOFFSETTO:-0600
TZNAME:CST
DTSTART:20271107T070000
END:STANDARD
END:VTIMEZONE
BEGIN:VEVENT
DTSTART;VALUE=DATE:20260317
DTEND;VALUE=DATE:20260318
DTSTAMP:20260425T124827
CREATED:20260311T180857Z
LAST-MODIFIED:20260317T113812Z
UID:32712-1773705600-1773791999@www.thexradio.com
SUMMARY:Tuesday's Schedule
DESCRIPTION:HIGH SCHOOL \nBaseball \nAltamont at Charleston\, 4:30 p.m. \nBrownstown/St. Elmo at Shelbyville HAS BEEN CANCELED \nCumberland at Vandalia HAS BEEN POSTPONED TO WEDNESDAY\, MARCH 18 \nDieterich at Robinson HAS BEEN POSTPONED TO FRIDAY\, MARCH 20 \nNeoga at Teutopolis HAS BEEN CANCELED \nFlora at Newton HAS BEEN POSTPONED TO MONDAY\, MARCH 30 \nNorth Clay at Casey-Westfield HAS BEEN CANCELED \nWiindsor/Stewardson-Strasburg at Tri-County\, 4:30 p.m. \nSoftball \nRobinson at St. Anthony HAS BEEN CANCELED \nAltamont at Carlyle\, 4:30 p.m. \nTeutopolis at Cumberland HAS BEEN POSTPONED TO THURSDAY\, APRIL 23 \nDieterich at Marshall\, 4:30 p.m. \nOkaw Valley at Neoga\, 4:30 p.m. \nFlora at Newton HAS BEEN CANCELED \nNorth Clay at Olney\, Richland County HAS BEEN CANCELED \nNokomis at St. Elmo/Brownstown HAS BEEN CANCELED \nSouth Central at Pana\, 4:30 p.m. \nJUNIOR VARSITY \nSoftball \nRobinson at St. Anthony\, after varsity game \nOkaw Valley at Neoga\, after varsity game \nTeutopolis at Cumberland\, JV innings \nCOLLEGE BASKETBALL \nNCAA MEN’S PAIRINGS \n2026 NCAA Tournament Schedule \nAll times CST \n(First Four in Dayton\, Ohio) \n(16) UMBC vs. (16) Howard\, 5:40 p.m. \n(11) Texas vs. (11) NC State\, 8:15 p.m.
URL:https://www.thexradio.com/news/calendar/32712-tuesdays-schedule-53/
CATEGORIES:Local Sports Calendar
END:VEVENT
END:VCALENDAR