BEGIN:VCALENDAR
VERSION:2.0
PRODID:-//Effingham&#039;s News and Sports Leader, 979XFM and KJ Country 102.3 - ECPv6.15.20//NONSGML v1.0//EN
CALSCALE:GREGORIAN
METHOD:PUBLISH
X-ORIGINAL-URL:https://www.thexradio.com/news
X-WR-CALDESC:Events for Effingham&#039;s News and Sports Leader, 979XFM and KJ Country 102.3
REFRESH-INTERVAL;VALUE=DURATION:PT1H
X-Robots-Tag:noindex
X-PUBLISHED-TTL:PT1H
BEGIN:VTIMEZONE
TZID:America/Chicago
BEGIN:DAYLIGHT
TZOFFSETFROM:-0600
TZOFFSETTO:-0500
TZNAME:CDT
DTSTART:20250309T080000
END:DAYLIGHT
BEGIN:STANDARD
TZOFFSETFROM:-0500
TZOFFSETTO:-0600
TZNAME:CST
DTSTART:20251102T070000
END:STANDARD
BEGIN:DAYLIGHT
TZOFFSETFROM:-0600
TZOFFSETTO:-0500
TZNAME:CDT
DTSTART:20260308T080000
END:DAYLIGHT
BEGIN:STANDARD
TZOFFSETFROM:-0500
TZOFFSETTO:-0600
TZNAME:CST
DTSTART:20261101T070000
END:STANDARD
BEGIN:DAYLIGHT
TZOFFSETFROM:-0600
TZOFFSETTO:-0500
TZNAME:CDT
DTSTART:20270314T080000
END:DAYLIGHT
BEGIN:STANDARD
TZOFFSETFROM:-0500
TZOFFSETTO:-0600
TZNAME:CST
DTSTART:20271107T070000
END:STANDARD
END:VTIMEZONE
BEGIN:VEVENT
DTSTART;VALUE=DATE:20260316
DTEND;VALUE=DATE:20260317
DTSTAMP:20260425T130016
CREATED:20260311T180738Z
LAST-MODIFIED:20260316T192546Z
UID:32710-1773619200-1773705599@www.thexradio.com
SUMMARY:Monday's Schedule
DESCRIPTION:HIGH SCHOOL \nBaseball \nEffingham at Monticello HAS BEEN CANCELED \nLawrenceville at Dieterich HAS BEEN CANCELED \nNeoga at Marshall\, 4:30 p.m. \nNewton at Fairfield\, HAS BEEN CANCELED \nSoftball \nSt. Anthony at Neoga HAS BEEN POSTPONED TO MARCH 23 \nCumberland Dieterich HAS BEEN POSTPONED TO MAY 11 \nNorth Clay at Fairfield HAS BEEN CANCELED \nSt. Elmo/Brownstown at Shelbyville HAS BEEN POSTPONED TO MARCH 18 \nJUNIOR VARSITY \nBaseball \nNewton at Casey-Westfield HAS BEEN CANCELED \nJUNIOR HIGH SCHOOL \nVolleyball \nClass 8-2A St. Anthony Sectional \nNorth Clay or Dieterich vs. St. Anthony or Nokomis\, 6 p.m. \nClass 8-2A Sigel St. Michael Sectional \nSigel St. Michael vs. either Stew-Stras or Chrisman Scottland\, 6 p.m. \nClass 8-3A Teutopolis Sectional \nJasper County or Lawrenceville Parkview vs. either Sullivan or Shelbyville Moulton\, 6 p.m. \n  \n 
URL:https://www.thexradio.com/news/calendar/32710-32710/
CATEGORIES:Local Sports Calendar
END:VEVENT
END:VCALENDAR