BEGIN:VCALENDAR
VERSION:2.0
PRODID:-//Effingham&#039;s News and Sports Leader, 979XFM and KJ Country 102.3 - ECPv6.15.20//NONSGML v1.0//EN
CALSCALE:GREGORIAN
METHOD:PUBLISH
X-WR-CALNAME:Effingham&#039;s News and Sports Leader, 979XFM and KJ Country 102.3
X-ORIGINAL-URL:https://www.thexradio.com/news
X-WR-CALDESC:Events for Effingham&#039;s News and Sports Leader, 979XFM and KJ Country 102.3
REFRESH-INTERVAL;VALUE=DURATION:PT1H
X-Robots-Tag:noindex
X-PUBLISHED-TTL:PT1H
BEGIN:VTIMEZONE
TZID:America/Chicago
BEGIN:DAYLIGHT
TZOFFSETFROM:-0600
TZOFFSETTO:-0500
TZNAME:CDT
DTSTART:20250309T080000
END:DAYLIGHT
BEGIN:STANDARD
TZOFFSETFROM:-0500
TZOFFSETTO:-0600
TZNAME:CST
DTSTART:20251102T070000
END:STANDARD
BEGIN:DAYLIGHT
TZOFFSETFROM:-0600
TZOFFSETTO:-0500
TZNAME:CDT
DTSTART:20260308T080000
END:DAYLIGHT
BEGIN:STANDARD
TZOFFSETFROM:-0500
TZOFFSETTO:-0600
TZNAME:CST
DTSTART:20261101T070000
END:STANDARD
BEGIN:DAYLIGHT
TZOFFSETFROM:-0600
TZOFFSETTO:-0500
TZNAME:CDT
DTSTART:20270314T080000
END:DAYLIGHT
BEGIN:STANDARD
TZOFFSETFROM:-0500
TZOFFSETTO:-0600
TZNAME:CST
DTSTART:20271107T070000
END:STANDARD
END:VTIMEZONE
BEGIN:VEVENT
DTSTART;VALUE=DATE:20260314
DTEND;VALUE=DATE:20260315
DTSTAMP:20260425T124825
CREATED:20260304T154634Z
LAST-MODIFIED:20260310T154013Z
UID:32239-1773446400-1773532799@www.thexradio.com
SUMMARY:Saturday's Schedule
DESCRIPTION:HIGH SCHOOL \nBoys Basketball \nClass 1A State Tournament \nAt University of Illinois \nGame 4 – Winner Game 1 vs. Winner Game 2\, 10 a.m. (championship) \nClass 2A State Tournament \nAt University of Illinois \nGame 4 – Winner Game 1 vs. Winner Game 2\, noon (championship) \nClass 3A State Tournament \nAt University of Illinois \nGame 4 — Winner Game 1 vs. Winner Game 2\, 4 p.m. (championship) \nClass 4A State Tournament \nAt University of Illinois \nGame 4 — Winner Game 1 vs. Winner Game 2 (championship)\, 6 p.m. \nBoys Track \nEffingham at Apollo Conference Indoor Meet at Mount Zion\, 10 a.m. \nAltamont\, Cumberland at Central Illinois High Performance Classic\, 9:30 a.m. \nGirls Track \nEffingham\, Newton at Apollo Conference Indoor Meet at Mount Zion\, 10 a.m. \nAltamont\, Cumberland at Central Illinois High Performance Classic\, 9:30 a.m. \nJUNIOR HIGH SCHOOL \nVolleyball \nClass 7-1A State Tournament \nAt Clinton Junior High School \nSemifinals \nMatch 5 — Winner Match 1 vs. Winner Match 2\, 11 a.m. \nMatch 6 — Winner Match 3 vs. Winner Match 4\, 12:15 p.m. \nThird Place \nGame 7 — Loser Match 5 vs. Loser Match 6\, 2 p.m. (third place) \nGame 8 — Winner Match 5 vs. Winner Match 6\, 3:1 5p.m. (championship) \nCOLLEGE \nMen’s Basketball \nBig Ten Tournament \nSemifinals \nWinner Gm 11 vs. Winner Gm 12\, noon \nWinner Gm 13 vs. Winner Gm 14 25 minutes after first game \nAll games will be broadcast on Big Ten Network (BTN) or CBS \nNASCAR \nThe LiUNA! At Las Vegas Motor Speedway\, 4 p.m.
URL:https://www.thexradio.com/news/calendar/32239-saturdays-schedule-51/
CATEGORIES:Local Sports Calendar
END:VEVENT
END:VCALENDAR