BEGIN:VCALENDAR
VERSION:2.0
PRODID:-//Effingham&#039;s News and Sports Leader, 979XFM and KJ Country 102.3 - ECPv6.15.20//NONSGML v1.0//EN
CALSCALE:GREGORIAN
METHOD:PUBLISH
X-WR-CALNAME:Effingham&#039;s News and Sports Leader, 979XFM and KJ Country 102.3
X-ORIGINAL-URL:https://www.thexradio.com/news
X-WR-CALDESC:Events for Effingham&#039;s News and Sports Leader, 979XFM and KJ Country 102.3
REFRESH-INTERVAL;VALUE=DURATION:PT1H
X-Robots-Tag:noindex
X-PUBLISHED-TTL:PT1H
BEGIN:VTIMEZONE
TZID:America/Chicago
BEGIN:DAYLIGHT
TZOFFSETFROM:-0600
TZOFFSETTO:-0500
TZNAME:CDT
DTSTART:20250309T080000
END:DAYLIGHT
BEGIN:STANDARD
TZOFFSETFROM:-0500
TZOFFSETTO:-0600
TZNAME:CST
DTSTART:20251102T070000
END:STANDARD
BEGIN:DAYLIGHT
TZOFFSETFROM:-0600
TZOFFSETTO:-0500
TZNAME:CDT
DTSTART:20260308T080000
END:DAYLIGHT
BEGIN:STANDARD
TZOFFSETFROM:-0500
TZOFFSETTO:-0600
TZNAME:CST
DTSTART:20261101T070000
END:STANDARD
BEGIN:DAYLIGHT
TZOFFSETFROM:-0600
TZOFFSETTO:-0500
TZNAME:CDT
DTSTART:20270314T080000
END:DAYLIGHT
BEGIN:STANDARD
TZOFFSETFROM:-0500
TZOFFSETTO:-0600
TZNAME:CST
DTSTART:20271107T070000
END:STANDARD
END:VTIMEZONE
BEGIN:VEVENT
DTSTART;VALUE=DATE:20260307
DTEND;VALUE=DATE:20260308
DTSTAMP:20260425T124819
CREATED:20260225T183938Z
LAST-MODIFIED:20260306T114522Z
UID:31628-1772841600-1772927999@www.thexradio.com
SUMMARY:Saturday's Schedule
DESCRIPTION:HIGH SCHOOL \nGirls Basketball \nClass 1A State Tournament \nAt CEFCU Arena \nGame 4 – Mt. Pulaski vs. Deer Creek- Mackinaw\, 10 a.m. (championship) \nClass 2A State Tournament \nAt CEFCU Arena \nGame 4 – Breese Central vs. Byron\, noon (championship) \nClass 3A State Tournament \nAt CEFCU Arena \nGame 4 — Winner Game 1 vs. Winner Game 2 (championship)\, 4 p.m. \nClass 4A State Tournament \nAt CEFCU Arena \nGame 4 — Winner Game 1 vs. Winner Game 2 (championship)\, 6 p.m. \nBoys Track \nEastern Illinois University Indoor Meet at Charleston\, 9 a.m. \nJUNIOR HIGH SCHOOL \nVolleyball \nClass 8-1A Chrisman Scottland  Regional \nMatch 1 — Hume Shiloh vs. Windsor\, 9 a.m. \nMatch 2 — Philo St. Thomas vs. Findlay Okaw Valley\, 10:15 a.m. \nMatch 3 — Stewardson-Strasburg vs. Homer Heritage\, 11P30 a.m. \nClass 8-1A Martinsville Regional \nMatch 1 — Altamont Lutheran vs. Newton St. Thomas\, 9 a.m. \nMatch 2 — Martinsville vs. Effingham Sacred Heart\, 10;15 a.m. \nMatch 3 — West Salem vs. Grayville\, 11:30 a.m. \nClass 7-2A Morrisonville Regional \nMatch 1 — Cowden-Herrick/Beecher City vs. Nokomis\, 9 a.m. \nMatch 2 — South Central vs. Altamont\, 10:15 a.m. \nMatch 3 — Effingham St. Anthony vs. St. Elmo/Brownstown\, 11:30 a.m. \nClass 8-2A North Clay Regional \nMatch 1 — Albion vs. Casey-Westfield\, 10 a.m. \nMatch 2 — Oblong vs. Hutsonville\, 11:15 a.m. \nMatch 3 — Dieterich vs. Neoga\, 12:30 p.m. \nClass 8-3A Lawrenceville Parkview Regional \nMatch 1 — Lawrenceville Parkview vs. Red Hill (Bridgeport)\, 9 a.m. \nMatch 2 — Marshall vs. Paris Mayo\, 10 a.m. \nMatch 2 — Jasper County vs. Teutopolis\, 11 a.m. \nMatch 3 — Robinson Nuttall vs. Cumberland\, noon \nMEN’S COLLEGE BASKETBALL \nOhio Valley Conference Tournament \nAt Evansville\, Indiana \nGame 7 — Winner Game 5 vs. Winner Game 6\, 8 p.m. (championship) \nNASCAR \nGOVX 200 at Phoenix Raceway
URL:https://www.thexradio.com/news/calendar/31628-saturdays-schedule-50/
CATEGORIES:Local Sports Calendar
END:VEVENT
END:VCALENDAR