BEGIN:VCALENDAR
VERSION:2.0
PRODID:-//Effingham&#039;s News and Sports Leader, 979XFM and KJ Country 102.3 - ECPv6.15.20//NONSGML v1.0//EN
CALSCALE:GREGORIAN
METHOD:PUBLISH
X-ORIGINAL-URL:https://www.thexradio.com/news
X-WR-CALDESC:Events for Effingham&#039;s News and Sports Leader, 979XFM and KJ Country 102.3
REFRESH-INTERVAL;VALUE=DURATION:PT1H
X-Robots-Tag:noindex
X-PUBLISHED-TTL:PT1H
BEGIN:VTIMEZONE
TZID:America/Chicago
BEGIN:DAYLIGHT
TZOFFSETFROM:-0600
TZOFFSETTO:-0500
TZNAME:CDT
DTSTART:20250309T080000
END:DAYLIGHT
BEGIN:STANDARD
TZOFFSETFROM:-0500
TZOFFSETTO:-0600
TZNAME:CST
DTSTART:20251102T070000
END:STANDARD
BEGIN:DAYLIGHT
TZOFFSETFROM:-0600
TZOFFSETTO:-0500
TZNAME:CDT
DTSTART:20260308T080000
END:DAYLIGHT
BEGIN:STANDARD
TZOFFSETFROM:-0500
TZOFFSETTO:-0600
TZNAME:CST
DTSTART:20261101T070000
END:STANDARD
BEGIN:DAYLIGHT
TZOFFSETFROM:-0600
TZOFFSETTO:-0500
TZNAME:CDT
DTSTART:20270314T080000
END:DAYLIGHT
BEGIN:STANDARD
TZOFFSETFROM:-0500
TZOFFSETTO:-0600
TZNAME:CST
DTSTART:20271107T070000
END:STANDARD
END:VTIMEZONE
BEGIN:VEVENT
DTSTART;VALUE=DATE:20260306
DTEND;VALUE=DATE:20260307
DTSTAMP:20260425T125916
CREATED:20260225T183710Z
LAST-MODIFIED:20260306T113952Z
UID:31626-1772755200-1772841599@www.thexradio.com
SUMMARY:Friday's Schedule
DESCRIPTION:HIGH SCHOOL \nBoys Basketball \nClass 1A Macon Meridian Sectional Championship \nGame 3 – Altamont vs. Lawrenceville\, 7 p.m. (Listen on 97.9 XFM) \nClass 2A Monticello Sectional Championship \nGame 3 — Teutopolis vs. Tolono Unity\, 6:30 p.m. (Listen on KJ Country 102.3) \nGirls Basketball \nClass 3A State Tournament \nAt CEFCU Arena \nGame 1 — (1) River Forest Trinity vs. (1) Chatham Glenwood\, 10 a.m. \nGame 2 — (3) Arlington Heights St. Viator vs. (1) Washington\, 11:45 a.m. \nGame 3 — Loser Game 1 vs. Loser Game 2 (third place)\, 7 p.m. \nClass 4A State Tournament \nAt CEFCU Arena \nGame 1 — (2) Belleville East vs. (1) LaGrange Park Nazareth Academy\, 2:30 p.m. \nGame 2 — (1) Wilmette Loyola Academy vs. (5) Rolling Meadows\, 4:15 p.m. \nGame 3 — Loser Game 1 vs. Loser Game 2 (third place)\, 8:15 p.m. \nGirls Track \nEastern Illinois University Indoor Meet\, noon \nMEN’S COLLEGE BASKETBALL \nOhio Valley Conference Tournament \nAt Evansville\, Indiana \nGame 4 — Tennessee State vs. UT Martin\, 7 p.m. \nGame 6 — Morehead State vs. Southeast Missouri State\, 9:30 p.m.
URL:https://www.thexradio.com/news/calendar/31626-fridays-schedule-52/
CATEGORIES:Local Sports Calendar
END:VEVENT
END:VCALENDAR