BEGIN:VCALENDAR
VERSION:2.0
PRODID:-//Effingham&#039;s News and Sports Leader, 979XFM and KJ Country 102.3 - ECPv6.15.20//NONSGML v1.0//EN
CALSCALE:GREGORIAN
METHOD:PUBLISH
X-ORIGINAL-URL:https://www.thexradio.com/news
X-WR-CALDESC:Events for Effingham&#039;s News and Sports Leader, 979XFM and KJ Country 102.3
REFRESH-INTERVAL;VALUE=DURATION:PT1H
X-Robots-Tag:noindex
X-PUBLISHED-TTL:PT1H
BEGIN:VTIMEZONE
TZID:America/Chicago
BEGIN:DAYLIGHT
TZOFFSETFROM:-0600
TZOFFSETTO:-0500
TZNAME:CDT
DTSTART:20250309T080000
END:DAYLIGHT
BEGIN:STANDARD
TZOFFSETFROM:-0500
TZOFFSETTO:-0600
TZNAME:CST
DTSTART:20251102T070000
END:STANDARD
BEGIN:DAYLIGHT
TZOFFSETFROM:-0600
TZOFFSETTO:-0500
TZNAME:CDT
DTSTART:20260308T080000
END:DAYLIGHT
BEGIN:STANDARD
TZOFFSETFROM:-0500
TZOFFSETTO:-0600
TZNAME:CST
DTSTART:20261101T070000
END:STANDARD
BEGIN:DAYLIGHT
TZOFFSETFROM:-0600
TZOFFSETTO:-0500
TZNAME:CDT
DTSTART:20270314T080000
END:DAYLIGHT
BEGIN:STANDARD
TZOFFSETFROM:-0500
TZOFFSETTO:-0600
TZNAME:CST
DTSTART:20271107T070000
END:STANDARD
END:VTIMEZONE
BEGIN:VEVENT
DTSTART;VALUE=DATE:20260304
DTEND;VALUE=DATE:20260305
DTSTAMP:20260425T130008
CREATED:20260225T183452Z
LAST-MODIFIED:20260304T140624Z
UID:31622-1772582400-1772668799@www.thexradio.com
SUMMARY:Wednesday's Schedule
DESCRIPTION:HIGH SCHOOL \nBoys Basketball \nClass 1A Macon Meridian Sectional \nGame 2 – Lawrenceville vs. Casey-Westfield\, 7 p.m. \nClass 2A Monticello Sectional \nGame 2 – Tolono Unity vs. Fairfield\, 6:30 p.m. \nJUNIOR HIGH SCHOOL \nVolleyball \nClass 7-1A Grayville Regional \nMatch 6 – West Salem vs. Altamont Lutheran\, 6 p.m. (championship) \nClass 7-4A Taylorville Regional \nMatch 7 – Taylorville vs. Chatham Glenwood\, 6 p.m. (championship) \nMEN’S COLLEGE BASKETBALL \nOhio Valley Conference Tournament \nAt Evansville\, Indiana \nGame 1 — Eastern Illinois vs. Southern Illinois University-Edwardsville\, 6 p.m. \nGame 2 — Lindenwood vs. Little Rock\, 8:30 p.m.
URL:https://www.thexradio.com/news/calendar/31622-wednesdays-schedule-52/
CATEGORIES:Local Sports Calendar
END:VEVENT
END:VCALENDAR