BEGIN:VCALENDAR
VERSION:2.0
PRODID:-//Effingham&#039;s News and Sports Leader, 979XFM and KJ Country 102.3 - ECPv6.15.20//NONSGML v1.0//EN
CALSCALE:GREGORIAN
METHOD:PUBLISH
X-ORIGINAL-URL:https://www.thexradio.com/news
X-WR-CALDESC:Events for Effingham&#039;s News and Sports Leader, 979XFM and KJ Country 102.3
REFRESH-INTERVAL;VALUE=DURATION:PT1H
X-Robots-Tag:noindex
X-PUBLISHED-TTL:PT1H
BEGIN:VTIMEZONE
TZID:America/Chicago
BEGIN:DAYLIGHT
TZOFFSETFROM:-0600
TZOFFSETTO:-0500
TZNAME:CDT
DTSTART:20250309T080000
END:DAYLIGHT
BEGIN:STANDARD
TZOFFSETFROM:-0500
TZOFFSETTO:-0600
TZNAME:CST
DTSTART:20251102T070000
END:STANDARD
BEGIN:DAYLIGHT
TZOFFSETFROM:-0600
TZOFFSETTO:-0500
TZNAME:CDT
DTSTART:20260308T080000
END:DAYLIGHT
BEGIN:STANDARD
TZOFFSETFROM:-0500
TZOFFSETTO:-0600
TZNAME:CST
DTSTART:20261101T070000
END:STANDARD
BEGIN:DAYLIGHT
TZOFFSETFROM:-0600
TZOFFSETTO:-0500
TZNAME:CDT
DTSTART:20270314T080000
END:DAYLIGHT
BEGIN:STANDARD
TZOFFSETFROM:-0500
TZOFFSETTO:-0600
TZNAME:CST
DTSTART:20271107T070000
END:STANDARD
END:VTIMEZONE
BEGIN:VEVENT
DTSTART;VALUE=DATE:20260303
DTEND;VALUE=DATE:20260304
DTSTAMP:20260425T130115
CREATED:20260225T183326Z
LAST-MODIFIED:20260302T124059Z
UID:31620-1772496000-1772582399@www.thexradio.com
SUMMARY:Tuesday's Schedule
DESCRIPTION:HIGH SCHOOL \nBoys Basketball \nClass 1A Macon Meridian Sectional \nGame 1 – Tuscola vs. Altamont\, 7 p.m. (LISTEN ON 979XFM) \nClass 2A Monticello Sectional \nGame 1 – Teutopolis vs. Warrensburg-Latham\, 6:30 p.m. (LISTEN ON KJ COUNTRY 102.3) \nJUNIOR HIGH SCHOOL \nVolleyball \nClass 7-2A St. Elmo/Brownstown Regional \nMatch 4 – Morrisonville vs. Nokomis\, 5:30 p.m. \nMatch 5 – South Central vs. St. Elmo/Brownstown\, 6:30 p.m. \nClass 7-3A Teutopolis Regional \nMatch 5 – Teutopolis vs. Paris Mayo\, 6 p.m. \nMatch 6 – Jasper County vs. Cumberland\, 7 p.m. \nMEN’S COLLEGE BASKETBALL \nOregon at University of Illinois\, 8 p.m.
URL:https://www.thexradio.com/news/calendar/31620-tuesdays-schedule-51/
CATEGORIES:Local Sports Calendar
END:VEVENT
END:VCALENDAR