BEGIN:VCALENDAR
VERSION:2.0
PRODID:-//Effingham&#039;s News and Sports Leader, 979XFM and KJ Country 102.3 - ECPv6.15.20//NONSGML v1.0//EN
CALSCALE:GREGORIAN
METHOD:PUBLISH
X-WR-CALNAME:Effingham&#039;s News and Sports Leader, 979XFM and KJ Country 102.3
X-ORIGINAL-URL:https://www.thexradio.com/news
X-WR-CALDESC:Events for Effingham&#039;s News and Sports Leader, 979XFM and KJ Country 102.3
REFRESH-INTERVAL;VALUE=DURATION:PT1H
X-Robots-Tag:noindex
X-PUBLISHED-TTL:PT1H
BEGIN:VTIMEZONE
TZID:America/Chicago
BEGIN:DAYLIGHT
TZOFFSETFROM:-0600
TZOFFSETTO:-0500
TZNAME:CDT
DTSTART:20250309T080000
END:DAYLIGHT
BEGIN:STANDARD
TZOFFSETFROM:-0500
TZOFFSETTO:-0600
TZNAME:CST
DTSTART:20251102T070000
END:STANDARD
BEGIN:DAYLIGHT
TZOFFSETFROM:-0600
TZOFFSETTO:-0500
TZNAME:CDT
DTSTART:20260308T080000
END:DAYLIGHT
BEGIN:STANDARD
TZOFFSETFROM:-0500
TZOFFSETTO:-0600
TZNAME:CST
DTSTART:20261101T070000
END:STANDARD
BEGIN:DAYLIGHT
TZOFFSETFROM:-0600
TZOFFSETTO:-0500
TZNAME:CDT
DTSTART:20270314T080000
END:DAYLIGHT
BEGIN:STANDARD
TZOFFSETFROM:-0500
TZOFFSETTO:-0600
TZNAME:CST
DTSTART:20271107T070000
END:STANDARD
END:VTIMEZONE
BEGIN:VEVENT
DTSTART;VALUE=DATE:20260302
DTEND;VALUE=DATE:20260303
DTSTAMP:20260425T124813
CREATED:20260225T183157Z
LAST-MODIFIED:20260302T124032Z
UID:31618-1772409600-1772495999@www.thexradio.com
SUMMARY:Monday's Schedule
DESCRIPTION:HIGH SCHOOL \nGirls Basketball \nClass 2A Benton Super-Sectional \nGame 1 – Breese Central vs. Teutopolis\, 6 p.m. (LISTEN ON KJ COUNTRY 102.3) \nJUNIOR HIGH SCHOOL \nVolleyball \nClass 7-1A Grayville Regional \nMatch 4 – West Salem vs. Martinsville\, 6 p.m. \nMatch 5 – Newton St. Thomas vs. Altamont Lutheran\, 7 p.m. \nClass 7-1A Chrisman Scottland Regional \nMatch 4 – Chrisman Scottland vs. Philo St. Thomas\, 6 p.m. \nMatch 5 – Windsor vs. Stewardson-Strasburg\, 7 p.m. \nClass 7-2A Oblong Regional \nMatch 4 – Casey-Westfield vs. Oblong\, 4:30 p.m. \nMatch 5 — North Clay vs. Albion\, 5:30 p.m. \nClass 7-4A Taylorville Regional \nMatch 5 – Taylorville vs. Effingham\, 5 p.m. \nMatch 6 – Chatham Glenwood vs. Rochester\, 6 p.m.
URL:https://www.thexradio.com/news/calendar/31618-mondays-schedule-50/
CATEGORIES:Local Sports Calendar
END:VEVENT
END:VCALENDAR