BEGIN:VCALENDAR
VERSION:2.0
PRODID:-//Effingham&#039;s News and Sports Leader, 979XFM and KJ Country 102.3 - ECPv6.15.20//NONSGML v1.0//EN
CALSCALE:GREGORIAN
METHOD:PUBLISH
X-ORIGINAL-URL:https://www.thexradio.com/news
X-WR-CALDESC:Events for Effingham&#039;s News and Sports Leader, 979XFM and KJ Country 102.3
REFRESH-INTERVAL;VALUE=DURATION:PT1H
X-Robots-Tag:noindex
X-PUBLISHED-TTL:PT1H
BEGIN:VTIMEZONE
TZID:America/Chicago
BEGIN:DAYLIGHT
TZOFFSETFROM:-0600
TZOFFSETTO:-0500
TZNAME:CDT
DTSTART:20250309T080000
END:DAYLIGHT
BEGIN:STANDARD
TZOFFSETFROM:-0500
TZOFFSETTO:-0600
TZNAME:CST
DTSTART:20251102T070000
END:STANDARD
BEGIN:DAYLIGHT
TZOFFSETFROM:-0600
TZOFFSETTO:-0500
TZNAME:CDT
DTSTART:20260308T080000
END:DAYLIGHT
BEGIN:STANDARD
TZOFFSETFROM:-0500
TZOFFSETTO:-0600
TZNAME:CST
DTSTART:20261101T070000
END:STANDARD
BEGIN:DAYLIGHT
TZOFFSETFROM:-0600
TZOFFSETTO:-0500
TZNAME:CDT
DTSTART:20270314T080000
END:DAYLIGHT
BEGIN:STANDARD
TZOFFSETFROM:-0500
TZOFFSETTO:-0600
TZNAME:CST
DTSTART:20271107T070000
END:STANDARD
END:VTIMEZONE
BEGIN:VEVENT
DTSTART;VALUE=DATE:20260226
DTEND;VALUE=DATE:20260227
DTSTAMP:20260425T141356
CREATED:20260223T122852Z
LAST-MODIFIED:20260226T204731Z
UID:31234-1772064000-1772150399@www.thexradio.com
SUMMARY:Thursday's Schedule
DESCRIPTION:HIGH SCHOOL \nGirls Basketball \nClass 1A Argenta-Oreana Sectional \nMount Pulaski vs. Cumberland\, 6 p.m. (championship) (LISTEN ON 979XFM) \nClass 1A Wayne City Sectional \nBrownstown/St. Elmo vs. Edwards County (Albion)\, 6:30 p.m. (championship) \nClass 2A Olney Sectional \nParis vs. Teutopolis\, 6 p.m. (championship) (LISTEN ON KJ COUNTRY 102.3) \nJUNIOR HIGH SCHOOL \nVolleyball \nEffingham at Cumberland\, 4:30 p.m. \nSt. Anthony at Cowden-Herrick/Beecher City\, 4:15 p.m. \nSigel St. Michael at Altamont Lutheran\, 4:30 p.m. \nNeoga at North Clay\, 4:30 p.m. \nTeutopolis at Newton St. Thomas\, 4:30 p.m. \nMEN’S COLLEGE BASKETBALL \nEastern Illinois University at Lindenwood\, 7:30 p.m.
URL:https://www.thexradio.com/news/calendar/31234-thursdays-schedule-50/
CATEGORIES:Local Sports Calendar
END:VEVENT
END:VCALENDAR