BEGIN:VCALENDAR
VERSION:2.0
PRODID:-//Effingham&#039;s News and Sports Leader, 979XFM and KJ Country 102.3 - ECPv6.15.20//NONSGML v1.0//EN
CALSCALE:GREGORIAN
METHOD:PUBLISH
X-WR-CALNAME:Effingham&#039;s News and Sports Leader, 979XFM and KJ Country 102.3
X-ORIGINAL-URL:https://www.thexradio.com/news
X-WR-CALDESC:Events for Effingham&#039;s News and Sports Leader, 979XFM and KJ Country 102.3
REFRESH-INTERVAL;VALUE=DURATION:PT1H
X-Robots-Tag:noindex
X-PUBLISHED-TTL:PT1H
BEGIN:VTIMEZONE
TZID:America/Chicago
BEGIN:DAYLIGHT
TZOFFSETFROM:-0600
TZOFFSETTO:-0500
TZNAME:CDT
DTSTART:20250309T080000
END:DAYLIGHT
BEGIN:STANDARD
TZOFFSETFROM:-0500
TZOFFSETTO:-0600
TZNAME:CST
DTSTART:20251102T070000
END:STANDARD
BEGIN:DAYLIGHT
TZOFFSETFROM:-0600
TZOFFSETTO:-0500
TZNAME:CDT
DTSTART:20260308T080000
END:DAYLIGHT
BEGIN:STANDARD
TZOFFSETFROM:-0500
TZOFFSETTO:-0600
TZNAME:CST
DTSTART:20261101T070000
END:STANDARD
BEGIN:DAYLIGHT
TZOFFSETFROM:-0600
TZOFFSETTO:-0500
TZNAME:CDT
DTSTART:20270314T080000
END:DAYLIGHT
BEGIN:STANDARD
TZOFFSETFROM:-0500
TZOFFSETTO:-0600
TZNAME:CST
DTSTART:20271107T070000
END:STANDARD
END:VTIMEZONE
BEGIN:VEVENT
DTSTART;VALUE=DATE:20260224
DTEND;VALUE=DATE:20260225
DTSTAMP:20260425T141228
CREATED:20260223T122541Z
LAST-MODIFIED:20260223T151828Z
UID:31224-1771891200-1771977599@www.thexradio.com
SUMMARY:Tuesday's Schedule
DESCRIPTION:HIGH SCHOOL \nGirls Basketball \nClass 1A Argenta-Oreana Sectional \nGame 1 –Mount Pulaski vs. Hume Shiloh\, 6 p.m. \nGame 2 – Catlin Salt Fork vs. Cumberland\, 7:30 p.m. (LISTEN ON 979XFM) \nClass 1A Wayne City Sectional \nGame 1 – Brownstown/St. Elmo vs. Christopher\, 6 p.m. \nGame 2 – Sesser Valier vs. Edwards County (Albion)\, 7:30 p.m. \nClass 2A Olney Sectional \nGame 1 — Paris vs. Olney\, Richland County\, 6 p.m. \nGame 2– Mount Carmel vs. Teutopolis\, 7:30 p.m. (LISTEN ON KJ COUNTRY 102.3) \nJUNIOR HIGH SCHOOL \nVolleyball \nEffingham at Mattoon\, 5 p.m. \nEffingham Sacred Heart at Mattoon St. John’s\, 6 p.m. \nCowden-Herrick/Beecher City at Altamont\, 4:15 p.m. \nCumberland at Dieterich\, 4:30 p.m. \nNeoga at Casey-Westfield\, 4:30 p.m. \nNorth Clay at Jasper County\, 6 p.m. \nMartinsville at Sigel St. Michael\, 6 p.m. \nStewardson Trinity Lutheran at Teutopolis\, 4:30 p.m. \nWindsor at Arthur-Lovington/Atwood-Hammond\, 6 p.m.
URL:https://www.thexradio.com/news/calendar/31224-tuesdays-schedule-50/
CATEGORIES:Local Sports Calendar
END:VEVENT
END:VCALENDAR