BEGIN:VCALENDAR
VERSION:2.0
PRODID:-//Effingham&#039;s News and Sports Leader, 979XFM and KJ Country 102.3 - ECPv6.15.20//NONSGML v1.0//EN
CALSCALE:GREGORIAN
METHOD:PUBLISH
X-WR-CALNAME:Effingham&#039;s News and Sports Leader, 979XFM and KJ Country 102.3
X-ORIGINAL-URL:https://www.thexradio.com/news
X-WR-CALDESC:Events for Effingham&#039;s News and Sports Leader, 979XFM and KJ Country 102.3
REFRESH-INTERVAL;VALUE=DURATION:PT1H
X-Robots-Tag:noindex
X-PUBLISHED-TTL:PT1H
BEGIN:VTIMEZONE
TZID:America/Chicago
BEGIN:DAYLIGHT
TZOFFSETFROM:-0600
TZOFFSETTO:-0500
TZNAME:CDT
DTSTART:20250309T080000
END:DAYLIGHT
BEGIN:STANDARD
TZOFFSETFROM:-0500
TZOFFSETTO:-0600
TZNAME:CST
DTSTART:20251102T070000
END:STANDARD
BEGIN:DAYLIGHT
TZOFFSETFROM:-0600
TZOFFSETTO:-0500
TZNAME:CDT
DTSTART:20260308T080000
END:DAYLIGHT
BEGIN:STANDARD
TZOFFSETFROM:-0500
TZOFFSETTO:-0600
TZNAME:CST
DTSTART:20261101T070000
END:STANDARD
BEGIN:DAYLIGHT
TZOFFSETFROM:-0600
TZOFFSETTO:-0500
TZNAME:CDT
DTSTART:20270314T080000
END:DAYLIGHT
BEGIN:STANDARD
TZOFFSETFROM:-0500
TZOFFSETTO:-0600
TZNAME:CST
DTSTART:20271107T070000
END:STANDARD
END:VTIMEZONE
BEGIN:VEVENT
DTSTART;VALUE=DATE:20260223
DTEND;VALUE=DATE:20260224
DTSTAMP:20260425T141226
CREATED:20260223T121908Z
LAST-MODIFIED:20260223T122110Z
UID:31215-1771804800-1771891199@www.thexradio.com
SUMMARY:Monday's Schedule
DESCRIPTION:HIGH SCHOOL \nBoys Basketball \nClass 1A Casey-Westfield Regional \nGame 1 – Chrisman at Casey-Westfield\, 6 p.m. \nGame 2 – Broadlands Heritage at Arcola\, 6 p.m. \nGame 3 – Arthur-Lovington/Atwood-Hammond at Cumberland\, 6:30 p.m. \nGame 4 – Neoga at Moweaqua Central A&M\, 6 p.m. \nClass 1A Tuscola Regional \nGame 1 – Martinsville at Tuscola\, 6 p.m. \nGame 2 – Cowden-Herrick/Beecher City at Hume Shiloh Co-op\, 6 p.m. \nGame 3 – Villa Grove at Windsor/Stewardson-Strasburg\, 6 p.m. \nGame 4 – Macon Meridian at Bethany Okaw Valley\, 6 p.m. \nClass 1A North Clay Regional \nGame 1 – Ramsey Co-op at Lawrenceville\, 6 p.m. \nGame 2 – Patoka Co-op at Red Hill (Bridgeport)\, 6:30 p.m. \nGame 3 – South Central at North Clay\, 7 p.m. \nGame 4 – Grayville at Dieterich\, 6 p.m. \nClass 1A Altamont Regional \nGame 1 – Centralia Christ Our Rock Lutheran at Bluford (Webber Township)\, 7 p.m. \nGame 2 – Wayne City at St. Elmo/Brownstown\, 6 p.m. \nGame 3 – Sandoval at Altamont\, 6:30 p.m. \nGame 4 – Cisne at Edwards County (Albion)\, 7 p.m. \nClass 2A Vandalia Regional \nGame 1 – Flora at Vandalia\, 6 p.m. \nGame 2 – Olney at Effingham\, 6 p.m. \nClass 2A Robinson Regional \nGame 1 – Robinson at Mount Carmel\, 6 p.m. \nGame 2 – Hutsonville/Palestine/Oblong at Newton\, 6:30 p.m. \nJUNIOR HIGH SCHOOL \nVolleyball \nCumberland at Altamont\, 4:30 p.m. \nSigel St. Michael at Teutopolis\, 4:30 p.m. \nOlney at Jasper County\, 4:30 p.m. \nNorth Clay at Flora Floyd Henson\, 4:45 p.m. \nSt. Elmo/Brownstown at Neoga\, 4:30 p.m. \nWindsor at Arcola\, 6 p.m.
URL:https://www.thexradio.com/news/calendar/31215-mondays-schedule-49/
CATEGORIES:Local Sports Calendar
END:VEVENT
END:VCALENDAR