BEGIN:VCALENDAR
VERSION:2.0
PRODID:-//Effingham&#039;s News and Sports Leader, 979XFM and KJ Country 102.3 - ECPv6.15.20//NONSGML v1.0//EN
CALSCALE:GREGORIAN
METHOD:PUBLISH
X-WR-CALNAME:Effingham&#039;s News and Sports Leader, 979XFM and KJ Country 102.3
X-ORIGINAL-URL:https://www.thexradio.com/news
X-WR-CALDESC:Events for Effingham&#039;s News and Sports Leader, 979XFM and KJ Country 102.3
REFRESH-INTERVAL;VALUE=DURATION:PT1H
X-Robots-Tag:noindex
X-PUBLISHED-TTL:PT1H
BEGIN:VTIMEZONE
TZID:America/Chicago
BEGIN:DAYLIGHT
TZOFFSETFROM:-0600
TZOFFSETTO:-0500
TZNAME:CDT
DTSTART:20250309T080000
END:DAYLIGHT
BEGIN:STANDARD
TZOFFSETFROM:-0500
TZOFFSETTO:-0600
TZNAME:CST
DTSTART:20251102T070000
END:STANDARD
BEGIN:DAYLIGHT
TZOFFSETFROM:-0600
TZOFFSETTO:-0500
TZNAME:CDT
DTSTART:20260308T080000
END:DAYLIGHT
BEGIN:STANDARD
TZOFFSETFROM:-0500
TZOFFSETTO:-0600
TZNAME:CST
DTSTART:20261101T070000
END:STANDARD
BEGIN:DAYLIGHT
TZOFFSETFROM:-0600
TZOFFSETTO:-0500
TZNAME:CDT
DTSTART:20270314T080000
END:DAYLIGHT
BEGIN:STANDARD
TZOFFSETFROM:-0500
TZOFFSETTO:-0600
TZNAME:CST
DTSTART:20271107T070000
END:STANDARD
END:VTIMEZONE
BEGIN:VEVENT
DTSTART;VALUE=DATE:20260221
DTEND;VALUE=DATE:20260222
DTSTAMP:20260425T141113
CREATED:20260212T154832Z
LAST-MODIFIED:20260213T201426Z
UID:30519-1771632000-1771718399@www.thexradio.com
SUMMARY:Saturday's Schedule
DESCRIPTION:HIGH SCHOOL \nWrestling \nState\, TBA \nTrack \nCumberland at Mount Zion Indoor Meet\, TBA \nJUNIOR HIGH SCHOOL \nVolleyball \nNational Trail Conference Eighth-Grade Tournament \nAt Windsor \nNew Gym \nMatch 5 — South Central vs. Winner Match 1\, 9 a.m. \nMatch 7 — Sigel  St. Michael vs. Winner Match 2\, 10 a.m. \nMatch 9 — Loser Match 5 vs. Loser Match 7\, 11 a.m. \nMatch 11 — Winner Match 5 vs. Winner Match 7\, 12:30 p.m. \nMatch 14 — Loser Match 11 vs. Loser Match 12\, 1:30 p.m. (third place) \nMatch 15 — Winner Match 11 vs. Winner  Match 12\, 2:30 p.m. (championship) \nOld Gym \nMatch 6 — North  Clay vs. Winner Game 3\, 9 a.m. \nMatch 8 — Cumberland vs. Winner Match 4\, 10 a.m. \nMatch 10 — Loser Match 6 vs. Loser Match 8\, 11 a.m. \nMatch 12 — Winner Match 6 vs. Winner Match 8\, 12:30 p.m. \nMatch 13 — Winner Match 9 vs. Winner Match 10\, 1:30 p.m. (consolation championship) \nSt. Anthony\, Teutopolis (eighth only) at Effingham Side-Out Seventh & Eighth-Grade Tournament\, 9 a.m. \nMEN’S COLLEGE BASKETBALL \nUniversity of Illinois at UCLA\, 7 p.m. \nSouthern Indiana at Eastern Illinois University\, 3:30 p.m. \nNASCAR \nBennett Transportaiton and Logistics 250 at EchoPark Speedway in Atlanta\, 3:30 p.m.
URL:https://www.thexradio.com/news/calendar/30519-saturdays-schedule-48/
CATEGORIES:Local Sports Calendar
END:VEVENT
END:VCALENDAR