BEGIN:VCALENDAR
VERSION:2.0
PRODID:-//Effingham&#039;s News and Sports Leader, 979XFM and KJ Country 102.3 - ECPv6.15.20//NONSGML v1.0//EN
CALSCALE:GREGORIAN
METHOD:PUBLISH
X-ORIGINAL-URL:https://www.thexradio.com/news
X-WR-CALDESC:Events for Effingham&#039;s News and Sports Leader, 979XFM and KJ Country 102.3
REFRESH-INTERVAL;VALUE=DURATION:PT1H
X-Robots-Tag:noindex
X-PUBLISHED-TTL:PT1H
BEGIN:VTIMEZONE
TZID:America/Chicago
BEGIN:DAYLIGHT
TZOFFSETFROM:-0600
TZOFFSETTO:-0500
TZNAME:CDT
DTSTART:20250309T080000
END:DAYLIGHT
BEGIN:STANDARD
TZOFFSETFROM:-0500
TZOFFSETTO:-0600
TZNAME:CST
DTSTART:20251102T070000
END:STANDARD
BEGIN:DAYLIGHT
TZOFFSETFROM:-0600
TZOFFSETTO:-0500
TZNAME:CDT
DTSTART:20260308T080000
END:DAYLIGHT
BEGIN:STANDARD
TZOFFSETFROM:-0500
TZOFFSETTO:-0600
TZNAME:CST
DTSTART:20261101T070000
END:STANDARD
BEGIN:DAYLIGHT
TZOFFSETFROM:-0600
TZOFFSETTO:-0500
TZNAME:CDT
DTSTART:20270314T080000
END:DAYLIGHT
BEGIN:STANDARD
TZOFFSETFROM:-0500
TZOFFSETTO:-0600
TZNAME:CST
DTSTART:20271107T070000
END:STANDARD
END:VTIMEZONE
BEGIN:VEVENT
DTSTART;VALUE=DATE:20260220
DTEND;VALUE=DATE:20260221
DTSTAMP:20260425T152805
CREATED:20260212T154711Z
LAST-MODIFIED:20260219T152019Z
UID:30516-1771545600-1771631999@www.thexradio.com
SUMMARY:Friday's Schedule
DESCRIPTION:HIGH SCHOOL \nBoys Basketball \nEffingham at Mattoon\, 6 p.m. (LISTEN ON 979XFM) \nSt. Anthony at Cumberland\, 6 p.m. (LISTEN ON KJ COUNTRY 102.3) \nWindsor/Stewardson-Strasburg at Altamont\, 6:15 p.m. \nSt. Elmo/Brownstown at Cowden-Herrick/Beecher City\, 5 p.m. \nDieterich at Robinson\, 6 p.m. \nNeoga at Okaw Valley at Bethany\, 6 p.m. \nFlora at Newton\, 6 p.m. \nNorth Clay at South Central\, 5 p.m. \nTeutopolis at Richland County\, Olney\, 6 p.m. \nWrestling \nState\, TBA \nFRESHMAN/SOPHOMORE \nBoys Basketball \nSt. Anthony at Cumberland\, 5 p.m. \nJUNIOR HIGH SCHOOL \nVolleyball \nDieterich at Neoga\, 4:30 p.m. \nJasper County at LEIC Seventh-Grade Tournament at Marshall\, TBA \n 
URL:https://www.thexradio.com/news/calendar/30516-fridays-schedule-50/
CATEGORIES:Local Sports Calendar
END:VEVENT
END:VCALENDAR