BEGIN:VCALENDAR
VERSION:2.0
PRODID:-//Effingham&#039;s News and Sports Leader, 979XFM and KJ Country 102.3 - ECPv6.15.20//NONSGML v1.0//EN
CALSCALE:GREGORIAN
METHOD:PUBLISH
X-WR-CALNAME:Effingham&#039;s News and Sports Leader, 979XFM and KJ Country 102.3
X-ORIGINAL-URL:https://www.thexradio.com/news
X-WR-CALDESC:Events for Effingham&#039;s News and Sports Leader, 979XFM and KJ Country 102.3
REFRESH-INTERVAL;VALUE=DURATION:PT1H
X-Robots-Tag:noindex
X-PUBLISHED-TTL:PT1H
BEGIN:VTIMEZONE
TZID:America/Chicago
BEGIN:DAYLIGHT
TZOFFSETFROM:-0600
TZOFFSETTO:-0500
TZNAME:CDT
DTSTART:20250309T080000
END:DAYLIGHT
BEGIN:STANDARD
TZOFFSETFROM:-0500
TZOFFSETTO:-0600
TZNAME:CST
DTSTART:20251102T070000
END:STANDARD
BEGIN:DAYLIGHT
TZOFFSETFROM:-0600
TZOFFSETTO:-0500
TZNAME:CDT
DTSTART:20260308T080000
END:DAYLIGHT
BEGIN:STANDARD
TZOFFSETFROM:-0500
TZOFFSETTO:-0600
TZNAME:CST
DTSTART:20261101T070000
END:STANDARD
BEGIN:DAYLIGHT
TZOFFSETFROM:-0600
TZOFFSETTO:-0500
TZNAME:CDT
DTSTART:20270314T080000
END:DAYLIGHT
BEGIN:STANDARD
TZOFFSETFROM:-0500
TZOFFSETTO:-0600
TZNAME:CST
DTSTART:20271107T070000
END:STANDARD
END:VTIMEZONE
BEGIN:VEVENT
DTSTART;VALUE=DATE:20260219
DTEND;VALUE=DATE:20260220
DTSTAMP:20260425T141227
CREATED:20260212T154532Z
LAST-MODIFIED:20260218T152606Z
UID:30510-1771459200-1771545599@www.thexradio.com
SUMMARY:Thursday's Schedule
DESCRIPTION:HIGH SCHOOL \nBoys Basketball \nDieterich at Grayville\, 6 p.m. \nNeoga vs. Tri-County at Lake Land College\, 6 p.m. \nGirls Basketball \nClass 1A Bluford Webber Regional \nGame 5 – Edwards County vs. Woodlawn\, 6 p.m. (championship) \nClass 1A North Clay Regional \nGame 6 — Brownstown/St. Elmo vs. Dieterich 6 p.m. (championship) \nClass 1A Mount Pulaski Regional \nGame 5 –  Mount Pulaski vs. Windsor/Stewardson-Strasburg\, 6 p.m. (championship) \nClass 1A Casey-Westfield Regional \nGame 5 – Cumberland vs. Martinsville\, 6 p.m. (championship) \nClass 2A Paris Regional \nGame 4 – Effingham vs. Paris\, 7 p.m. (championship) (LISTEN ON 979XFM) \nClass 2A Teutopolis Regional \nGame 4 – Teutopolis vs. Robinson\, 6:30 p.m. (championship) (LISTEN ON KJ COUNTRY 102.3) \nClass 7-2A Mount Carmel Regional \nGame 4 – Mount Carmel vs. Fairfield\, 6 p.m. (championship) \nWrestling \nState\, TBA \nFRESHMAN/SOPHOMORE \nBoys Basketball \nOkaw Valley at Cowden-Herrick/Beecher City\, 6 p.m. \nTeutopolis at Robinson\, 6 p.m. \nJUNIOR HIGH SCHOOL \nVolleyball \nEffingham at Altamont\, 4:15 p.m. \nSt. Anthony at Richland County\, Olney\, 5 p.m. \nCowden-Herrick/Beecher City at Windsor\, 4:30 p.m. \nCasey-Westfield at Cumberland\, 4:30 p.m. \nJasper County at Charleston\, 4:30 p.m. \nNorth Clay at South Central\, 4:30 p.m. \nSt. Elmo/Brownstown at Stewardson-Strasburg\, 4:30 p.m. \nTeutopolis at Shelbyville Moulton\, 4:30 p.m. \nMEN’S COLLEGE BASKETBALL \nMorehead State at Eastern Illinois University\, 7:30 p.m.
URL:https://www.thexradio.com/news/calendar/30510-thursdays-schedule-49/
CATEGORIES:Local Sports Calendar
END:VEVENT
END:VCALENDAR