BEGIN:VCALENDAR
VERSION:2.0
PRODID:-//Effingham&#039;s News and Sports Leader, 979XFM and KJ Country 102.3 - ECPv6.15.20//NONSGML v1.0//EN
CALSCALE:GREGORIAN
METHOD:PUBLISH
X-ORIGINAL-URL:https://www.thexradio.com/news
X-WR-CALDESC:Events for Effingham&#039;s News and Sports Leader, 979XFM and KJ Country 102.3
REFRESH-INTERVAL;VALUE=DURATION:PT1H
X-Robots-Tag:noindex
X-PUBLISHED-TTL:PT1H
BEGIN:VTIMEZONE
TZID:America/Chicago
BEGIN:DAYLIGHT
TZOFFSETFROM:-0600
TZOFFSETTO:-0500
TZNAME:CDT
DTSTART:20250309T080000
END:DAYLIGHT
BEGIN:STANDARD
TZOFFSETFROM:-0500
TZOFFSETTO:-0600
TZNAME:CST
DTSTART:20251102T070000
END:STANDARD
BEGIN:DAYLIGHT
TZOFFSETFROM:-0600
TZOFFSETTO:-0500
TZNAME:CDT
DTSTART:20260308T080000
END:DAYLIGHT
BEGIN:STANDARD
TZOFFSETFROM:-0500
TZOFFSETTO:-0600
TZNAME:CST
DTSTART:20261101T070000
END:STANDARD
BEGIN:DAYLIGHT
TZOFFSETFROM:-0600
TZOFFSETTO:-0500
TZNAME:CDT
DTSTART:20270314T080000
END:DAYLIGHT
BEGIN:STANDARD
TZOFFSETFROM:-0500
TZOFFSETTO:-0600
TZNAME:CST
DTSTART:20271107T070000
END:STANDARD
END:VTIMEZONE
BEGIN:VEVENT
DTSTART;VALUE=DATE:20260211
DTEND;VALUE=DATE:20260212
DTSTAMP:20260425T141356
CREATED:20260205T140720Z
LAST-MODIFIED:20260212T131340Z
UID:29897-1770768000-1770854399@www.thexradio.com
SUMMARY:Wednesday's Schedule
DESCRIPTION:HIGH SCHOOL \nBoys Basketball \nHillsboro Freshman Tournament \nSession 6: 6 p.m. \nFirst Place Orange Pool vs. Winner Session 4 (Main) \nSession 7: 6 p.m. \nFirst Place Black Pool vs. Winner Session 5 (Secondary) \nGirls Basketball \nRichland County\, Olney at Effingham\, 6 p.m. \nBrownstown/St. Elmo at Windsor/Stewardson-Strasburg (SHORTENED JV GAME)\, 6 p.m. \nNewton at Marshall\, 6 p.m. \nNorth Clay at Lawrenceville\, 6:15 p.m. \nJUNIOR HIGH SCHOOL \nVolleyball \nNational Trail Conference Seventh-Grade Tournament \nAt Windsor \nMatch 1 — Neoga vs. Cowden-Herrick/Beecher City\, 4:30 p.m. \nMatch 2 — Stewardson-Strasburg vs. Effingham Sacred Heart\, 5:30 p.m. \nMatch 3 — Sigel St. Michael vs. Dieterich\, 4:30 p.m. \nMatch 4 — North Clay vs. Altamont\, 5:30 p.m. \nSt. Anthony at St. Elmo\, 5:30 p.m.
URL:https://www.thexradio.com/news/calendar/29897-wednesdays-schedule-49/
CATEGORIES:Local Sports Calendar
END:VEVENT
END:VCALENDAR