BEGIN:VCALENDAR
VERSION:2.0
PRODID:-//Effingham&#039;s News and Sports Leader, 979XFM and KJ Country 102.3 - ECPv6.15.20//NONSGML v1.0//EN
CALSCALE:GREGORIAN
METHOD:PUBLISH
X-WR-CALNAME:Effingham&#039;s News and Sports Leader, 979XFM and KJ Country 102.3
X-ORIGINAL-URL:https://www.thexradio.com/news
X-WR-CALDESC:Events for Effingham&#039;s News and Sports Leader, 979XFM and KJ Country 102.3
REFRESH-INTERVAL;VALUE=DURATION:PT1H
X-Robots-Tag:noindex
X-PUBLISHED-TTL:PT1H
BEGIN:VTIMEZONE
TZID:America/Chicago
BEGIN:DAYLIGHT
TZOFFSETFROM:-0600
TZOFFSETTO:-0500
TZNAME:CDT
DTSTART:20250309T080000
END:DAYLIGHT
BEGIN:STANDARD
TZOFFSETFROM:-0500
TZOFFSETTO:-0600
TZNAME:CST
DTSTART:20251102T070000
END:STANDARD
BEGIN:DAYLIGHT
TZOFFSETFROM:-0600
TZOFFSETTO:-0500
TZNAME:CDT
DTSTART:20260308T080000
END:DAYLIGHT
BEGIN:STANDARD
TZOFFSETFROM:-0500
TZOFFSETTO:-0600
TZNAME:CST
DTSTART:20261101T070000
END:STANDARD
BEGIN:DAYLIGHT
TZOFFSETFROM:-0600
TZOFFSETTO:-0500
TZNAME:CDT
DTSTART:20270314T080000
END:DAYLIGHT
BEGIN:STANDARD
TZOFFSETFROM:-0500
TZOFFSETTO:-0600
TZNAME:CST
DTSTART:20271107T070000
END:STANDARD
END:VTIMEZONE
BEGIN:VEVENT
DTSTART;VALUE=DATE:20260210
DTEND;VALUE=DATE:20260211
DTSTAMP:20260425T141228
CREATED:20260205T140551Z
LAST-MODIFIED:20260210T144649Z
UID:29895-1770681600-1770767999@www.thexradio.com
SUMMARY:Tuesday's Schedule
DESCRIPTION:HIGH SCHOOL \nBoys Basketball \nHighland at Effingham\, 6:30 p.m. (LISTEN ON 979XFM) \nSt. Anthony at South Central\, 6 p.m. (NO FRESHMAN/SOPHOMORE GAME) \nNeoga at Altamont\, 6 p.m. \nPatoka at Cowden-Herrick/Beecher City\, 6 p.m. \nCumberland at Windsor/Stewardson-Strasburg\, 7:30 p.m. \nMartinsville at Dieterich (VARSITY ONLY)\, 7:15 p.m. \nNewton at Oblong/Palestine/Hutsonville\, 6 p.m. \nGrayville at North Clay\, 6 p.m. \nSandoval at St. Elmo/Brownstown\, 6:15 p.m. \nCasey-Westfield at Teutopolis\, 6 p.m. \nGirls Basketball \nEffingham at Taylorville\, 6 p.m. \nBrownstown/St. Elmo at Paris\, 6 p.m. \nPana at Cowden-Herrick/Beecher City\, 6 p.m. \nNorth Clay at Dieterich (VARSITY ONLY)\, 6 p.m. \nFRESHMAN/SOPHOMORE \nBoys Basketball \nSt. Anthony at South Central\, 5 p.m. \nHighland at Effingham\, 5 p.m. \nCumberland at Windsor/Stewardson-Strasburg\, 5 p.m. \nJUNIOR HIGH SCHOOL \nVolleyball \nTrinity Lutheran at Effingham\, 4:30 p.m. \nMattoon at St. Anthony\, 5 p.m. \nWindsor at Altamont\, 4:15 p.m. \nCowden-Herrick/Beecher City at Ramsey\, 4:15 p.m. \nDieterich at Stewardson-Strasburg\, 4 p.m. \nNorth Clay at Sigel St. Michael\, 6 p.m. \nTeutopolis at Richland County\, 5:45 p.m. \nMEN’S COLLEGE BASKETBALL \nWisconsin at University of Illinois\, 7 p.m. \nEastern Illinois University at Western Illinois\, 7:30 p.m.
URL:https://www.thexradio.com/news/calendar/29895-tuesdays-schedule-48/
CATEGORIES:Local Sports Calendar
END:VEVENT
END:VCALENDAR