BEGIN:VCALENDAR
VERSION:2.0
PRODID:-//Effingham&#039;s News and Sports Leader, 979XFM and KJ Country 102.3 - ECPv6.15.20//NONSGML v1.0//EN
CALSCALE:GREGORIAN
METHOD:PUBLISH
X-WR-CALNAME:Effingham&#039;s News and Sports Leader, 979XFM and KJ Country 102.3
X-ORIGINAL-URL:https://www.thexradio.com/news
X-WR-CALDESC:Events for Effingham&#039;s News and Sports Leader, 979XFM and KJ Country 102.3
REFRESH-INTERVAL;VALUE=DURATION:PT1H
X-Robots-Tag:noindex
X-PUBLISHED-TTL:PT1H
BEGIN:VTIMEZONE
TZID:America/Chicago
BEGIN:DAYLIGHT
TZOFFSETFROM:-0600
TZOFFSETTO:-0500
TZNAME:CDT
DTSTART:20250309T080000
END:DAYLIGHT
BEGIN:STANDARD
TZOFFSETFROM:-0500
TZOFFSETTO:-0600
TZNAME:CST
DTSTART:20251102T070000
END:STANDARD
BEGIN:DAYLIGHT
TZOFFSETFROM:-0600
TZOFFSETTO:-0500
TZNAME:CDT
DTSTART:20260308T080000
END:DAYLIGHT
BEGIN:STANDARD
TZOFFSETFROM:-0500
TZOFFSETTO:-0600
TZNAME:CST
DTSTART:20261101T070000
END:STANDARD
BEGIN:DAYLIGHT
TZOFFSETFROM:-0600
TZOFFSETTO:-0500
TZNAME:CDT
DTSTART:20270314T080000
END:DAYLIGHT
BEGIN:STANDARD
TZOFFSETFROM:-0500
TZOFFSETTO:-0600
TZNAME:CST
DTSTART:20271107T070000
END:STANDARD
END:VTIMEZONE
BEGIN:VEVENT
DTSTART;VALUE=DATE:20260130
DTEND;VALUE=DATE:20260131
DTSTAMP:20260425T152505
CREATED:20260120T185348Z
LAST-MODIFIED:20260130T134843Z
UID:28186-1769731200-1769817599@www.thexradio.com
SUMMARY:Friday's Schedule
DESCRIPTION:HIGH SCHOOL \nBoys Basketball \nEffingham at Charleston\, 6 p.m. \nTeutopolis at Breese Mater Dei\, 6 p.m. \nNational Trail Conference Tournament \nGame 10 — South Central vs. Windsor/Stewardson-Strasburg\, 6:15 p.m. \nGame 11 — St. Anthony vs. Dieterich\, 7:30 p.m. \nLittle Illini Conference Tournament \nAt Robinson \nGame 11 – Richland County vs. Robinson (fifth place)\, 5 p.m. \nGame 12 –Marshall vs. Mount Carmel\, 6 p.m. (third place) \nGame 13 – Lawrenceville vs. Casey-Westfield\, 7:30 p.m. (championship) \nJUNIOR HIGH SCHOOL \nBoys Basketball \nClass 8-3A Robinson Nuttall Regional \nGame 7 — Teutopolis vs. Robinson Nuttall (championship) \nVolleyball \nMartinsville at Effingham Sacred Heart\, 4:30 p.m. \nAltamont at St. Elmo/Brownstown\, 6:15 p.m. \nDieterich at Windsor\, 4:30 p.m. \nSigel St. Michael at Stewardson Trinity Lutheran\, 6 p.m. \nTeutopolis at Mattoon\, 5 p.m.
URL:https://www.thexradio.com/news/calendar/28186-fridays-schedule-47/
CATEGORIES:Local Sports Calendar
END:VEVENT
END:VCALENDAR