BEGIN:VCALENDAR
VERSION:2.0
PRODID:-//Effingham&#039;s News and Sports Leader, 979XFM and KJ Country 102.3 - ECPv6.15.20//NONSGML v1.0//EN
CALSCALE:GREGORIAN
METHOD:PUBLISH
X-ORIGINAL-URL:https://www.thexradio.com/news
X-WR-CALDESC:Events for Effingham&#039;s News and Sports Leader, 979XFM and KJ Country 102.3
REFRESH-INTERVAL;VALUE=DURATION:PT1H
X-Robots-Tag:noindex
X-PUBLISHED-TTL:PT1H
BEGIN:VTIMEZONE
TZID:America/Chicago
BEGIN:DAYLIGHT
TZOFFSETFROM:-0600
TZOFFSETTO:-0500
TZNAME:CDT
DTSTART:20250309T080000
END:DAYLIGHT
BEGIN:STANDARD
TZOFFSETFROM:-0500
TZOFFSETTO:-0600
TZNAME:CST
DTSTART:20251102T070000
END:STANDARD
BEGIN:DAYLIGHT
TZOFFSETFROM:-0600
TZOFFSETTO:-0500
TZNAME:CDT
DTSTART:20260308T080000
END:DAYLIGHT
BEGIN:STANDARD
TZOFFSETFROM:-0500
TZOFFSETTO:-0600
TZNAME:CST
DTSTART:20261101T070000
END:STANDARD
BEGIN:DAYLIGHT
TZOFFSETFROM:-0600
TZOFFSETTO:-0500
TZNAME:CDT
DTSTART:20270314T080000
END:DAYLIGHT
BEGIN:STANDARD
TZOFFSETFROM:-0500
TZOFFSETTO:-0600
TZNAME:CST
DTSTART:20271107T070000
END:STANDARD
END:VTIMEZONE
BEGIN:VEVENT
DTSTART;VALUE=DATE:20260124
DTEND;VALUE=DATE:20260125
DTSTAMP:20260425T152724
CREATED:20260114T193656Z
LAST-MODIFIED:20260123T170119Z
UID:27589-1769212800-1769299199@www.thexradio.com
SUMMARY:Saturday's Schedule
DESCRIPTION:HIGH SCHOOL \nBoys Basketball \nSalem Invitational \nWinner Game 7 vs. Winner Game 8\, 9 a.m. p.m. (consolation championship) \nLoser Game 5 vs. Loser Game 6\, 10:30 a.m. (third place) \nWinner Game 5 vs. Winner Game 6\, noon (championship) \nLittle Illini Conference Tournament \nAt Robinson \nGame 1 — Newton vs. Mount Carmel\, 10 a.m. \nGame 2 — Lawrenceville vs. Paris\, 11:30 a.m. \nGame 3 — Richland County vs. Marshall\, 1 p.m. \nGame 4 — Casey-Westfield vs. Robinson\, 2:30 p.m. \nGirls Basketball \nNational Trail Conference Tournament (979XFM) \nGame 12 – South Central vs. North Clay\, 9 a.m. \nGame 13 – Dieterich vs. Neoga\, 10:30 a.m. \nGame 14 – Altamont vs. St. Anthony\, noon (third place) \nGame 15 – Brownstown/St. Elmo vs. Cumberland\, 1:30 p.m. (championship) \nVandalia Tournament \nGame 9 — Loser Game 7 vs. Loser Game 8\, 10 a.m. (seventh place) \nGame 10 — Winner Game 7 vs. Winner Game 8\, 11:30 a.m. (fifth place) \nGame 11 — Loser Game 5 vs. Loser Game 66\, 1 p.m. (third place) \nHighland Tournament \nGame 23 – Winner Game 17 vs. Winner Game 18\, 10 a.m. (consolation championship) \nGame 24 – Winner Game 20 vs. Winner Game 21\, 11:30 a.m. (fifth place) \nGame 25 – Loser Game 19 vs. Loser Game 22\, 1 p.m. (third place) \nGame 26 – Winner Game 19 vs. winner Game 22\, 2:30 p.m. (championship) \nNewton at Robinson Tournament\, TBA \nWrestling \nEffingham at Olney Wrestling Duals HAS BEEN CANCELED \nCumberland girls at Anna Jonesboro\, 9:30 a.m. \nCumberland boys at St. Joseph-Ogden Multi-Quad \nFRESHMAN/SOPHOMORE \nBoys Basketball \nWindsor/Stewardson-Strasburg at Teutopolis \nGirls Basketball \nAltamont at Effingham HAS BEEN CANCELED \nParis at Teutopolis\, 10 a.m. \nJUNIOR HIGH SCHOOL \nBoys Basketball \nClass 8-1A Effingham Sacred Heart Regional \nGame 1 — Altamont Lutheran vs. Newton St. Thomas\, 9 a.m. \nGame 2 — Sigel St. Michael vs. Pana Sacred Heart\, 10;15 a.m. \nGame 3 — Ramsey vs. Mulberry Grove\, 11:30 a.m. \nClass 8-2A Casey-Westfield Regional \nGame 1 — Casey-Westfield vs. Oblong\, 10 a.m. \nGame 2 — Neoga vs. Paris Crestwood\, 11 a.m. \nClass 8-2A Stewardson-Strasburg \nGame 1 — Cowden-Herrick/Beecher City\, 9 a.m. \nGame 2 — St. Elmo/Brownstown vs. South Central\, 10:15 a.m. \nGame 3 — Effingham St. Anthony vs. North  Clay\, 11:30 a.m. \nClass 8-3A Robinson Nuttall Regional \nGame 1 — Teutopolis vs. Red Hill (Bridgeport)\, 9:30 a.m. \nGame 2 — Paris Mayo vs. Marshall\, 10:45 a.m. \nGame 3 — Robinson Nuttall vs. Jasper County\, noon \nGame 4 — Lawrenceville Parkview vs. Cumberland\, 1:15 p.m. \nClass 8-4A Effingham Regional \nGame 1 — Rochester vs. Taylorville\, 10 a.m. \nGame 2 — Effingham vs. Mattoon\, 11:45 a.m. \nVolleyball \nSt. Anthony\, Dieterich at Newton St. Thomas Seventh-Grade Tournament\, 9 a.m. \nSt. Elmo/Brownstown at Cumberland Sixth-Grade Round Robin\, 9 a.m. \nMEN’S COLLEGE BASKETBALL \nUniversity of Illinois at Purdue\, 2 p.m. \nEastern Illinois University at Morehead State\, 2:30 p.m.
URL:https://www.thexradio.com/news/calendar/27589-saturdays-schedule-44/
CATEGORIES:Local Sports Calendar
END:VEVENT
END:VCALENDAR