BEGIN:VCALENDAR
VERSION:2.0
PRODID:-//Effingham&#039;s News and Sports Leader, 979XFM and KJ Country 102.3 - ECPv6.15.20//NONSGML v1.0//EN
CALSCALE:GREGORIAN
METHOD:PUBLISH
X-WR-CALNAME:Effingham&#039;s News and Sports Leader, 979XFM and KJ Country 102.3
X-ORIGINAL-URL:https://www.thexradio.com/news
X-WR-CALDESC:Events for Effingham&#039;s News and Sports Leader, 979XFM and KJ Country 102.3
REFRESH-INTERVAL;VALUE=DURATION:PT1H
X-Robots-Tag:noindex
X-PUBLISHED-TTL:PT1H
BEGIN:VTIMEZONE
TZID:America/Chicago
BEGIN:DAYLIGHT
TZOFFSETFROM:-0600
TZOFFSETTO:-0500
TZNAME:CDT
DTSTART:20250309T080000
END:DAYLIGHT
BEGIN:STANDARD
TZOFFSETFROM:-0500
TZOFFSETTO:-0600
TZNAME:CST
DTSTART:20251102T070000
END:STANDARD
BEGIN:DAYLIGHT
TZOFFSETFROM:-0600
TZOFFSETTO:-0500
TZNAME:CDT
DTSTART:20260308T080000
END:DAYLIGHT
BEGIN:STANDARD
TZOFFSETFROM:-0500
TZOFFSETTO:-0600
TZNAME:CST
DTSTART:20261101T070000
END:STANDARD
BEGIN:DAYLIGHT
TZOFFSETFROM:-0600
TZOFFSETTO:-0500
TZNAME:CDT
DTSTART:20270314T080000
END:DAYLIGHT
BEGIN:STANDARD
TZOFFSETFROM:-0500
TZOFFSETTO:-0600
TZNAME:CST
DTSTART:20271107T070000
END:STANDARD
END:VTIMEZONE
BEGIN:VEVENT
DTSTART;VALUE=DATE:20260123
DTEND;VALUE=DATE:20260124
DTSTAMP:20260425T152557
CREATED:20260114T193508Z
LAST-MODIFIED:20260123T200044Z
UID:27587-1769126400-1769212799@www.thexradio.com
SUMMARY:Friday's Schedule
DESCRIPTION:HIGH SCHOOL \nBoys Basketball \nSt. Anthony at Windsor/Stewardson-Strasburg\, 6 p.m. \nAltamont at Shelbyville\, 5 p.m. \nSouth Central at Cowden-Herrick/Beecher City\, 5 p.m. \nCumberland at Dieterich\, 6 p.m. \nNeoga at Moweaqua Central A&M\, 5 p.m. \nNorth Clay at Ramsey\, 6 p.m. \nMulberry Grove at St. Elmo/Brownstown\, 6:15 p.m. \nSalem Invitational \nConsolation Semifinals \nCarbondale vs. Gateway Legacy\, 4 p.m. \nChampaign Central vs. Salem\, 5:30 p.m. \nWinner Bracket \nGame 5 – Centralia vs. Mattoon\, 6 p.m. \nGame 6 – Teutopolis vs. Mount Vernon\, 7:30 p.m. \nGirls Basketball \nLittle Illini Conference Tournament \nAt Marshall \nGame 11 – Robinson vs. Olney (third place) \nGame 12 – Paris vs. Mount Carmel\, 7:30 p.m. (championship) \nVandalia Tournament \nGame 9 — Loser Game 7 vs. Greenville (seventh place) \nGame 10 — Vandalia vs. Winner Game 7 (fifth place) \nGame 11 — Hillsboro vs. Wesclin (third place) \nFRESHMAN/SOPHOMORE \nBoys Basketball \nSt. Anthony at Windsor/Stewardson-Strasburg\, 5 p.m. \nCumberland at Dieterich\, 5 p.m. \nJUNIOR HIGH SCHOOL \nBoys Basketball \nGreenville Eighth-Grade Tournament \nGame 10 – St. Anthony vs. Greenville\, 6 pm. (third place) \nGame 11 – Salem vs. Aviston\, 7 pm. (championship) \nVolleyball \nRobinson Nuttall at Effingham\, 5:15 p.m. \nSt. Anthony at Cumberland\, 4:30 p.m. \nSigel St. Michael at Cowden-Herrick/Beecher City\, 4:15 p.m. \nNewton St. Thomas at Dieterich\, 4 p.m. \nWindsor at North Clay\, 4:30 p.m. \nSouth Central at St. Elmo/Brownstown\, 4:30 p.m.
URL:https://www.thexradio.com/news/calendar/27587-fridays-schedule-46/
CATEGORIES:Local Sports Calendar
END:VEVENT
END:VCALENDAR