BEGIN:VCALENDAR
VERSION:2.0
PRODID:-//Effingham&#039;s News and Sports Leader, 979XFM and KJ Country 102.3 - ECPv6.15.20//NONSGML v1.0//EN
CALSCALE:GREGORIAN
METHOD:PUBLISH
X-WR-CALNAME:Effingham&#039;s News and Sports Leader, 979XFM and KJ Country 102.3
X-ORIGINAL-URL:https://www.thexradio.com/news
X-WR-CALDESC:Events for Effingham&#039;s News and Sports Leader, 979XFM and KJ Country 102.3
REFRESH-INTERVAL;VALUE=DURATION:PT1H
X-Robots-Tag:noindex
X-PUBLISHED-TTL:PT1H
BEGIN:VTIMEZONE
TZID:America/Chicago
BEGIN:DAYLIGHT
TZOFFSETFROM:-0600
TZOFFSETTO:-0500
TZNAME:CDT
DTSTART:20250309T080000
END:DAYLIGHT
BEGIN:STANDARD
TZOFFSETFROM:-0500
TZOFFSETTO:-0600
TZNAME:CST
DTSTART:20251102T070000
END:STANDARD
BEGIN:DAYLIGHT
TZOFFSETFROM:-0600
TZOFFSETTO:-0500
TZNAME:CDT
DTSTART:20260308T080000
END:DAYLIGHT
BEGIN:STANDARD
TZOFFSETFROM:-0500
TZOFFSETTO:-0600
TZNAME:CST
DTSTART:20261101T070000
END:STANDARD
BEGIN:DAYLIGHT
TZOFFSETFROM:-0600
TZOFFSETTO:-0500
TZNAME:CDT
DTSTART:20270314T080000
END:DAYLIGHT
BEGIN:STANDARD
TZOFFSETFROM:-0500
TZOFFSETTO:-0600
TZNAME:CST
DTSTART:20271107T070000
END:STANDARD
END:VTIMEZONE
BEGIN:VEVENT
DTSTART;VALUE=DATE:20260122
DTEND;VALUE=DATE:20260123
DTSTAMP:20260425T152627
CREATED:20260114T193109Z
LAST-MODIFIED:20260122T191933Z
UID:27583-1769040000-1769126399@www.thexradio.com
SUMMARY:Thursday's Schedule
DESCRIPTION:HIGH SCHOOL \nBoys Basketball \nNewton at Dieterich\, 5 p.m. \nSalem Invitational \nGame 3 —  Teutopolis vs. Carbondale\, 6 p.m. \nGame 4 —  Mount Vernon vs. Gateway Legacy\, 7:30 p.m. \nGirls Basketball \nNational Trail Conference Tournament \nGame 10 – North Clay vs. Neoga\, 6 p.m. \nGame 11 – St. Anthony vs. Cumberland\, 7:30 p.m. \nVandalia Tournament \nHillsboro vs. Wesclin\, 6 p.m. (third place) \nEffingham vs. Salem\, 7:30 p.m. (championship) \nHighland Tournament \nGame 20 – Teutopolis vs. Lift For Life\, 5 p.m. \nGame 21 – Centralia vs. O’Fallon\, 6:30 p.m. \nGame 22 – Bethalto Civic Memorial vs. Breese Central\, 8 p.m. \nLittle Illini Conference Tournament \nAt Marshall \nGame 9 – Casey-Westfield vs. Lawrenceville\, 6 p.m. (seventh place) \nGame 10 – Newton vs. Marshall\, 7:30 p.m. (consolation championship) \nFRESHMAN/SOPHOMORE \nBoys Basketball \nCharleston at Effingham\, 5:30 p.m. \nCowden-Herrick/Beecher City at Effingham\, 6:30 p.m. \nParis at Teutopolis\, 6 p.m. \nGirls Basketball \nMount Zion at Effingham\, 5:30 p.m. in Small Gym \nJUNIOR HIGH SCHOOL \nBoys Basketball \nClass 7-1A Sigel St. Michael Regional \nGame 5 – Pana Sacred Heart vs. Altamont Lutheran\, 6 p.m. (championship) \nClass 7-2A Casey-Westfield Regional \nGame 7 – Dieterich vs. Casey-Westfield\, 6 p.m. (championship) \nClass 7-3A Marshall Regional \nGame 7 – Teutopolis vs. Marshall\, 6:30 p.m. (championship) \nGreenville Eighth-Grade Tournament \nGame 7 – Salem vs. Greenville\, 6 p.m. \nGame 8 – Aviston vs. St. Anthony\, 7 p.m. \nSt. Elmo/Brownstown at Vandalia Eighth-Grade Tournament\, TBA \nVolleyball \nNewton St. Thomas at St. Anthony\, 5 p.m. \nStewardson-Strasburg at Effingham Sacred Heart\, 4 p.m. \nAltamont at Jasper County\, 4:30 p.m. \nCowden-Herrick/Beecher City at North Clay\, 4:30 p.m. \nSigel St. Michael at Cumberland\, 4:30 p.m. \nCasey-Westfield at Teutopolis\, 4:30 p.m. \nNeoga at Windsor\, 4:30 p.m. \nMEN’S COLLEGE BASKETBALL \nEastern Illinois University at Southern Indiana\, 7:30 p.m.
URL:https://www.thexradio.com/news/calendar/27583-thursdays-schedule-45/
CATEGORIES:Local Sports Calendar
END:VEVENT
END:VCALENDAR