BEGIN:VCALENDAR
VERSION:2.0
PRODID:-//Effingham&#039;s News and Sports Leader, 979XFM and KJ Country 102.3 - ECPv6.15.20//NONSGML v1.0//EN
CALSCALE:GREGORIAN
METHOD:PUBLISH
X-WR-CALNAME:Effingham&#039;s News and Sports Leader, 979XFM and KJ Country 102.3
X-ORIGINAL-URL:https://www.thexradio.com/news
X-WR-CALDESC:Events for Effingham&#039;s News and Sports Leader, 979XFM and KJ Country 102.3
REFRESH-INTERVAL;VALUE=DURATION:PT1H
X-Robots-Tag:noindex
X-PUBLISHED-TTL:PT1H
BEGIN:VTIMEZONE
TZID:America/Chicago
BEGIN:DAYLIGHT
TZOFFSETFROM:-0600
TZOFFSETTO:-0500
TZNAME:CDT
DTSTART:20250309T080000
END:DAYLIGHT
BEGIN:STANDARD
TZOFFSETFROM:-0500
TZOFFSETTO:-0600
TZNAME:CST
DTSTART:20251102T070000
END:STANDARD
BEGIN:DAYLIGHT
TZOFFSETFROM:-0600
TZOFFSETTO:-0500
TZNAME:CDT
DTSTART:20260308T080000
END:DAYLIGHT
BEGIN:STANDARD
TZOFFSETFROM:-0500
TZOFFSETTO:-0600
TZNAME:CST
DTSTART:20261101T070000
END:STANDARD
BEGIN:DAYLIGHT
TZOFFSETFROM:-0600
TZOFFSETTO:-0500
TZNAME:CDT
DTSTART:20270314T080000
END:DAYLIGHT
BEGIN:STANDARD
TZOFFSETFROM:-0500
TZOFFSETTO:-0600
TZNAME:CST
DTSTART:20271107T070000
END:STANDARD
END:VTIMEZONE
BEGIN:VEVENT
DTSTART;VALUE=DATE:20260120
DTEND;VALUE=DATE:20260121
DTSTAMP:20260425T152536
CREATED:20260114T192649Z
LAST-MODIFIED:20260120T152542Z
UID:27578-1768867200-1768953599@www.thexradio.com
SUMMARY:Tuesday's Schedule
DESCRIPTION:HIGH SCHOOL \nBoys Basketball \nEffingham at Dieterich\, 6 p.m. (LISTEN ON 979XFM) \nShelbyville at St. Anthony\, 6 p.m. \nMarshall at Cumberland\, 6 p.m. \nNeoga vs. South Central at Lake Land College\, 5 p.m. \nMount Carmel at Newton\, 6 p.m. \nNorth Clay at Windsor/Stewardson-Strasburg\, 5 p.m. \nSt. Elmo/Brownstown at Martinsville\, 6 p.m. \nGirls Basketball \nNational Trail Conference Tournament \nGame 5 – Brownstown/St. Elmo vs. South Central\, 6 p.m. \nGame 6 – St. Anthony vs. North Clay\, 7:30 p.m. \nHighland Tournament \nGame 13 – Belleville East vs. Bethalto Civic Memorial\, 4 p.m. \nGame 14 – Carlyle vs. Troy Triad\, 5:30 p.m. \nGame 15 – Centralia vs. Breese Mater Dei\, 7 p.m. \nGame 16 – Breese Central vs. O’Fallon\, 8:30 p.m. \nLittle Illini Conference Tournament \nAt Marshall \nGame 7 – Paris vs. Robinson\, 6 p.m. \nGame 8 – Mount Carmel vs. Olney\, 7:30 p.m. \nFRESHMAN/SOPHOMORE \nBoys Basketball \nShelbyville at St. Anthony\, 5 p.m. \nMarshall at Cumberland\, 5 p.m. \nGirls Basketball \nEffingham at Mattoon\, 5:30 p.m. \nCowden-Herrick/Beecher City at Cumberland\, 4:15 p.m. \nMahomet-Seymour at Teutopolis\, 6 p.m. \nJUNIOR HIGH SCHOOL \nBoys Basketball \nClass 7-2A North Clay Regional \nGame 4 – Effingham St. Anthony vs. Cowden-Herrick/Beecher  City\, 5 p.m. \nGame 5 – Stewardson-Strasburg vs. St. Elmo/Brownstown\, 6:15 p.m. \nClass 7-2A Casey-Westfield Regional \nGame 3 — Dieterich vs. Oblong\, 6 p.m. \nGame 4 — Arcola vs. Paris Crestwood\, 7 p.m. \nGreenville Eighth-Grade Tournament \nGame 5 – Bye \nGame 6 – Staunton vs. Hillsboro\, 7 p.m. \nSt. Elmo/Brownstown at Vandalia Eighth-Grade Tournament\, TBA \nVolleyball \nStewardson-Strasburg at Effingham\, 3:45 p.m. \nDieterich at St. Anthony\, 5 p.m. \nEffingham Sacred Heart at Sigel St. Michael\, 6 p.m. \nVandalia at Altamont\, 4:15 p.m. \nCowden-Herrick/Beecher City at Teutopolis\, 4:30 p.m. \nJasper County at Martinsville\, 4:30 p.m. \nNeoga at Marshall\, 4:30 p.m.
URL:https://www.thexradio.com/news/calendar/27578-tuesdays-schedule-45/
CATEGORIES:Local Sports Calendar
END:VEVENT
END:VCALENDAR