BEGIN:VCALENDAR
VERSION:2.0
PRODID:-//Effingham&#039;s News and Sports Leader, 979XFM and KJ Country 102.3 - ECPv6.15.20//NONSGML v1.0//EN
CALSCALE:GREGORIAN
METHOD:PUBLISH
X-ORIGINAL-URL:https://www.thexradio.com/news
X-WR-CALDESC:Events for Effingham&#039;s News and Sports Leader, 979XFM and KJ Country 102.3
REFRESH-INTERVAL;VALUE=DURATION:PT1H
X-Robots-Tag:noindex
X-PUBLISHED-TTL:PT1H
BEGIN:VTIMEZONE
TZID:America/Chicago
BEGIN:DAYLIGHT
TZOFFSETFROM:-0600
TZOFFSETTO:-0500
TZNAME:CDT
DTSTART:20250309T080000
END:DAYLIGHT
BEGIN:STANDARD
TZOFFSETFROM:-0500
TZOFFSETTO:-0600
TZNAME:CST
DTSTART:20251102T070000
END:STANDARD
BEGIN:DAYLIGHT
TZOFFSETFROM:-0600
TZOFFSETTO:-0500
TZNAME:CDT
DTSTART:20260308T080000
END:DAYLIGHT
BEGIN:STANDARD
TZOFFSETFROM:-0500
TZOFFSETTO:-0600
TZNAME:CST
DTSTART:20261101T070000
END:STANDARD
BEGIN:DAYLIGHT
TZOFFSETFROM:-0600
TZOFFSETTO:-0500
TZNAME:CDT
DTSTART:20270314T080000
END:DAYLIGHT
BEGIN:STANDARD
TZOFFSETFROM:-0500
TZOFFSETTO:-0600
TZNAME:CST
DTSTART:20271107T070000
END:STANDARD
END:VTIMEZONE
BEGIN:VEVENT
DTSTART;VALUE=DATE:20260117
DTEND;VALUE=DATE:20260118
DTSTAMP:20260425T152632
CREATED:20260108T170204Z
LAST-MODIFIED:20260114T191044Z
UID:27029-1768608000-1768694399@www.thexradio.com
SUMMARY:Saturday's Schedule
DESCRIPTION:HIGH SCHOOL \nBoys Basketball \nSt. Anthony at Nashville\, 4 p.m. \nWoodlawn at North Clay\, 6 p.m. \nGirls Basketball \nLittle Illini Conference Tournament \nAt Marshall \nGame 1 – Paris vs. Casey-Westfield\, 1 p.m. \nGame 2 – Newton vs. Robinson\, 2:30 p.m. \nGame 3 – Mount Carmel vs. Marshall\, 4 p.m. \nGame 4 – Olney vs. Lawrenceville\, 5:30 p.m. \nHighland Tournament \nGame 4 — Life For Life vs. Edwardsville\, 10 a.m. \nGame 3 — Glenwood vs. Okawville\, 11:30 a.m. \nGame 2 — Highland vs. Teutopolis\, 1 p.m. \nGame 1 — Nashville vs. Belleville Althoff\, 2:30 p.m. \nGame 5 — Belleville East vs. Centralia\, 4 p.m. \nGame 6 — Breese Mater Dei vs. Bethalto Civic Memorial\, 5:30 p.m. \nGame 7 — Breese Central vs. Carlyle\, 7 p.m. \nGame 8 — O’Fallon vs. Troy Triad\, 8:30 a.m. \nNTC/CIC Shootout Game\, TBA \nWrestling \nEffingham at Normal University High Invitational\, 9:30 a.m. \nCumberland girls at Rich Township Invitational\, 9 a.m. \nCumberland boys at Litchfield\, TBA \nFRESHMAN/SOPHOMORE \nBoys Basketball \nSt. Anthony at Mattoon HAS BEEN CANCELED \nGirls Basketball \nPana at Effingham\, 10 a.m. \nJUNIOR HIGH SCHOOL \nBoys Basketball \nClass 7-1A Martinsville Regional \nGame 1– Mattoon St. John’s vs. Philo St. Thomas\, 9 a.m. \nGame 2 — Hume Shiloh vs. Windsor\, 10;15 a.m. \nGame 3 — Martinsville vs. Chrisman Scottland\, 11:30 a.m. \nClass 7-1A Sigel St. Michael Regional \nGame 1 — Sigel  St. Michael vs. Mulberry Grove\, 9 a.m. \nGame 2 — Altamont Lutheran vs. Ramsey\, 10:15 a.m. \nClass 7-2A Casey-Westfield  Regional \nGame 1– Dieterich vs. Hutsonville\, 10 a.m. \nGame 3 — Casey-Westfield vs. Villa Grove\, 11 a.m. \nClass 7-2A North Clay Regional \nGame 1 — North Clay vs. Cowden-Herrick/Beecher City\, 10 a.m. \nGame 2 — Stewardson-Strasburg vs. South Central\, 11:15 a.m. \nGame 3 — St. Elmo/Brownstown vs. Altamont\, 12:30 p.m. \nClass 7-3A Marshall Regional \nGame 1 — Teutopolis vs. Cumberland\, 9 a.m. \nGame 2 — Paris Mayo vs. Jasper County\, 10;15 a.m. \nGame 3 — Marshall vs. Lawrenceville Parkview\, 11:30 a.m. \nGame 4 — Robinson Nuttall vs. Red Hill (Bridgeport)\, 12:45 p.m. \nClass 7-4A Taylorville Regional \nGame 1 — Taylorville vs. Stephen Decatur\, 9 a.m. \nGame 2 — Mattoon vs. Effingham\, 10;15 a.m. \nGame 3 — Mount Zion vs. Winner  Game 1\, noon \nGame 4 — Rochester vs. Winner Game 2\, 1:15 p.m. \nJunior High School Volleyball \nSt. Anthony at Robinson Nuttall\, 10 a.m. \nMEN’S COLLEGE BASKETBALL \nMinnesota at University of Illinois\, 11 a.m. \nNATIONAL FOOTBALL LEAGUE \nBuffalo at Denver\, 3:30 p.m. (CBS) \nAFC Divisional Playoffs \nSan Francisco at Seattle\, 7 pm. (FOX) \nNFC Divisional Playoffs
URL:https://www.thexradio.com/news/calendar/27029-27029/
CATEGORIES:Local Sports Calendar
END:VEVENT
END:VCALENDAR