BEGIN:VCALENDAR
VERSION:2.0
PRODID:-//Effingham&#039;s News and Sports Leader, 979XFM and KJ Country 102.3 - ECPv6.15.20//NONSGML v1.0//EN
CALSCALE:GREGORIAN
METHOD:PUBLISH
X-WR-CALNAME:Effingham&#039;s News and Sports Leader, 979XFM and KJ Country 102.3
X-ORIGINAL-URL:https://www.thexradio.com/news
X-WR-CALDESC:Events for Effingham&#039;s News and Sports Leader, 979XFM and KJ Country 102.3
REFRESH-INTERVAL;VALUE=DURATION:PT1H
X-Robots-Tag:noindex
X-PUBLISHED-TTL:PT1H
BEGIN:VTIMEZONE
TZID:America/Chicago
BEGIN:DAYLIGHT
TZOFFSETFROM:-0600
TZOFFSETTO:-0500
TZNAME:CDT
DTSTART:20250309T080000
END:DAYLIGHT
BEGIN:STANDARD
TZOFFSETFROM:-0500
TZOFFSETTO:-0600
TZNAME:CST
DTSTART:20251102T070000
END:STANDARD
BEGIN:DAYLIGHT
TZOFFSETFROM:-0600
TZOFFSETTO:-0500
TZNAME:CDT
DTSTART:20260308T080000
END:DAYLIGHT
BEGIN:STANDARD
TZOFFSETFROM:-0500
TZOFFSETTO:-0600
TZNAME:CST
DTSTART:20261101T070000
END:STANDARD
BEGIN:DAYLIGHT
TZOFFSETFROM:-0600
TZOFFSETTO:-0500
TZNAME:CDT
DTSTART:20270314T080000
END:DAYLIGHT
BEGIN:STANDARD
TZOFFSETFROM:-0500
TZOFFSETTO:-0600
TZNAME:CST
DTSTART:20271107T070000
END:STANDARD
END:VTIMEZONE
BEGIN:VEVENT
DTSTART;VALUE=DATE:20260116
DTEND;VALUE=DATE:20260117
DTSTAMP:20260425T152557
CREATED:20260108T165751Z
LAST-MODIFIED:20260115T183248Z
UID:27026-1768521600-1768607999@www.thexradio.com
SUMMARY:Friday's Schedule
DESCRIPTION:HIGH SCHOOL \nBoys Basketball \nAltamont at North Clay\, 5 p.m. (LISTEN ON 979XFM) \nMattoon at Effingham\, 6 p.m. \nBreese Mater Dei at St. Anthony\, 6 p.m. \nCowden-Herrick/Beecher City at Cumberland\, 6 p.m. \nSouth Central at Dieterich (NO FROSH-SOPH GAME)\, 6 P.M. \nLawrenceville at Newton\, 6 p.m. \nSt. Elmo/Brownstown at Patoka/Odin at Odin\, 6:15 p.m. \nTuscola at Teutopolis\, 6 p.m. \nWindsor/Stewardson-Strasburg at Ramsey\, 6:15 p.m. \nGirls Basketball \nMattoon at Effingham\, 5:30 p.m. \nFRESHMAN/SOPHOMORE \nBoys Basketball \nCowden-Herrick/Beecher City at Cumberland\, 5 p.m. \nJUNIOR HIGH SCHOOL \nBoys Basketball \nEffingham at Lawrenceville Parkview\, 6 p.m. \nVolleyball \nEffingham Sacred Heart at South Central\, 4:30 p.m. \nCumberland at Martinsville\, 4:30 p.m. \nTeutopolis at Marshall\, 4:30 p.m.
URL:https://www.thexradio.com/news/calendar/27026-fridays-schedule-45/
CATEGORIES:Local Sports Calendar
END:VEVENT
END:VCALENDAR