BEGIN:VCALENDAR
VERSION:2.0
PRODID:-//Effingham&#039;s News and Sports Leader, 979XFM and KJ Country 102.3 - ECPv6.15.20//NONSGML v1.0//EN
CALSCALE:GREGORIAN
METHOD:PUBLISH
X-WR-CALNAME:Effingham&#039;s News and Sports Leader, 979XFM and KJ Country 102.3
X-ORIGINAL-URL:https://www.thexradio.com/news
X-WR-CALDESC:Events for Effingham&#039;s News and Sports Leader, 979XFM and KJ Country 102.3
REFRESH-INTERVAL;VALUE=DURATION:PT1H
X-Robots-Tag:noindex
X-PUBLISHED-TTL:PT1H
BEGIN:VTIMEZONE
TZID:America/Chicago
BEGIN:DAYLIGHT
TZOFFSETFROM:-0600
TZOFFSETTO:-0500
TZNAME:CDT
DTSTART:20250309T080000
END:DAYLIGHT
BEGIN:STANDARD
TZOFFSETFROM:-0500
TZOFFSETTO:-0600
TZNAME:CST
DTSTART:20251102T070000
END:STANDARD
BEGIN:DAYLIGHT
TZOFFSETFROM:-0600
TZOFFSETTO:-0500
TZNAME:CDT
DTSTART:20260308T080000
END:DAYLIGHT
BEGIN:STANDARD
TZOFFSETFROM:-0500
TZOFFSETTO:-0600
TZNAME:CST
DTSTART:20261101T070000
END:STANDARD
BEGIN:DAYLIGHT
TZOFFSETFROM:-0600
TZOFFSETTO:-0500
TZNAME:CDT
DTSTART:20270314T080000
END:DAYLIGHT
BEGIN:STANDARD
TZOFFSETFROM:-0500
TZOFFSETTO:-0600
TZNAME:CST
DTSTART:20271107T070000
END:STANDARD
END:VTIMEZONE
BEGIN:VEVENT
DTSTART;VALUE=DATE:20260114
DTEND;VALUE=DATE:20260115
DTSTAMP:20260425T152535
CREATED:20260108T165441Z
LAST-MODIFIED:20260108T200033Z
UID:27021-1768348800-1768435199@www.thexradio.com
SUMMARY:Wednesday's Schedule
DESCRIPTION:HIGH SCHOOL \nBoys Basketball \nEffingham at Bethalto Civic Memorial\, 6 p.m. \nGirls Basketball \nCowden-Herrick/Beecher City at Macon Meridian\, 6 p.m. \nFRESHMAN/SOPHOMORE \nBoys Basketball \nTeutopolis Freshman/Sophomore Tournament\, TBA \nJUNIOR HIGH SCHOOL \nBoys Basketball \nJasper County at LEIC at Paris Mayo\, TBA \nRamsey at Windsor\, 6 p.m. \nMEN’S COLLEGE BASKETBALL \nUniversity of Illinois at Northwestern\, 7:30 p.m.
URL:https://www.thexradio.com/news/calendar/27021-wednesdays-schedule-45/
CATEGORIES:Local Sports Calendar
END:VEVENT
END:VCALENDAR