BEGIN:VCALENDAR
VERSION:2.0
PRODID:-//Effingham&#039;s News and Sports Leader, 979XFM and KJ Country 102.3 - ECPv6.15.20//NONSGML v1.0//EN
CALSCALE:GREGORIAN
METHOD:PUBLISH
X-ORIGINAL-URL:https://www.thexradio.com/news
X-WR-CALDESC:Events for Effingham&#039;s News and Sports Leader, 979XFM and KJ Country 102.3
REFRESH-INTERVAL;VALUE=DURATION:PT1H
X-Robots-Tag:noindex
X-PUBLISHED-TTL:PT1H
BEGIN:VTIMEZONE
TZID:America/Chicago
BEGIN:DAYLIGHT
TZOFFSETFROM:-0600
TZOFFSETTO:-0500
TZNAME:CDT
DTSTART:20250309T080000
END:DAYLIGHT
BEGIN:STANDARD
TZOFFSETFROM:-0500
TZOFFSETTO:-0600
TZNAME:CST
DTSTART:20251102T070000
END:STANDARD
BEGIN:DAYLIGHT
TZOFFSETFROM:-0600
TZOFFSETTO:-0500
TZNAME:CDT
DTSTART:20260308T080000
END:DAYLIGHT
BEGIN:STANDARD
TZOFFSETFROM:-0500
TZOFFSETTO:-0600
TZNAME:CST
DTSTART:20261101T070000
END:STANDARD
BEGIN:DAYLIGHT
TZOFFSETFROM:-0600
TZOFFSETTO:-0500
TZNAME:CDT
DTSTART:20270314T080000
END:DAYLIGHT
BEGIN:STANDARD
TZOFFSETFROM:-0500
TZOFFSETTO:-0600
TZNAME:CST
DTSTART:20271107T070000
END:STANDARD
END:VTIMEZONE
BEGIN:VEVENT
DTSTART;VALUE=DATE:20260113
DTEND;VALUE=DATE:20260114
DTSTAMP:20260425T152838
CREATED:20260108T165316Z
LAST-MODIFIED:20260113T123148Z
UID:27019-1768262400-1768348799@www.thexradio.com
SUMMARY:Tuesday's Schedule
DESCRIPTION:HIGH SCHOOL \nBoys Basketball \nNewton at Effingham\, 6 p.m. (LISTEN ON 979XFM) \nSt. Anthony vs. Neoga at Lake Land College\, 6 p.m. \nCentral A&M at Altamont\, 6 p.m. \nMartinsville at Cowden-Herrick/Beecher City\, 6 p.m. \nCumberland at St. Elmo/Brownstown\, 6:15 p.m. \nNorth Clay at Lawrenceville\, 5 p.m. \nSt. Joseph-Ogden at Teutopolis\, 6 p.m. \nWindsor/Stewardson-Strasburg at South Central\, 5 p.m. \nGirls Basketball \nAltamont at Pana\, 6 p.m. \nCowden-Herrick/Beecher City at Macon Meridian (MOVED TO JAN. 14) \nMartinsville at Windsor/Stewardson-Strasburg\, 6 p.m. \nFRESHMAN/SOPHOMORE \nBoys Basketball \nSt. Anthony at Neoga\, 5 p.m. \nNewton at Effingham\, 5 p.m. \nCumberland at St. Elmo/Brownstown\, 5 p.m. \nJUNIOR HIGH SCHOOL \nBoys Basketball \nEffingham at Casey-Westfield\, 6 p.m. \nEffingham Sacred Heart at Cumberland\, 6 p.m. \nSigel St. Michael at Cowden-Herrick\, 6 p.m. \nSt. Elmo/Brownstown at Dieterich\, 6 p.m. \nNeoga at Stewardson-Strasburg\, 6 p.m. \nTeutopolis at Mattoon\, 5 p.m. \nJasper County at LEIC at Paris Mayo\, TBA \nVolleyball \nSt. Anthony at Taylorville\, 5 p.m. \nCumberland at North Clay\, 4:30 p.m. \nNeoga at Teutopolis\, 4:30 p.m. \nStewardson-Strasburg at Sigel St. Michael\, 6 p.m. \nMEN’S COLLEGE BASKETBALL \nWestern Illinois at Eastern Illinois University\, 7:30 p.m.
URL:https://www.thexradio.com/news/calendar/27019-tuesdays-schedule-44/
CATEGORIES:Local Sports Calendar
END:VEVENT
END:VCALENDAR