BEGIN:VCALENDAR
VERSION:2.0
PRODID:-//Effingham&#039;s News and Sports Leader, 979XFM and KJ Country 102.3 - ECPv6.15.20//NONSGML v1.0//EN
CALSCALE:GREGORIAN
METHOD:PUBLISH
X-WR-CALNAME:Effingham&#039;s News and Sports Leader, 979XFM and KJ Country 102.3
X-ORIGINAL-URL:https://www.thexradio.com/news
X-WR-CALDESC:Events for Effingham&#039;s News and Sports Leader, 979XFM and KJ Country 102.3
REFRESH-INTERVAL;VALUE=DURATION:PT1H
X-Robots-Tag:noindex
X-PUBLISHED-TTL:PT1H
BEGIN:VTIMEZONE
TZID:America/Chicago
BEGIN:DAYLIGHT
TZOFFSETFROM:-0600
TZOFFSETTO:-0500
TZNAME:CDT
DTSTART:20250309T080000
END:DAYLIGHT
BEGIN:STANDARD
TZOFFSETFROM:-0500
TZOFFSETTO:-0600
TZNAME:CST
DTSTART:20251102T070000
END:STANDARD
BEGIN:DAYLIGHT
TZOFFSETFROM:-0600
TZOFFSETTO:-0500
TZNAME:CDT
DTSTART:20260308T080000
END:DAYLIGHT
BEGIN:STANDARD
TZOFFSETFROM:-0500
TZOFFSETTO:-0600
TZNAME:CST
DTSTART:20261101T070000
END:STANDARD
BEGIN:DAYLIGHT
TZOFFSETFROM:-0600
TZOFFSETTO:-0500
TZNAME:CDT
DTSTART:20270314T080000
END:DAYLIGHT
BEGIN:STANDARD
TZOFFSETFROM:-0500
TZOFFSETTO:-0600
TZNAME:CST
DTSTART:20271107T070000
END:STANDARD
END:VTIMEZONE
BEGIN:VEVENT
DTSTART;VALUE=DATE:20260106
DTEND;VALUE=DATE:20260107
DTSTAMP:20260425T152536
CREATED:20251231T161111Z
LAST-MODIFIED:20260102T155704Z
UID:26465-1767657600-1767743999@www.thexradio.com
SUMMARY:Tuesday's Schedule
DESCRIPTION:HIGH SCHOOL \nBoys Basketball \nMonticello at Teutopolis\, 5:30 p.m. (LISTEN ON 979XFM) \nRichland County\, Olney at Effingham\, 6 p.m. \nSt. Anthony at Robinson\, 6 p.m. \nAltamont at Marshall 6 p.m. \nShelbyville at Cowden-Herrick/Beecher City\, 5 p.m. \nDieterich at Paris\, 6 p.m. \nNeoga vs. Windsor/Stewardson-Strasburg at Lake Land College\, 6 p.m. \nVandalia at Newton\, 6 p.m. \nSt. Elmo/Brownstown at Oblong/Palestine/Hutsonville\, 6 p.m. \nSouth Central at Centralia Christ Our Rock Lutheran\, 6:15 p.m. \nGirls Basketball \nNokomis at Brownstown/St. Elmo\, 6:15 p.m. \nDieterich at Cowden-Herrick/Beecher City\, 6 p.m. \nFRESHMAN/SOPHOMORE \nBoys Basketball \nSt. Anthony at Robinson\, 5 p.m. \nGirls Basketball \nEffingham at Salem\, 6 p.m. \nJUNIOR HIGH SCHOOL \nBoys Basketball \nEffingham Sacred Heart at St. Elmo/Brownstown\, 6:15 p.m. \nCowden-Herrick/Beecher City at Shelbyville\, 6 p.m. \nStewardson-Strasburg at Dieterich\, 6 p.m.
URL:https://www.thexradio.com/news/calendar/26465-tuesdays-schedule-43/
CATEGORIES:Local Sports Calendar
END:VEVENT
END:VCALENDAR