BEGIN:VCALENDAR
VERSION:2.0
PRODID:-//Effingham&#039;s News and Sports Leader, 979XFM and KJ Country 102.3 - ECPv6.15.20//NONSGML v1.0//EN
CALSCALE:GREGORIAN
METHOD:PUBLISH
X-WR-CALNAME:Effingham&#039;s News and Sports Leader, 979XFM and KJ Country 102.3
X-ORIGINAL-URL:https://www.thexradio.com/news
X-WR-CALDESC:Events for Effingham&#039;s News and Sports Leader, 979XFM and KJ Country 102.3
REFRESH-INTERVAL;VALUE=DURATION:PT1H
X-Robots-Tag:noindex
X-PUBLISHED-TTL:PT1H
BEGIN:VTIMEZONE
TZID:America/Chicago
BEGIN:DAYLIGHT
TZOFFSETFROM:-0600
TZOFFSETTO:-0500
TZNAME:CDT
DTSTART:20250309T080000
END:DAYLIGHT
BEGIN:STANDARD
TZOFFSETFROM:-0500
TZOFFSETTO:-0600
TZNAME:CST
DTSTART:20251102T070000
END:STANDARD
BEGIN:DAYLIGHT
TZOFFSETFROM:-0600
TZOFFSETTO:-0500
TZNAME:CDT
DTSTART:20260308T080000
END:DAYLIGHT
BEGIN:STANDARD
TZOFFSETFROM:-0500
TZOFFSETTO:-0600
TZNAME:CST
DTSTART:20261101T070000
END:STANDARD
BEGIN:DAYLIGHT
TZOFFSETFROM:-0600
TZOFFSETTO:-0500
TZNAME:CDT
DTSTART:20270314T080000
END:DAYLIGHT
BEGIN:STANDARD
TZOFFSETFROM:-0500
TZOFFSETTO:-0600
TZNAME:CST
DTSTART:20271107T070000
END:STANDARD
END:VTIMEZONE
BEGIN:VEVENT
DTSTART;VALUE=DATE:20260103
DTEND;VALUE=DATE:20260104
DTSTAMP:20260425T164409
CREATED:20251218T194135Z
LAST-MODIFIED:20260102T141217Z
UID:25590-1767398400-1767484799@www.thexradio.com
SUMMARY:Saturday's Schedule
DESCRIPTION:HIGH SCHOOL \nBoys Basketball \nNeoga vs. Shelbyville at Lake Land College\, 1 p.m. \nCharleston at Newton\, 4 p.m. \nVandalia at North Clay\, 5 p.m. \nGrayville at St. Elmo/Brownstown\, 3 p.m. \nGirls Basketball \nAltamont at Robinson (girls varsity only)\, 11 a.m. \nCowden-Herrick/Beecher City at Okaw Valley\, 10:30 a.m. \nFRESHMAN/SOPHOMORE \nBoys Basketball \nEffingham at Olney Freshman/Sophomore Tournament\, TBA \nMEN’S COLLEGE BASKETBALL \nUniversity of Illinois at Penn State\, 6 p.m. \nEastern Illinois University at UT Martin\, 3:30 p.m. \nNATIONAL FOOTBALL LEAGUE \nCarolina at Tampa Bay\, 3:30 p.m.
URL:https://www.thexradio.com/news/calendar/25590-saturdays-schedule-42/
CATEGORIES:Local Sports Calendar
END:VEVENT
END:VCALENDAR