BEGIN:VCALENDAR
VERSION:2.0
PRODID:-//Effingham&#039;s News and Sports Leader, 979XFM and KJ Country 102.3 - ECPv6.15.20//NONSGML v1.0//EN
CALSCALE:GREGORIAN
METHOD:PUBLISH
X-WR-CALNAME:Effingham&#039;s News and Sports Leader, 979XFM and KJ Country 102.3
X-ORIGINAL-URL:https://www.thexradio.com/news
X-WR-CALDESC:Events for Effingham&#039;s News and Sports Leader, 979XFM and KJ Country 102.3
REFRESH-INTERVAL;VALUE=DURATION:PT1H
X-Robots-Tag:noindex
X-PUBLISHED-TTL:PT1H
BEGIN:VTIMEZONE
TZID:America/Chicago
BEGIN:DAYLIGHT
TZOFFSETFROM:-0600
TZOFFSETTO:-0500
TZNAME:CDT
DTSTART:20240310T080000
END:DAYLIGHT
BEGIN:STANDARD
TZOFFSETFROM:-0500
TZOFFSETTO:-0600
TZNAME:CST
DTSTART:20241103T070000
END:STANDARD
BEGIN:DAYLIGHT
TZOFFSETFROM:-0600
TZOFFSETTO:-0500
TZNAME:CDT
DTSTART:20250309T080000
END:DAYLIGHT
BEGIN:STANDARD
TZOFFSETFROM:-0500
TZOFFSETTO:-0600
TZNAME:CST
DTSTART:20251102T070000
END:STANDARD
BEGIN:DAYLIGHT
TZOFFSETFROM:-0600
TZOFFSETTO:-0500
TZNAME:CDT
DTSTART:20260308T080000
END:DAYLIGHT
BEGIN:STANDARD
TZOFFSETFROM:-0500
TZOFFSETTO:-0600
TZNAME:CST
DTSTART:20261101T070000
END:STANDARD
END:VTIMEZONE
BEGIN:VEVENT
DTSTART;VALUE=DATE:20251230
DTEND;VALUE=DATE:20251231
DTSTAMP:20260425T152627
CREATED:20251218T193645Z
LAST-MODIFIED:20251230T140642Z
UID:25581-1767052800-1767139199@www.thexradio.com
SUMMARY:Tuesday's Schedule
DESCRIPTION:HIGH SCHOOL \nBoys Basketball \nEffingham/Teutopolis Christmas Classic \nAt Teutopolis \nGame 9 — Charleston vs. Chicago Brooks\, 9:30 a.m. \nGame 11 — Newton vs. Pleasant Plains\, 11 a.m. \nGame 13 — Champaign Centennial vs. St. Anthony\, 12:30 p.m. \nGame 15 — Oregon vs. Teutopolis\, 2 p.m. \nGame 17 — Winner Game 9 vs. Winner Game 11\, 4:30 p.m. \nGame 20 — Loser Game 13 vs. Loser Game 15\, 6 p.m. \nGame 23 — Winner Game 13 vs. Winner Game 15\, 7:30 p.m. \nAt Effingham \nMain Gym \nGame 10 — Dixon vs. Mattoon\, 9:30 a.m. \nGame 12 — Central A&M vs. Effingham\, 11 a.m. \nGame 14 — Lawrenceville vs. Lutheran North\, 12:30 p.m. \nGame 16 — Tolono Unity vs. Belvidere\, 2 p.m. \nGame 18 — Winner Game 10 vs. Winner Game 12\, 4:30 p.m. \nGame 22 — Loser Game 14 vs. Loser Game 16\, 6 p.m. \nGame 24 — Winner Game 14 vs. Winner Game 16\, 7:30 p.m. \nAuxiliary Gym \nGame 19 — Loser Game 9 vs. Loser Game 11\, 4:30 p.m. \nGame 21 — Loser Game 10 vs. Loser Game 12\, 6 p.m. \nVandalia Holiday Tournament \nGame 17 – Meridian vs. Nokomis\, 2:30 p.m. \nGame 18 – Shelbyville vs. Flora\, 4 p.m. \nGame 19 – Greenville vs. Pana\, 5:30 p.m. (third place) \nGame 20 – Cumberland vs. Vandalia\, 7 p.m. (championship) \nTri-County Tournament \nGame 10 – Paris vs. Westville\, 10 a.m. \nGame 11 – Tri-County vs. Martinsville\, 11:30 a.m. \nGame 12 – Chrisman vs. Windsor/Stewardson-Strasburg\, 1 p.m. \nGame 13 – Martinsville vs. Paris\, 2:30 p.m. \nGame 14 – Westville vs. Chrisman\, 4 p.m. \nGame 15 – Windsor/Stewardson-Strasburg vs. Tri-County\, 5:30 p.m. \nWrestling \nCumberland boys at Abe’s Rumble\, Springfield\, TBA \nCOLLEGE FOOTBALL \nMusic City Bowl \nTennessee vs. University of Illinois\, 4:30 p.m.
URL:https://www.thexradio.com/news/calendar/25581-tuesdays-schedule-42/
CATEGORIES:Local Sports Calendar
END:VEVENT
END:VCALENDAR