BEGIN:VCALENDAR
VERSION:2.0
PRODID:-//Effingham&#039;s News and Sports Leader, 979XFM and KJ Country 102.3 - ECPv6.15.20//NONSGML v1.0//EN
CALSCALE:GREGORIAN
METHOD:PUBLISH
X-ORIGINAL-URL:https://www.thexradio.com/news
X-WR-CALDESC:Events for Effingham&#039;s News and Sports Leader, 979XFM and KJ Country 102.3
REFRESH-INTERVAL;VALUE=DURATION:PT1H
X-Robots-Tag:noindex
X-PUBLISHED-TTL:PT1H
BEGIN:VTIMEZONE
TZID:America/Chicago
BEGIN:DAYLIGHT
TZOFFSETFROM:-0600
TZOFFSETTO:-0500
TZNAME:CDT
DTSTART:20240310T080000
END:DAYLIGHT
BEGIN:STANDARD
TZOFFSETFROM:-0500
TZOFFSETTO:-0600
TZNAME:CST
DTSTART:20241103T070000
END:STANDARD
BEGIN:DAYLIGHT
TZOFFSETFROM:-0600
TZOFFSETTO:-0500
TZNAME:CDT
DTSTART:20250309T080000
END:DAYLIGHT
BEGIN:STANDARD
TZOFFSETFROM:-0500
TZOFFSETTO:-0600
TZNAME:CST
DTSTART:20251102T070000
END:STANDARD
BEGIN:DAYLIGHT
TZOFFSETFROM:-0600
TZOFFSETTO:-0500
TZNAME:CDT
DTSTART:20260308T080000
END:DAYLIGHT
BEGIN:STANDARD
TZOFFSETFROM:-0500
TZOFFSETTO:-0600
TZNAME:CST
DTSTART:20261101T070000
END:STANDARD
END:VTIMEZONE
BEGIN:VEVENT
DTSTART;VALUE=DATE:20251229
DTEND;VALUE=DATE:20251230
DTSTAMP:20260425T152758
CREATED:20251218T193402Z
LAST-MODIFIED:20251229T124131Z
UID:25578-1766966400-1767052799@www.thexradio.com
SUMMARY:Monday's Schedule
DESCRIPTION:HIGH SCHOOL \nBoys Basketball \nEffingham/Teutopolis Christmas Classic \nAt Teutopolis \nGame 1 — Charleston vs. Champaign Centennial\, 3 p.m. \nGame 3 — St. Anthony vs. Chicago Brooks\, 4:30 p.m. (LISTEN ON KJ COUNTRY 102.3) \nGame 5 — Newton vs. Oregon\, 6 p.m. \nGame 7 — Pleasant Plains vs. Teutopolis\, 7:30 p.m. (LISTEN ON KJ COUNTRY 102.3) \nAt Effingham \nMain Gym \nGame 2 — Dixon vs. Lawrenceville\, 3 p.m. \nGame 4 — Mattoon vs. Lutheran North\, 4:30 p.m. \nGame 6 — Central A&M vs. Tolono Unity\, 6 p.m. \nGame 8 — Belvidere vs. Effingham\, 7:30 p.m. (LISTEN ON 979XFM) \nDieterich Holiday Tournament \nGame 13 – Ramsey vs. Grayville (seventh place)\, 1 p.m. \nGame 14 – Cowden-Herrick/Beecher City vs. South Central (fifth place)\, 2:30 p.m. \nGame 15 – Red Hill vs. Robinson (third place)\, 4 p.m. \nGame 16 – Dieterich vs. Sullivan (championship)\, 8 p.m. \nVandalia Holiday Tournament \nGame 13 – Shelbyville vs. Nokomis\, 2:30 p.m. \nGame 14 – Flora vs. Meridian\, 4 p.m. \nGame 15 – Cumberland vs. Greenville\, 5:30 p.m. \nGame 16 – Vandalia vs. Pana\, 7 p.m. \nSesser Valier Tournament \nGame 9 – Marissa vs. Sesser-Valier\, noon (seventh place) \nGame 10 – New Athens vs. Red Bud\, 1:30 p.m. (consolation championship) \nGame 11 – Altamont vs. DuQuoin\, 3 p.m. (third place) \nGame 12 – Goreville vs. Waltonville\, 7 p.m. (championship) \nMonticello Tournament \nGame 13 – Neoga vs. Fithian Oakwood\, 10 a.m. (seventh place) \nGame 14 – Third Place Purple vs. Third Place Gold 11:30 a.m. (fifth place) \nGame 15 – Ridgeview vs. Second Place Gold\, 3:30 p.m. (third place) \nGame 16 – Monticello vs. First Place Gold\, 7:30 p.m. (championship) \nTri-County Tournament \nGame 7 – Paris vs. Chrisman\, 1 p.m. \nGame 8 – Martinsville vs. Windsor/Stewardson-Strasburg\, 2:30 p.m. \nGame 9 – Tri-County vs. Westville\, 4 p.m. \nGirls Basketball \nDieterich Holiday Tournament \nGame 13 – Arcola vs. Ramsey (Seventh Place) 1 p.m. \nGame 14 – Oblong/Palestine/Hutsonville vs. Okaw Valley (fifth place)\, 2:30 p.m. \nGame 15 – Marshall vs. Dieterich (third place)\, 4 p.m. \nGame 16 – Brownstown/St. Elmo vs. Cumberland (first place )\, 6 p.m. \nMonticello Tournament \nGame 13 – Tuscola vs. Colwfax Ridgeview (seventh place)\, 10 a.m. \nGame 14 – Neoga vs. Warrensburg-Latham (fifth place)\, 11:30 a.m. \nGame 15 – Monticello vs. GCMS (third place)\, 2 p.m. \nGame 16 – Clinton vs. Tri-Valley (championship)\, 6 p.m. \nWrestling \nCumberland boys at Abe’s Rumble\, Springfield\, 2 p.m. \nMEN’S COLLEGE BASKETBALL \nSouthern at University of Illinois\, 2 p.m.
URL:https://www.thexradio.com/news/calendar/25578-mondays-schedule-41/
CATEGORIES:Local Sports Calendar
END:VEVENT
END:VCALENDAR