BEGIN:VCALENDAR
VERSION:2.0
PRODID:-//Effingham&#039;s News and Sports Leader, 979XFM and KJ Country 102.3 - ECPv6.15.20//NONSGML v1.0//EN
CALSCALE:GREGORIAN
METHOD:PUBLISH
X-ORIGINAL-URL:https://www.thexradio.com/news
X-WR-CALDESC:Events for Effingham&#039;s News and Sports Leader, 979XFM and KJ Country 102.3
REFRESH-INTERVAL;VALUE=DURATION:PT1H
X-Robots-Tag:noindex
X-PUBLISHED-TTL:PT1H
BEGIN:VTIMEZONE
TZID:America/Chicago
BEGIN:DAYLIGHT
TZOFFSETFROM:-0600
TZOFFSETTO:-0500
TZNAME:CDT
DTSTART:20240310T080000
END:DAYLIGHT
BEGIN:STANDARD
TZOFFSETFROM:-0500
TZOFFSETTO:-0600
TZNAME:CST
DTSTART:20241103T070000
END:STANDARD
BEGIN:DAYLIGHT
TZOFFSETFROM:-0600
TZOFFSETTO:-0500
TZNAME:CDT
DTSTART:20250309T080000
END:DAYLIGHT
BEGIN:STANDARD
TZOFFSETFROM:-0500
TZOFFSETTO:-0600
TZNAME:CST
DTSTART:20251102T070000
END:STANDARD
BEGIN:DAYLIGHT
TZOFFSETFROM:-0600
TZOFFSETTO:-0500
TZNAME:CDT
DTSTART:20260308T080000
END:DAYLIGHT
BEGIN:STANDARD
TZOFFSETFROM:-0500
TZOFFSETTO:-0600
TZNAME:CST
DTSTART:20261101T070000
END:STANDARD
END:VTIMEZONE
BEGIN:VEVENT
DTSTART;VALUE=DATE:20251227
DTEND;VALUE=DATE:20251228
DTSTAMP:20260425T164736
CREATED:20251218T141739Z
LAST-MODIFIED:20251218T142739Z
UID:25545-1766793600-1766879999@www.thexradio.com
SUMMARY:Saturday's Schedule
DESCRIPTION:HIGH SCHOOL \nBoys Basketball \nDieterich Tournament \nGame 7 – Ramsey vs. Red Hill\, 11:30 a.m. \nGame 8 – Sullivan vs. Grayville\, 1 p.m. \nGame 9 – South Central vs. Robinson\, 2:30 p.m. \nGame 10 – Cowden-Herrick/Beecher City vs. Ramsey\, 4 p.m. \nGame 11 – Robinson vs. Sullivan\, 5:30 p.m. \nGame 12 – Dieterich vs. Cowden-Herrick/Beecher City\, 7 p.m. \nMonticello Holiday Hoopla Tournament \nGame 7 – Fithian Oakwood vs. Tuscola\, 10 a.m. \nGame 8 – Clinton vs. Paxton-Buckley-Loda\, 11:30 a.m. \nGame 9 – Gibson City-Melvin-Sibley vs. Neoga\, 2 p.m. \nGame 10 – Monticello vs. Ridgeview\, 3:30 p.m. \nGame 11 – Paxton-Buckley-Loda vs. Fithian Oakwood\, 6 p.m. \nGame 12 – Tuscola vs. Clinton\, 7:30 p.m. \nVandalia Holiday Tournament \nGame 7 – Shelbyville vs. Macon Meridian\, 10 a.m. \nGame 8 – Flora vs. Vandalia\, 11:30 a.m. \nGame 9 – Cumberland vs. Pana\, 1 p.m. \nGame 10 – Greenville vs. Flora\, 4:30 p.m. \nGame 11 – Macon Meridian vs. Pana\, 6 p.m. \nGame 12 — Vandalia vs. Nokomis\, 7:30 p.m. \nKansas/Tri-County Tournament \nGame 1 – Westville vs. Martinsville\, 10 a.m. \nGame 2 – Chrisman vs. Tri-County\, 11:30 a.m. \nGame 3 – Paris vs. Windsor/Stewardson-Strasburg\, 1 p.m. \nGame 4 – Martinsville vs. Chrisman\, 2:30 p.m. \nGame 5 — Windsor/Stewardson-Strasburg vs. Westville\, 4 p.m. \nGame 6 – Tri-County vs. Paris\, 5:30 p.m. \nSesser-Valier Holiday Tournament \nGame 5 – Loser Game 1 vs. Loser Game 2\, 3 p.m. \nGame 6 – Winner Game 1 vs. Winner Game 2\, 4:30 p.m. \nGame 7 – Loser Game 3 vs. Loser Game 4\, 6 p.m. \nGame 8 — Winner Game 3 vs. Winner Game 4\, 7:30 p.m. \nGirls Basketball \nColes County Tournament \nAt Mattoon High School \nGame 13 – Third Pool A vs. Third Pool B\, 10 a.m. \nGame 15 – Second Pool A vs. Second Pool B\, 11:30 a.m. \nGame 17 – First Pool A vs. First Pool B\, 1 p.m. \nGame 19 – winner 13 vs. Winner 14\, 3 p.m. (9th-10th place) \nGame 21 – Winner 15 vs. Winner 16\, 4:30 p.m. (5th-6th place) \nGame 23 – Winner 7 vs. Winner 18\, 6 pm. (1st-2nd place) \nAt Charleston High School \nGame 14 – 3rd Pool C vs. 3rd Pool D\, 10 a.m. \nGame 16 – 2nd Pool C vs. 2nd Pool D\, 11:30 a.m. \nGame 18 – 1st Pool A vs. 1st Pool D\, 1 p.m. \nGame 20 – Loser 13 vs. Loser 14\, 3 pm. (11th-12 place) \nGame 22 – Loser 15 vs. Loser 16\, 4:30 p.m. (7th/8th place) \nGame 24 – Loser 17 vs. Loser 18\, 6 p.m. (3rd-4th place) \nDieterich Holiday Tournament \nGame 7 – Okaw Valley vs. Ramsey\, 10 a.m. \nGame 8 – Marshall vs. Arcola\, 11:30 a.m. \nGame 9 – Oblong/Palestine/Hutsonville vs. Brownstown/St. Elmo\, 1 p.m. \nGame 10 – Cumberland vs. Okaw Valley\, 2:30 p.m. \nGame 11 – Brownstown/St. Elmo vs. Marshall\, 4 p.m. \nGame 12 – Dieterich vs. Cumberland\, 5:30 p.m. \nMerry Mule Tournament \nAt Fairfield \nAt Center Street Grade School \nGame 7 – C vs. D Bronze\, 10 a.m. \nGame 8 – C vs. D Silver\, 11:30 a.m. \nGame 9 – C vs. D Gold\, 1:30 p.m. \nGame 10 – Losers of Bronze\, 3 p.m. \nGame 11 – Losers of Silver\, 4:30 p.m. \nAt Fairfield Community High School \nGame 7 – A vs. B Bronze\, 10 a.m. \nGame 8 – A vs. B Silver\, 11:30 a.m. \nGame 9 – A vs. B Gold\, 1:30 p.m. \nGame 10 – Winners of Bronze\, 3 p.m. \nGame 11 – Winners of Silver\, 4:30 p.m. \nGame 12 – Losers of Gold (third place)\, 6 p.m. \nGame 18 – Winners of Gold (championship)\, 7:30 p.m. \nMonticello Holiday Tournament \nGame 7 – Clinton vs. Ridgeview\, 10 a.m. \nGame 8 – GCMS vs. Warrensburg-Latham\, 11:30 a.m. \nGame 9 – Monticello vs. Tri-Valley\, 2 p.m. \nGame 10 – Tuscola vs. Neoga\, 3:30 p.m. \nGame 11 — Warrensburg-Latham vs. Clinton\, 6p.m. \nGame 12 – Ridgeview vs. GCMS\, 7:30 p.m. \nWrestling \nEffingham at Carterville Holiday Duals\, 9 a.m. \nNATIONAL FOOTBALL LEAGUE \nHouston at Los Angeles Chargers\, 3:30 p.m. \nBaltimore at Green Bay\, 7 p.m.
URL:https://www.thexradio.com/news/calendar/25545-saturdays-schedule-41/
CATEGORIES:Local Sports Calendar
END:VEVENT
END:VCALENDAR