BEGIN:VCALENDAR
VERSION:2.0
PRODID:-//Effingham&#039;s News and Sports Leader, 979XFM and KJ Country 102.3 - ECPv6.15.20//NONSGML v1.0//EN
CALSCALE:GREGORIAN
METHOD:PUBLISH
X-WR-CALNAME:Effingham&#039;s News and Sports Leader, 979XFM and KJ Country 102.3
X-ORIGINAL-URL:https://www.thexradio.com/news
X-WR-CALDESC:Events for Effingham&#039;s News and Sports Leader, 979XFM and KJ Country 102.3
REFRESH-INTERVAL;VALUE=DURATION:PT1H
X-Robots-Tag:noindex
X-PUBLISHED-TTL:PT1H
BEGIN:VTIMEZONE
TZID:America/Chicago
BEGIN:DAYLIGHT
TZOFFSETFROM:-0600
TZOFFSETTO:-0500
TZNAME:CDT
DTSTART:20240310T080000
END:DAYLIGHT
BEGIN:STANDARD
TZOFFSETFROM:-0500
TZOFFSETTO:-0600
TZNAME:CST
DTSTART:20241103T070000
END:STANDARD
BEGIN:DAYLIGHT
TZOFFSETFROM:-0600
TZOFFSETTO:-0500
TZNAME:CDT
DTSTART:20250309T080000
END:DAYLIGHT
BEGIN:STANDARD
TZOFFSETFROM:-0500
TZOFFSETTO:-0600
TZNAME:CST
DTSTART:20251102T070000
END:STANDARD
BEGIN:DAYLIGHT
TZOFFSETFROM:-0600
TZOFFSETTO:-0500
TZNAME:CDT
DTSTART:20260308T080000
END:DAYLIGHT
BEGIN:STANDARD
TZOFFSETFROM:-0500
TZOFFSETTO:-0600
TZNAME:CST
DTSTART:20261101T070000
END:STANDARD
END:VTIMEZONE
BEGIN:VEVENT
DTSTART;VALUE=DATE:20251226
DTEND;VALUE=DATE:20251227
DTSTAMP:20260425T164504
CREATED:20251218T141556Z
LAST-MODIFIED:20251218T141556Z
UID:25543-1766707200-1766793599@www.thexradio.com
SUMMARY:Friday's Schedule
DESCRIPTION:HIGH SCHOOL \nBoys Basketball \nDieterich Tournament \nGame 1 – Ramsey vs. Dieterich\, 11:30 a.m. \nGame 2 – Grayville vs. South Central\, 1 p.m. \nGame 3 – Red Hill vs. Cowden-Herrick/Beecher City\, 2:30 p.m. \nGame 4 – Robinson vs. Grayville\, 4 p.m. \nGame 5 – South Central vs. Sullivan\, 5:30 p.m. \nGame 6 – Dieterich vs. Red Hill\, 7 p.m. \nMonticello Holiday Hoopla Tournament \nGame 1 – Ridgeview vs. Gibson City-Melvin-Sibley\, 10 a.m. \nGame 2 – Monticello vs. Neoga\, 11:30 a.m. \nGame 3 – Clinton vs. Fithian Oakwood\, 2 p.m. \nGame 4 – Tuscola vs. Paxton-Buckley-Loda\, 3:30 p.m. \nGame 5 – Neoga vs. Ridgeview\, 6 p.m. \nGame 6 – Gibson City-Melvin-Sibley vs. Monticello\, 7:30 p.m. \nVandalia Holiday Tournament \nGame 1 – Cumberland vs. Macon Meridian\, 10 a.m. \nGame 2 – Nokomis vs. Greenville\, 11:30 a.m. \nGame 3 – Pana vs. Shelbyville\, 1 p.m. \nGame 4 — Vandalia vs. Greenville\, 4:30 p.m. \nGame 5 – Shelbyville vs. Cumberland\, 6 p.m. \nGame 6 – Nokomis vs. Flora\, 7:30 p.m. \nSesser-Valier Holiday Tournament \nGame 1 – Altamont vs. New Athens\, 3 p.m. \nGame 2 – Waltonville vs. Marissa Coulterville\, 4:30 p.m. \nGame 3 – DuQuoin vs. Sesser-Valier\, 6 p.m. \nGame 4 – Goreville vs. Red Bud\, 7:30 p.m. \nGirls Basketball \nColes County Tournament \nAt Mattoon High School \nGame 1 – Danville vs. Mattoon\, 10 a.m. \nGame 3 – Effingham vs. Central\, 11:30 a.m. \nGame 5 – Galesburg vs. Danville\, 1 p.m. \nGame 7 – Central vs. Marion\, 3 p.m. \nGame 9 – Mattoon vs. Galesburg\, 4:30 p.m. \nGame 10 – Marion vs. Effingham\, 6 p.m. \nAt Charleston High School \nGame 2 – Jacksonville vs. Charleston\, 10 a.m. \nGame 4 – Mahomet-Seymour vs. Sullivan\, 11:30 a.m. \nGame 6 – Teutopolis vs. Jacksonville\, 1 p.m. \nGame 8 – Sullivan vs. St. Anthony\, 3 p.m. \nGame 10 – Charleston vs. Teutopolis\, 4:30 p.m. \nGame 12 – St. Anthony vs. Mahomet-Seymour\, 6 p.m. \nDieterich Holiday Tournament \nGame 1 – Ramsey vs. Dieterich\, 10 a.m. \nGame 2 – Oblong/Palestine/Hutsonville vs. Arcola\, 11:30 a.m. \nGame 3 – Cumberland vs. Ramsey\, 1 p.m. \nGame 4 – Arcola vs. Brownstown/St. Elmo\, 2:30 p.m. \nGame 5 – Marshall vs. Oblong/Palestine/Hutsonville\, 4 p.m. \nGame 6 – Dieterich vs. Okaw Valley\, 5:30 p.m. \nMerry Mule Tournament \nAt Fairfield \nAt Center Street Grade School \nGame 1 – Edwards County vs. North Clay\, 10 a.m. \nGame 2 – Newton vs. Wayne City\, 11:30 a.m. \nGame 3 – North Clay vs. West Frankfort\, 1:30 p.m. \nGame 4 – Mount Vernon vs. Newton\, 3 p.m. \nGame 5 – West Frankfort vs. Edwards County\, 4:30 p.m. \nGame 6 – Wayne City vs. Mount Vernon\, 6 p.m. \nAt Community High School \nGame 1 – Fairfield vs. Webber\, 10 a.m. \nGame 2 – Woodlawn vs. Flora\, 11:30 a.m. \nGame 3 — Webber vs. Murphysboro\, 3 p.m. \nGame 4 – Murphysboro vs. Lawrenceville\, 6 p.m. \nMonticello Holiday Tournament \nGame 1 – Monticello vs. Neoga\, 10 a.m. \nGame 2 — Tri-Valley vs. Tuscola\, 11:30 a.m. \nGame 3 – Warrensburg-Latham vs. Ridgeview\, 2 p.m. \nGame 4 – GCMS vs. Clinton\, 3:30 p.m. \nGame 5 — Tuscola vs. Monticello\, 6 p.m. \nGame 6 – Neoga vs. Tri-Valley\, 7:30 p.m.
URL:https://www.thexradio.com/news/calendar/25543-fridays-schedule-42/
CATEGORIES:Local Sports Calendar
END:VEVENT
END:VCALENDAR