BEGIN:VCALENDAR
VERSION:2.0
PRODID:-//Effingham&#039;s News and Sports Leader, 979XFM and KJ Country 102.3 - ECPv6.15.20//NONSGML v1.0//EN
CALSCALE:GREGORIAN
METHOD:PUBLISH
X-ORIGINAL-URL:https://www.thexradio.com/news
X-WR-CALDESC:Events for Effingham&#039;s News and Sports Leader, 979XFM and KJ Country 102.3
REFRESH-INTERVAL;VALUE=DURATION:PT1H
X-Robots-Tag:noindex
X-PUBLISHED-TTL:PT1H
BEGIN:VTIMEZONE
TZID:America/Chicago
BEGIN:DAYLIGHT
TZOFFSETFROM:-0600
TZOFFSETTO:-0500
TZNAME:CDT
DTSTART:20240310T080000
END:DAYLIGHT
BEGIN:STANDARD
TZOFFSETFROM:-0500
TZOFFSETTO:-0600
TZNAME:CST
DTSTART:20241103T070000
END:STANDARD
BEGIN:DAYLIGHT
TZOFFSETFROM:-0600
TZOFFSETTO:-0500
TZNAME:CDT
DTSTART:20250309T080000
END:DAYLIGHT
BEGIN:STANDARD
TZOFFSETFROM:-0500
TZOFFSETTO:-0600
TZNAME:CST
DTSTART:20251102T070000
END:STANDARD
BEGIN:DAYLIGHT
TZOFFSETFROM:-0600
TZOFFSETTO:-0500
TZNAME:CDT
DTSTART:20260308T080000
END:DAYLIGHT
BEGIN:STANDARD
TZOFFSETFROM:-0500
TZOFFSETTO:-0600
TZNAME:CST
DTSTART:20261101T070000
END:STANDARD
END:VTIMEZONE
BEGIN:VEVENT
DTSTART;VALUE=DATE:20251221
DTEND;VALUE=DATE:20251222
DTSTAMP:20260425T164516
CREATED:20251210T191937Z
LAST-MODIFIED:20251210T191937Z
UID:24889-1766275200-1766361599@www.thexradio.com
SUMMARY:Sunday's Schedule
DESCRIPTION:NATIONAL FOOTBALL LEAGUE \nBuffalo at Cleveland\, noon \nLos Angeles Chargers at Dallas\, noon \nKansas City at Tennessee\, noon \nCincinnati at Miami\, noon \nNew York Jets at New Orleans\, noon \nMinnesota at New York Giants\, noon \nTampa Bay at Carolina\, noon \nJacksonville at Denver\, 3:05 p.m. \nAtlanta at Arizona\, 3:05 p.m. \nPittsburgh at Detroit\, 3:25 p.m. \nLas Vegas at Houston\, 3:25 p.m. \nNew England at Baltimore\, 7:20 p.m.
URL:https://www.thexradio.com/news/calendar/24889-sundays-schedule-40/
CATEGORIES:Local Sports Calendar
END:VEVENT
END:VCALENDAR