BEGIN:VCALENDAR
VERSION:2.0
PRODID:-//Effingham&#039;s News and Sports Leader, 979XFM and KJ Country 102.3 - ECPv6.15.20//NONSGML v1.0//EN
CALSCALE:GREGORIAN
METHOD:PUBLISH
X-WR-CALNAME:Effingham&#039;s News and Sports Leader, 979XFM and KJ Country 102.3
X-ORIGINAL-URL:https://www.thexradio.com/news
X-WR-CALDESC:Events for Effingham&#039;s News and Sports Leader, 979XFM and KJ Country 102.3
REFRESH-INTERVAL;VALUE=DURATION:PT1H
X-Robots-Tag:noindex
X-PUBLISHED-TTL:PT1H
BEGIN:VTIMEZONE
TZID:America/Chicago
BEGIN:DAYLIGHT
TZOFFSETFROM:-0600
TZOFFSETTO:-0500
TZNAME:CDT
DTSTART:20240310T080000
END:DAYLIGHT
BEGIN:STANDARD
TZOFFSETFROM:-0500
TZOFFSETTO:-0600
TZNAME:CST
DTSTART:20241103T070000
END:STANDARD
BEGIN:DAYLIGHT
TZOFFSETFROM:-0600
TZOFFSETTO:-0500
TZNAME:CDT
DTSTART:20250309T080000
END:DAYLIGHT
BEGIN:STANDARD
TZOFFSETFROM:-0500
TZOFFSETTO:-0600
TZNAME:CST
DTSTART:20251102T070000
END:STANDARD
BEGIN:DAYLIGHT
TZOFFSETFROM:-0600
TZOFFSETTO:-0500
TZNAME:CDT
DTSTART:20260308T080000
END:DAYLIGHT
BEGIN:STANDARD
TZOFFSETFROM:-0500
TZOFFSETTO:-0600
TZNAME:CST
DTSTART:20261101T070000
END:STANDARD
END:VTIMEZONE
BEGIN:VEVENT
DTSTART;VALUE=DATE:20251215
DTEND;VALUE=DATE:20251216
DTSTAMP:20260425T164626
CREATED:20251210T164250Z
LAST-MODIFIED:20251215T200917Z
UID:24870-1765756800-1765843199@www.thexradio.com
SUMMARY:Monday's Schedule
DESCRIPTION:HIGH SCHOOL \nBoys Basketball \nConrad Allen Holiday Tournament \nAt Wayne City \nGame 5 — Crab Orchard vs. Webber\, 5:30 p.m. \nGame 6 — Sandoval vs. Grayville\, 7 p.m. \nGame 7 — Cisne vs. Edwards County\, 8:30 p.m. \nGirls Basketball \nSt. Anthony at Teutopolis (VARSITY ONLY)\, 6 p.m. (LISTEN ON KJ COUNTRY 102.3) \nAltamont at North Clay\, 6 p.m. \nWindsor/Stewardson-Strasburg at Cumberland\, 6 p.m. \nNewton at Salem\, 6 p.m. \nSouth Central at Woodlawn\, 6:15 p.m. \nFRESHMAN/SOPHOMORE \nBoys Basketball \nMount Zion at Effingham\, 5:30 p.m. \nSt. Anthony at Vandalia\, noon \nCumberland at Dieterich\, 6 p.m. \nTeutopolis at Mount Vernon\, 6 p.m. \nPalestine/Hutsonville at Newton\, 6 p.m. \nWindsor/Stewardson-Strasburg at Cowden-Herrick/Beecher City\, 6 p.m. \nGirls Basketball \nEffingham at Greenville HAS BEEN CANCELED \nJUNIOR HIGH SCHOOL \nBoys Basketball \nEffingham vs. Pana Sacred Heart at Tower Hill\, 6 p.m. \nUnity at St. Anthony HAS BEEN CANCELED \nMartinsville at Jasper County\, 6 p.m. \nTeutopolis at Casey-Westfield\, 6 p.m. \nNational Trail Conference Eighth-Grade Tournament \nAt North Clay \nGame 9 – Dieterich vs. Windsor\, 5:30 p.m. \nGame 10 – Altamont vs. Cumberland\, 6:45 p.m. \nGame 11 – Stewardson-Strasburg vs. Cowden-Herrick/Beecher City\, 8 p.m. \nGirls Basketball \nClass 8-2A State Tournament \nAt Havana Junior High  School \nGame 1 — Dieterich vs. Spring Valley Kennedy\, 4 p.m. \nGame 2 — Sidwell Salt Fork vs. Springfield Christian\, 5:15 p.m. \nGame 3 — Mount Sterling Brown County vs. Bloomington Corpus Christi\, 6:30 p.m. \nGame 4 — Kankakee Bishop McNamara vs. Glasford Illini Bluffs\, 7:45 p.m. \nNATIONAL FOOTBALL LEAGUE \nMiami at Pittsburgh\, 7:15 p.m.
URL:https://www.thexradio.com/news/calendar/24870-mondays-schedule-39/
CATEGORIES:Local Sports Calendar
END:VEVENT
END:VCALENDAR